Workbook

Sheet Лист1
A1: Спартанцы IT
A2: Zapro100 | B2: 0211102112210121
A3: Efremys | B3: 1221113102210022
A4: Aragorn | B4: 1121012112211110
A8: Проф.прогноза
A9: saleh | B9: 1211212012110111
A10: aks | B10: 1321112102211111
A11: Эдмундо | B11: 1012112011210211
A12: Gambit13 | B12: 1011102112111021
A13: NecID | B13: 1121102111211200
A21: КСП "Торпедо"
A22: Korsar | B22: 1221113112210110
A23: dauren | B23: 1121102110101111
A24: shaydul | B24: 0111102112110121
A25: ЯД | B25: 0121202111112011
A26: ESI2607 | B26: 1211112112101221
A28: liga1.ru
A29: Ice | B29: 1221103112201121
A30: NORGE | B30: 1122112112211021
A31: PiF | B31: 1111113112201121
A32: Урал-72 | B32: 0120122113101110
A33: ZHEKA_KORCHAGIN | B33: 1221123112311220
A34: strelets | B34: 1111123201212121
A41: Спартакфорум
A42: Игрок 13 | B42: 10211310101122102112
A43: Игрок 14 | B43: 10211310101122102112
A44: Игрок 15 | B44: 10211310101122102112
A45: Игрок 16 | B45: 10211310101122102112
A46: Игрок 17 | B46: 10211310101122102112
A47: Игрок 18 | B47: 10211310101122102112
A48: ЗенитЗоне
A49: Игрок 13 | B49: 10211310101122102112
A50: Игрок 14 | B50: 10211310101122102112
A51: Игрок 15 | B51: 10211310101122102112
A52: Игрок 16 | B52: 10211310101122102112
A53: Игрок 17 | B53: 10211310101122102112
A54: Игрок 18 | B54: 10211310101122102112
A61: Проф.прогноза
A62: Игрок 19 | B62: 10211310101122102112
A63: Игрок 20 | B63: 10211310101122102112
...

Sheet Турнир к 71- летию
B2: 1/2 1 игра
B4: =Лист1!A1 -> Спартанцы IT | H4: =B20+J20+R20+Z20+AH20+AP20 -> #VALUE!
B5: =Лист1!A8 -> Проф.прогноза | H5: =F20+N20+V20+AD20+AL20+AT20 -> #VALUE!
B7: =Лист1!A2 -> Zapro100 | F7: =Лист1!A9 -> saleh | J7: =Лист1!A3 -> Efremys | N7: =Лист1!A10 -> aks | R7: =Лист1!A4 -> Aragorn | V7: =Лист1!A11 -> Эдмундо | Z7: =Лист1!A5 -> 0 | AD7: =Лист1!A12 -> Gambit13 | AH7: =Лист1!A6 -> 0 | AL7: =Лист1!A13 -> NecID | AP7: =Лист1!A7 -> 0 | AT7: =Лист1!A14 -> 0 | BB7: Итог
B8: прогноз | E8: очки | F8: прогноз | I8: очки | J8: прогноз | M8: очки | N8: прогноз | Q8: очки | R8: прогноз | U8: очки | V8: прогноз | Y8: очки | Z8: прогноз | AC8: очки | AD8: прогноз | AG8: очки | AH8: прогноз | AK8: очки | AL8: прогноз | AO8: очки | AP8: прогноз | AS8: очки | AT8: прогноз | AW8: очки
B9: =MID(Лист1!$B$2,1,1) -> 0 | C9: =B9-D9 -> -2 | D9: =MID(Лист1!$B$2,2,1) -> 2 | E9: =IF((LEN($BB9)=0),"0",IF(AND(B9=$BB9,D9=$BD9),"5",IF(AND(C9=$BB9-$BD9,C9=0),"3",IF(AND(C9=$BB9-$BD9,OR(C9>0,C9<0)),"3",IF(AND(C9>0,$BB9-$BD9>0),"2",IF(AND(C9<0,$BB9-$BD9<0),"2","0")))))) -> 0 | F9: =MID(Лист1!$B$9,1,1) -> 1 | G9: =F9-H9 -> -1 | H9: =MID(Лист1!$B$9,2,1) -> 2 | I9: =IF((LEN($BB9)=0),"0",IF(AND(F9=$BB9,H9=$BD9),"5",IF(AND(G9=$BB9-$BD9,G9=0),"3",IF(AND(G9=$BB9-$BD9,OR(G9>0,G9<0)),"3",IF(AND(G9>0,$BB9-$BD9>0),"2",IF(AND(G9<0,$BB9-$BD9<0),"2","0")))))) -> 0 | J9: =MID(Лист1!$B$3,1,1) -> 1 | K9: =J9-L9 -> -1 | L9: =MID(Лист1!$B$3,2,1) -> 2 | M9: =IF((LEN($BB9)=0),"0",IF(AND(J9=$BB9,L9=$BD9),"5",IF(AND(K9=$BB9-$BD9,K9=0),"3",IF(AND(K9=$BB9-$BD9,OR(K9>0,K9<0)),"3",IF(AND(K9>0,$BB9-$BD9>0),"2",IF(AND(K9<0,$BB9-$BD9<0),"2","0")))))) -> 0 | N9: =MID(Лист1!$B$10,1,1) -> 1 | O9: =N9-P9 -> -2 | P9: =MID(Лист1!$B$10,2,1) -> 3 | Q9: =IF((LEN($BB9)=0),"0",IF(AND(N9=$BB9,P9=$BD9),"5",IF(AND(O9=$BB9-$BD9,O9=0),"3",IF(AND(O9=$BB9-$BD9,OR(O9>0,O9<0)),"3",IF(AND(O9>0,$BB9-$BD9>0),"2",IF(AND(O9<0,$BB9-$BD9<0),"2","0")))))) -> 0 | R9: =MID(Лист1!$B$4,1,1) -> 1 | S9: =R9-T9 -> 0 | T9: =MID(Лист1!$B$4,2,1) -> 1 | U9: =IF((LEN($BB9)=0),"0",IF(AND(R9=$BB9,T9=$BD9),"5",IF(AND(S9=$BB9-$BD9,S9=0),"3",IF(AND(S9=$BB9-$BD9,OR(S9>0,S9<0)),"3",IF(AND(S9>0,$BB9-$BD9>0),"2",IF(AND(S9<0,$BB9-$BD9<0),"2","0")))))) -> 3 | V9: =MID(Лист1!$B$11,1,1) -> 1 | W9: =V9-X9 -> 1 | X9: =MID(Лист1!$B$11,2,1) -> 0 | Y9: =IF((LEN($BB9)=0),"0",IF(AND(V9=$BB9,X9=$BD9),"5",IF(AND(W9=$BB9-$BD9,W9=0),"3",IF(AND(W9=$BB9-$BD9,OR(W9>0,W9<0)),"3",IF(AND(W9>0,$BB9-$BD9>0),"2",IF(AND(W9<0,$BB9-$BD9<0),"2","0")))))) -> 0 | Z9: =MID(Лист1!$B$5,1,1) | AA9: =Z9-AB9 -> #VALUE! | AB9: =MID(Лист1!$B$5,2,1) | AC9: =IF((LEN($BB9)=0),"0",IF(AND(Z9=$BB9,AB9=$BD9),"5",IF(AND(AA9=$BB9-$BD9,AA9=0),"3",IF(AND(AA9=$BB9-$BD9,OR(AA9>0,AA9<0)),"3",IF(AND(AA9>0,$BB9-$BD9>0),"2",IF(AND(AA9<0,$BB9-$BD9<0),"2","0")))))) -> #VALUE! | AD9: =MID(Лист1!$B$12,1,1) -> 1 | AE9: =AD9-AF9 -> 1 | AF9: =MID(Лист1!$B$12,2,1) -> 0 | AG9: =IF((LEN($BB9)=0),"0",IF(AND(AD9=$BB9,AF9=$BD9),"5",IF(AND(AE9=$BB9-$BD9,AE9=0),"3",IF(AND(AE9=$BB9-$BD9,OR(AE9>0,AE9<0)),"3",IF(AND(AE9>0,$BB9-$BD9>0),"2",IF(AND(AE9<0,$BB9-$BD9<0),"2","0")))))) -> 0 | AH9: =MID(Лист1!$B$6,1,1) | AI9: =AH9-AJ9 -> #VALUE! | AJ9: =MID(Лист1!$B$6,2,1) | AK9: =IF((LEN($BB9)=0),"0",IF(AND(AH9=$BB9,AJ9=$BD9),"5",IF(AND(AI9=$BB9-$BD9,AI9=0),"3",IF(AND(AI9=$BB9-$BD9,OR(AI9>0,AI9<0)),"3",IF(AND(AI9>0,$BB9-$BD9>0),"2",IF(AND(AI9<0,$BB9-$BD9<0),"2","0")))))) -> #VALUE! | AL9: =MID(Лист1!$B$13,1,1) -> 1 | AM9: =AL9-AN9 -> 0 | AN9: =MID(Лист1!$B$13,2,1) -> 1 | AO9: =IF((LEN($BB9)=0),"0",IF(AND(AL9=$BB9,AN9=$BD9),"5",IF(AND(AM9=$BB9-$BD9,AM9=0),"3",IF(AND(AM9=$BB9-$BD9,OR(AM9>0,AM9<0)),"3",IF(AND(AM9>0,$BB9-$BD9>0),"2",IF(AND(AM9<0,$BB9-$BD9<0),"2","0")))))) -> 3 | AP9: =MID(Лист1!$B$7,1,1) | AQ9: =AP9-AR9 -> #VALUE! | AR9: =MID(Лист1!$B$7,2,1) | AS9: =IF((LEN($BB9)=0),"0",IF(AND(AP9=$BB9,AR9=$BD9),"5",IF(AND(AQ9=$BB9-$BD9,AQ9=0),"3",IF(AND(AQ9=$BB9-$BD9,OR(AQ9>0,AQ9<0)),"3",IF(AND(AQ9>0,$BB9-$BD9>0),"2",IF(AND(AQ9<0,$BB9-$BD9<0),"2","0")))))) -> #VALUE! | AT9: =MID(Лист1!$B$14,1,1) | AU9: =AT9-AV9 -> #VALUE! | AV9: =MID(Лист1!$B$14,2,1) | AW9: =IF((LEN($BB9)=0),"0",IF(AND(AT9=$BB9,AV9=$BD9),"5",IF(AND(AU9=$BB9-$BD9,AU9=0),"3",IF(AND(AU9=$BB9-$BD9,OR(AU9>0,AU9<0)),"3",IF(AND(AU9>0,$BB9-$BD9>0),"2",IF(AND(AU9<0,$BB9-$BD9<0),"2","0")))))) -> #VALUE! | AX9: Дармштадт - Штутгарт | BB9: 2 | BD9: 2
B10: =MID(Лист1!$B$2,3,1) -> 1 | C10: =B10-D10 -> 0 | D10: =MID(Лист1!$B$2,4,1) -> 1 | E10: =IF((LEN($BB10)=0),"0",IF(AND(B10=$BB10,D10=$BD10),"5",IF(AND(C10=$BB10-$BD10,C10=0),"3",IF(AND(C10=$BB10-$BD10,OR(C10>0,C10<0)),"3",IF(AND(C10>0,$BB10-$BD10>0),"2",IF(AND(C10<0,$BB10-$BD10<0),"2","0")))))) -> 5 | F10: =MID(Лист1!$B$9,3,1) -> 1 | G10: =F10-H10 -> 0 | H10: =MID(Лист1!$B$9,4,1) -> 1 | I10: =IF((LEN($BB10)=0),"0",IF(AND(F10=$BB10,H10=$BD10),"5",IF(AND(G10=$BB10-$BD10,G10=0),"3",IF(AND(G10=$BB10-$BD10,OR(G10>0,G10<0)),"3",IF(AND(G10>0,$BB10-$BD10>0),"2",IF(AND(G10<0,$BB10-$BD10<0),"2","0")))))) -> 5 | J10: =MID(Лист1!$B$3,3,1) -> 2 | K10: =J10-L10 -> 1 | L10: =MID(Лист1!$B$3,4,1) -> 1 | M10: =IF((LEN($BB10)=0),"0",IF(AND(J10=$BB10,L10=$BD10),"5",IF(AND(K10=$BB10-$BD10,K10=0),"3",IF(AND(K10=$BB10-$BD10,OR(K10>0,K10<0)),"3",IF(AND(K10>0,$BB10-$BD10>0),"2",IF(AND(K10<0,$BB10-$BD10<0),"2","0")))))) -> 0 | N10: =MID(Лист1!$B$10,3,1) -> 2 | O10: =N10-P10 -> 1 | P10: =MID(Лист1!$B$10,4,1) -> 1 | Q10: =IF((LEN($BB10)=0),"0",IF(AND(N10=$BB10,P10=$BD10),"5",IF(AND(O10=$BB10-$BD10,O10=0),"3",IF(AND(O10=$BB10-$BD10,OR(O10>0,O10<0)),"3",IF(AND(O10>0,$BB10-$BD10>0),"2",IF(AND(O10<0,$BB10-$BD10<0),"2","0")))))) -> 0 | R10: =MID(Лист1!$B$4,3,1) -> 2 | S10: =R10-T10 -> 1 | T10: =MID(Лист1!$B$4,4,1) -> 1 | U10: =IF((LEN($BB10)=0),"0",IF(AND(R10=$BB10,T10=$BD10),"5",IF(AND(S10=$BB10-$BD10,S10=0),"3",IF(AND(S10=$BB10-$BD10,OR(S10>0,S10<0)),"3",IF(AND(S10>0,$BB10-$BD10>0),"2",IF(AND(S10<0,$BB10-$BD10<0),"2","0")))))) -> 0 | V10: =MID(Лист1!$B$11,3,1) -> 1 | W10: =V10-X10 -> -1 | X10: =MID(Лист1!$B$11,4,1) -> 2 | Y10: =IF((LEN($BB10)=0),"0",IF(AND(V10=$BB10,X10=$BD10),"5",IF(AND(W10=$BB10-$BD10,W10=0),"3",IF(AND(W10=$BB10-$BD10,OR(W10>0,W10<0)),"3",IF(AND(W10>0,$BB10-$BD10>0),"2",IF(AND(W10<0,$BB10-$BD10<0),"2","0")))))) -> 0 | Z10: =MID(Лист1!$B$5,3,1) | AA10: =Z10-AB10 -> #VALUE! | AB10: =MID(Лист1!$B$5,4,1) | AC10: =IF((LEN($BB10)=0),"0",IF(AND(Z10=$BB10,AB10=$BD10),"5",IF(AND(AA10=$BB10-$BD10,AA10=0),"3",IF(AND(AA10=$BB10-$BD10,OR(AA10>0,AA10<0)),"3",IF(AND(AA10>0,$BB10-$BD10>0),"2",IF(AND(AA10<0,$BB10-$BD10<0),"2","0")))))) -> #VALUE! | AD10: =MID(Лист1!$B$12,3,1) -> 1 | AE10: =AD10-AF10 -> 0 | AF10: =MID(Лист1!$B$12,4,1) -> 1 | AG10: =IF((LEN($BB10)=0),"0",IF(AND(AD10=$BB10,AF10=$BD10),"5",IF(AND(AE10=$BB10-$BD10,AE10=0),"3",IF(AND(AE10=$BB10-$BD10,OR(AE10>0,AE10<0)),"3",IF(AND(AE10>0,$BB10-$BD10>0),"2",IF(AND(AE10<0,$BB10-$BD10<0),"2","0")))))) -> 5 | AH10: =MID(Лист1!$B$6,3,1) | AI10: =AH10-AJ10 -> #VALUE! | AJ10: =MID(Лист1!$B$6,4,1) | AK10: =IF((LEN($BB10)=0),"0",IF(AND(AH10=$BB10,AJ10=$BD10),"5",IF(AND(AI10=$BB10-$BD10,AI10=0),"3",IF(AND(AI10=$BB10-$BD10,OR(AI10>0,AI10<0)),"3",IF(AND(AI10>0,$BB10-$BD10>0),"2",IF(AND(AI10<0,$BB10-$BD10<0),"2","0")))))) -> #VALUE! | AL10: =MID(Лист1!$B$13,3,1) -> 2 | AM10: =AL10-AN10 -> 1 | AN10: =MID(Лист1!$B$13,4,1) -> 1 | AO10: =IF((LEN($BB10)=0),"0",IF(AND(AL10=$BB10,AN10=$BD10),"5",IF(AND(AM10=$BB10-$BD10,AM10=0),"3",IF(AND(AM10=$BB10-$BD10,OR(AM10>0,AM10<0)),"3",IF(AND(AM10>0,$BB10-$BD10>0),"2",IF(AND(AM10<0,$BB10-$BD10<0),"2","0")))))) -> 0 | AP10: =MID(Лист1!$B$7,3,1) | AQ10: =AP10-AR10 -> #VALUE! | AR10: =MID(Лист1!$B$7,4,1) | AS10: =IF((LEN($BB10)=0),"0",IF(AND(AP10=$BB10,AR10=$BD10),"5",IF(AND(AQ10=$BB10-$BD10,AQ10=0),"3",IF(AND(AQ10=$BB10-$BD10,OR(AQ10>0,AQ10<0)),"3",IF(AND(AQ10>0,$BB10-$BD10>0),"2",IF(AND(AQ10<0,$BB10-$BD10<0),"2","0")))))) -> #VALUE! | AT10: =MID(Лист1!$B$14,3,1) | AU10: =AT10-AV10 -> #VALUE! | AV10: =MID(Лист1!$B$14,4,1) | AW10: =IF((LEN($BB10)=0),"0",IF(AND(AT10=$BB10,AV10=$BD10),"5",IF(AND(AU10=$BB10-$BD10,AU10=0),"3",IF(AND(AU10=$BB10-$BD10,OR(AU10>0,AU10<0)),"3",IF(AND(AU10>0,$BB10-$BD10>0),"2",IF(AND(AU10<0,$BB10-$BD10<0),"2","0")))))) -> #VALUE! | AX10: Ливерпуль - Тоттенхэм | BB10: 1 | BD10: 1
B11: =MID(Лист1!$B$2,5,1) -> 1 | C11: =B11-D11 -> 1 | D11: =MID(Лист1!$B$2,6,1) -> 0 | E11: =IF((LEN($BB11)=0),"0",IF(AND(B11=$BB11,D11=$BD11),"5",IF(AND(C11=$BB11-$BD11,C11=0),"3",IF(AND(C11=$BB11-$BD11,OR(C11>0,C11<0)),"3",IF(AND(C11>0,$BB11-$BD11>0),"2",IF(AND(C11<0,$BB11-$BD11<0),"2","0")))))) -> 2 | F11: =MID(Лист1!$B$9,5,1) -> 2 | G11: =F11-H11 -> 1 | H11: =MID(Лист1!$B$9,6,1) -> 1 | I11: =IF((LEN($BB11)=0),"0",IF(AND(F11=$BB11,H11=$BD11),"5",IF(AND(G11=$BB11-$BD11,G11=0),"3",IF(AND(G11=$BB11-$BD11,OR(G11>0,G11<0)),"3",IF(AND(G11>0,$BB11-$BD11>0),"2",IF(AND(G11<0,$BB11-$BD11<0),"2","0")))))) -> 2 | J11: =MID(Лист1!$B$3,5,1) -> 1 | K11: =J11-L11 -> 0 | L11: =MID(Лист1!$B$3,6,1) -> 1 | M11: =IF((LEN($BB11)=0),"0",IF(AND(J11=$BB11,L11=$BD11),"5",IF(AND(K11=$BB11-$BD11,K11=0),"3",IF(AND(K11=$BB11-$BD11,OR(K11>0,K11<0)),"3",IF(AND(K11>0,$BB11-$BD11>0),"2",IF(AND(K11<0,$BB11-$BD11<0),"2","0")))))) -> 0 | N11: =MID(Лист1!$B$10,5,1) -> 1 | O11: =N11-P11 -> 0 | P11: =MID(Лист1!$B$10,6,1) -> 1 | Q11: =IF((LEN($BB11)=0),"0",IF(AND(N11=$BB11,P11=$BD11),"5",IF(AND(O11=$BB11-$BD11,O11=0),"3",IF(AND(O11=$BB11-$BD11,OR(O11>0,O11<0)),"3",IF(AND(O11>0,$BB11-$BD11>0),"2",IF(AND(O11<0,$BB11-$BD11<0),"2","0")))))) -> 0 | R11: =MID(Лист1!$B$4,5,1) -> 0 | S11: =R11-T11 -> -1 | T11: =MID(Лист1!$B$4,6,1) -> 1 | U11: =IF((LEN($BB11)=0),"0",IF(AND(R11=$BB11,T11=$BD11),"5",IF(AND(S11=$BB11-$BD11,S11=0),"3",IF(AND(S11=$BB11-$BD11,OR(S11>0,S11<0)),"3",IF(AND(S11>0,$BB11-$BD11>0),"2",IF(AND(S11<0,$BB11-$BD11<0),"2","0")))))) -> 0 | V11: =MID(Лист1!$B$11,5,1) -> 1 | W11: =V11-X11 -> 0 | X11: =MID(Лист1!$B$11,6,1) -> 1 | Y11: =IF((LEN($BB11)=0),"0",IF(AND(V11=$BB11,X11=$BD11),"5",IF(AND(W11=$BB11-$BD11,W11=0),"3",IF(AND(W11=$BB11-$BD11,OR(W11>0,W11<0)),"3",IF(AND(W11>0,$BB11-$BD11>0),"2",IF(AND(W11<0,$BB11-$BD11<0),"2","0")))))) -> 0 | Z11: =MID(Лист1!$B$5,5,1) | AA11: =Z11-AB11 -> #VALUE! | AB11: =MID(Лист1!$B$5,6,1) | AC11: =IF((LEN($BB11)=0),"0",IF(AND(Z11=$BB11,AB11=$BD11),"5",IF(AND(AA11=$BB11-$BD11,AA11=0),"3",IF(AND(AA11=$BB11-$BD11,OR(AA11>0,AA11<0)),"3",IF(AND(AA11>0,$BB11-$BD11>0),"2",IF(AND(AA11<0,$BB11-$BD11<0),"2","0")))))) -> #VALUE! | AD11: =MID(Лист1!$B$12,5,1) -> 1 | AE11: =AD11-AF11 -> 1 | AF11: =MID(Лист1!$B$12,6,1) -> 0 | AG11: =IF((LEN($BB11)=0),"0",IF(AND(AD11=$BB11,AF11=$BD11),"5",IF(AND(AE11=$BB11-$BD11,AE11=0),"3",IF(AND(AE11=$BB11-$BD11,OR(AE11>0,AE11<0)),"3",IF(AND(AE11>0,$BB11-$BD11>0),"2",IF(AND(AE11<0,$BB11-$BD11<0),"2","0")))))) -> 2 | AH11: =MID(Лист1!$B$6,5,1) | AI11: =AH11-AJ11 -> #VALUE! | AJ11: =MID(Лист1!$B$6,6,1) | AK11: =IF((LEN($BB11)=0),"0",IF(AND(AH11=$BB11,AJ11=$BD11),"5",IF(AND(AI11=$BB11-$BD11,AI11=0),"3",IF(AND(AI11=$BB11-$BD11,OR(AI11>0,AI11<0)),"3",IF(AND(AI11>0,$BB11-$BD11>0),"2",IF(AND(AI11<0,$BB11-$BD11<0),"2","0")))))) -> #VALUE! | AL11: =MID(Лист1!$B$13,5,1) -> 1 | AM11: =AL11-AN11 -> 1 | AN11: =MID(Лист1!$B$13,6,1) -> 0 | AO11: =IF((LEN($BB11)=0),"0",IF(AND(AL11=$BB11,AN11=$BD11),"5",IF(AND(AM11=$BB11-$BD11,AM11=0),"3",IF(AND(AM11=$BB11-$BD11,OR(AM11>0,AM11<0)),"3",IF(AND(AM11>0,$BB11-$BD11>0),"2",IF(AND(AM11<0,$BB11-$BD11<0),"2","0")))))) -> 2 | AP11: =MID(Лист1!$B$7,5,1) | AQ11: =AP11-AR11 -> #VALUE! | AR11: =MID(Лист1!$B$7,6,1) | AS11: =IF((LEN($BB11)=0),"0",IF(AND(AP11=$BB11,AR11=$BD11),"5",IF(AND(AQ11=$BB11-$BD11,AQ11=0),"3",IF(AND(AQ11=$BB11-$BD11,OR(AQ11>0,AQ11<0)),"3",IF(AND(AQ11>0,$BB11-$BD11>0),"2",IF(AND(AQ11<0,$BB11-$BD11<0),"2","0")))))) -> #VALUE! | AT11: =MID(Лист1!$B$14,5,1) | AU11: =AT11-AV11 -> #VALUE! | AV11: =MID(Лист1!$B$14,6,1) | AW11: =IF((LEN($BB11)=0),"0",IF(AND(AT11=$BB11,AV11=$BD11),"5",IF(AND(AU11=$BB11-$BD11,AU11=0),"3",IF(AND(AU11=$BB11-$BD11,OR(AU11>0,AU11<0)),"3",IF(AND(AU11>0,$BB11-$BD11>0),"2",IF(AND(AU11<0,$BB11-$BD11<0),"2","0")))))) -> #VALUE! | AX11: Ростов - Спартак | BB11: 2 | BD11: 0
B12: =MID(Лист1!$B$2,7,1) -> 2 | C12: =B12-D12 -> 1 | D12: =MID(Лист1!$B$2,8,1) -> 1 | E12: =IF((LEN($BB12)=0),"0",IF(AND(B12=$BB12,D12=$BD12),"5",IF(AND(C12=$BB12-$BD12,C12=0),"3",IF(AND(C12=$BB12-$BD12,OR(C12>0,C12<0)),"3",IF(AND(C12>0,$BB12-$BD12>0),"2",IF(AND(C12<0,$BB12-$BD12<0),"2","0")))))) -> 0 | F12: =MID(Лист1!$B$9,7,1) -> 2 | G12: =F12-H12 -> 2 | H12: =MID(Лист1!$B$9,8,1) -> 0 | I12: =IF((LEN($BB12)=0),"0",IF(AND(F12=$BB12,H12=$BD12),"5",IF(AND(G12=$BB12-$BD12,G12=0),"3",IF(AND(G12=$BB12-$BD12,OR(G12>0,G12<0)),"3",IF(AND(G12>0,$BB12-$BD12>0),"2",IF(AND(G12<0,$BB12-$BD12<0),"2","0")))))) -> 0 | J12: =MID(Лист1!$B$3,7,1) -> 3 | K12: =J12-L12 -> 2 | L12: =MID(Лист1!$B$3,8,1) -> 1 | M12: =IF((LEN($BB12)=0),"0",IF(AND(J12=$BB12,L12=$BD12),"5",IF(AND(K12=$BB12-$BD12,K12=0),"3",IF(AND(K12=$BB12-$BD12,OR(K12>0,K12<0)),"3",IF(AND(K12>0,$BB12-$BD12>0),"2",IF(AND(K12<0,$BB12-$BD12<0),"2","0")))))) -> 0 | N12: =MID(Лист1!$B$10,7,1) -> 2 | O12: =N12-P12 -> 1 | P12: =MID(Лист1!$B$10,8,1) -> 1 | Q12: =IF((LEN($BB12)=0),"0",IF(AND(N12=$BB12,P12=$BD12),"5",IF(AND(O12=$BB12-$BD12,O12=0),"3",IF(AND(O12=$BB12-$BD12,OR(O12>0,O12<0)),"3",IF(AND(O12>0,$BB12-$BD12>0),"2",IF(AND(O12<0,$BB12-$BD12<0),"2","0")))))) -> 0 | R12: =MID(Лист1!$B$4,7,1) -> 2 | S12: =R12-T12 -> 1 | T12: =MID(Лист1!$B$4,8,1) -> 1 | U12: =IF((LEN($BB12)=0),"0",IF(AND(R12=$BB12,T12=$BD12),"5",IF(AND(S12=$BB12-$BD12,S12=0),"3",IF(AND(S12=$BB12-$BD12,OR(S12>0,S12<0)),"3",IF(AND(S12>0,$BB12-$BD12>0),"2",IF(AND(S12<0,$BB12-$BD12<0),"2","0")))))) -> 0 | V12: =MID(Лист1!$B$11,7,1) -> 2 | W12: =V12-X12 -> 2 | X12: =MID(Лист1!$B$11,8,1) -> 0 | Y12: =IF((LEN($BB12)=0),"0",IF(AND(V12=$BB12,X12=$BD12),"5",IF(AND(W12=$BB12-$BD12,W12=0),"3",IF(AND(W12=$BB12-$BD12,OR(W12>0,W12<0)),"3",IF(AND(W12>0,$BB12-$BD12>0),"2",IF(AND(W12<0,$BB12-$BD12<0),"2","0")))))) -> 0 | Z12: =MID(Лист1!$B$5,7,1) | AA12: =Z12-AB12 -> #VALUE! | AB12: =MID(Лист1!$B$5,8,1) | AC12: =IF((LEN($BB12)=0),"0",IF(AND(Z12=$BB12,AB12=$BD12),"5",IF(AND(AA12=$BB12-$BD12,AA12=0),"3",IF(AND(AA12=$BB12-$BD12,OR(AA12>0,AA12<0)),"3",IF(AND(AA12>0,$BB12-$BD12>0),"2",IF(AND(AA12<0,$BB12-$BD12<0),"2","0")))))) -> 0 | AD12: =MID(Лист1!$B$12,7,1) -> 2 | AE12: =AD12-AF12 -> 1 | AF12: =MID(Лист1!$B$12,8,1) -> 1 | AG12: =IF((LEN($BB12)=0),"0",IF(AND(AD12=$BB12,AF12=$BD12),"5",IF(AND(AE12=$BB12-$BD12,AE12=0),"3",IF(AND(AE12=$BB12-$BD12,OR(AE12>0,AE12<0)),"3",IF(AND(AE12>0,$BB12-$BD12>0),"2",IF(AND(AE12<0,$BB12-$BD12<0),"2","0")))))) -> 0 | AH12: =MID(Лист1!$B$6,7,1) | AI12: =AH12-AJ12 -> #VALUE! | AJ12: =MID(Лист1!$B$6,8,1) | AK12: =IF((LEN($BB12)=0),"0",IF(AND(AH12=$BB12,AJ12=$BD12),"5",IF(AND(AI12=$BB12-$BD12,AI12=0),"3",IF(AND(AI12=$BB12-$BD12,OR(AI12>0,AI12<0)),"3",IF(AND(AI12>0,$BB12-$BD12>0),"2",IF(AND(AI12<0,$BB12-$BD12<0),"2","0")))))) -> 0 | AL12: =MID(Лист1!$B$13,7,1) -> 2 | AM12: =AL12-AN12 -> 1 | AN12: =MID(Лист1!$B$13,8,1) -> 1 | AO12: =IF((LEN($BB12)=0),"0",IF(AND(AL12=$BB12,AN12=$BD12),"5",IF(AND(AM12=$BB12-$BD12,AM12=0),"3",IF(AND(AM12=$BB12-$BD12,OR(AM12>0,AM12<0)),"3",IF(AND(AM12>0,$BB12-$BD12>0),"2",IF(AND(AM12<0,$BB12-$BD12<0),"2","0")))))) -> 0 | AP12: =MID(Лист1!$B$7,7,1) | AQ12: =AP12-AR12 -> #VALUE! | AR12: =MID(Лист1!$B$7,8,1) | AS12: =IF((LEN($BB12)=0),"0",IF(AND(AP12=$BB12,AR12=$BD12),"5",IF(AND(AQ12=$BB12-$BD12,AQ12=0),"3",IF(AND(AQ12=$BB12-$BD12,OR(AQ12>0,AQ12<0)),"3",IF(AND(AQ12>0,$BB12-$BD12>0),"2",IF(AND(AQ12<0,$BB12-$BD12<0),"2","0")))))) -> 0 | AT12: =MID(Лист1!$B$14,7,1) | AU12: =AT12-AV12 -> #VALUE! | AV12: =MID(Лист1!$B$14,8,1) | AW12: =IF((LEN($BB12)=0),"0",IF(AND(AT12=$BB12,AV12=$BD12),"5",IF(AND(AU12=$BB12-$BD12,AU12=0),"3",IF(AND(AU12=$BB12-$BD12,OR(AU12>0,AU12<0)),"3",IF(AND(AU12>0,$BB12-$BD12>0),"2",IF(AND(AU12<0,$BB12-$BD12<0),"2","0")))))) -> 0 | AX12: Барселона - Реал
B13: =MID(Лист1!$B$2,9,1) -> 1 | C13: =B13-D13 -> -1 | D13: =MID(Лист1!$B$2,10,1) -> 2 | E13: =IF((LEN($BB13)=0),"0",IF(AND(B13=$BB13,D13=$BD13),"5",IF(AND(C13=$BB13-$BD13,C13=0),"3",IF(AND(C13=$BB13-$BD13,OR(C13>0,C13<0)),"3",IF(AND(C13>0,$BB13-$BD13>0),"2",IF(AND(C13<0,$BB13-$BD13<0),"2","0")))))) -> 0 | F13: =MID(Лист1!$B$9,9,1) -> 1 | G13: =F13-H13 -> -1 | H13: =MID(Лист1!$B$9,10,1) -> 2 | I13: =IF((LEN($BB13)=0),"0",IF(AND(F13=$BB13,H13=$BD13),"5",IF(AND(G13=$BB13-$BD13,G13=0),"3",IF(AND(G13=$BB13-$BD13,OR(G13>0,G13<0)),"3",IF(AND(G13>0,$BB13-$BD13>0),"2",IF(AND(G13<0,$BB13-$BD13<0),"2","0")))))) -> 0 | J13: =MID(Лист1!$B$3,9,1) -> 0 | K13: =J13-L13 -> -2 | L13: =MID(Лист1!$B$3,10,1) -> 2 | M13: =IF((LEN($BB13)=0),"0",IF(AND(J13=$BB13,L13=$BD13),"5",IF(AND(K13=$BB13-$BD13,K13=0),"3",IF(AND(K13=$BB13-$BD13,OR(K13>0,K13<0)),"3",IF(AND(K13>0,$BB13-$BD13>0),"2",IF(AND(K13<0,$BB13-$BD13<0),"2","0")))))) -> 0 | N13: =MID(Лист1!$B$10,9,1) -> 0 | O13: =N13-P13 -> -2 | P13: =MID(Лист1!$B$10,10,1) -> 2 | Q13: =IF((LEN($BB13)=0),"0",IF(AND(N13=$BB13,P13=$BD13),"5",IF(AND(O13=$BB13-$BD13,O13=0),"3",IF(AND(O13=$BB13-$BD13,OR(O13>0,O13<0)),"3",IF(AND(O13>0,$BB13-$BD13>0),"2",IF(AND(O13<0,$BB13-$BD13<0),"2","0")))))) -> 0 | R13: =MID(Лист1!$B$4,9,1) -> 1 | S13: =R13-T13 -> -1 | T13: =MID(Лист1!$B$4,10,1) -> 2 | U13: =IF((LEN($BB13)=0),"0",IF(AND(R13=$BB13,T13=$BD13),"5",IF(AND(S13=$BB13-$BD13,S13=0),"3",IF(AND(S13=$BB13-$BD13,OR(S13>0,S13<0)),"3",IF(AND(S13>0,$BB13-$BD13>0),"2",IF(AND(S13<0,$BB13-$BD13<0),"2","0")))))) -> 0 | V13: =MID(Лист1!$B$11,9,1) -> 1 | W13: =V13-X13 -> 0 | X13: =MID(Лист1!$B$11,10,1) -> 1 | Y13: =IF((LEN($BB13)=0),"0",IF(AND(V13=$BB13,X13=$BD13),"5",IF(AND(W13=$BB13-$BD13,W13=0),"3",IF(AND(W13=$BB13-$BD13,OR(W13>0,W13<0)),"3",IF(AND(W13>0,$BB13-$BD13>0),"2",IF(AND(W13<0,$BB13-$BD13<0),"2","0")))))) -> 0 | Z13: =MID(Лист1!$B$5,9,1) | AA13: =Z13-AB13 -> #VALUE! | AB13: =MID(Лист1!$B$5,10,1) | AC13: =IF((LEN($BB13)=0),"0",IF(AND(Z13=$BB13,AB13=$BD13),"5",IF(AND(AA13=$BB13-$BD13,AA13=0),"3",IF(AND(AA13=$BB13-$BD13,OR(AA13>0,AA13<0)),"3",IF(AND(AA13>0,$BB13-$BD13>0),"2",IF(AND(AA13<0,$BB13-$BD13<0),"2","0")))))) -> 0 | AD13: =MID(Лист1!$B$12,9,1) -> 1 | AE13: =AD13-AF13 -> -1 | AF13: =MID(Лист1!$B$12,10,1) -> 2 | AG13: =IF((LEN($BB13)=0),"0",IF(AND(AD13=$BB13,AF13=$BD13),"5",IF(AND(AE13=$BB13-$BD13,AE13=0),"3",IF(AND(AE13=$BB13-$BD13,OR(AE13>0,AE13<0)),"3",IF(AND(AE13>0,$BB13-$BD13>0),"2",IF(AND(AE13<0,$BB13-$BD13<0),"2","0")))))) -> 0 | AH13: =MID(Лист1!$B$6,9,1) | AI13: =AH13-AJ13 -> #VALUE! | AJ13: =MID(Лист1!$B$6,10,1) | AK13: =IF((LEN($BB13)=0),"0",IF(AND(AH13=$BB13,AJ13=$BD13),"5",IF(AND(AI13=$BB13-$BD13,AI13=0),"3",IF(AND(AI13=$BB13-$BD13,OR(AI13>0,AI13<0)),"3",IF(AND(AI13>0,$BB13-$BD13>0),"2",IF(AND(AI13<0,$BB13-$BD13<0),"2","0")))))) -> 0 | AL13: =MID(Лист1!$B$13,9,1) -> 1 | AM13: =AL13-AN13 -> 0 | AN13: =MID(Лист1!$B$13,10,1) -> 1 | AO13: =IF((LEN($BB13)=0),"0",IF(AND(AL13=$BB13,AN13=$BD13),"5",IF(AND(AM13=$BB13-$BD13,AM13=0),"3",IF(AND(AM13=$BB13-$BD13,OR(AM13>0,AM13<0)),"3",IF(AND(AM13>0,$BB13-$BD13>0),"2",IF(AND(AM13<0,$BB13-$BD13<0),"2","0")))))) -> 0 | AP13: =MID(Лист1!$B$7,9,1) | AQ13: =AP13-AR13 -> #VALUE! | AR13: =MID(Лист1!$B$7,10,1) | AS13: =IF((LEN($BB13)=0),"0",IF(AND(AP13=$BB13,AR13=$BD13),"5",IF(AND(AQ13=$BB13-$BD13,AQ13=0),"3",IF(AND(AQ13=$BB13-$BD13,OR(AQ13>0,AQ13<0)),"3",IF(AND(AQ13>0,$BB13-$BD13>0),"2",IF(AND(AQ13<0,$BB13-$BD13<0),"2","0")))))) -> 0 | AT13: =MID(Лист1!$B$14,9,1) | AU13: =AT13-AV13 -> #VALUE! | AV13: =MID(Лист1!$B$14,10,1) | AW13: =IF((LEN($BB13)=0),"0",IF(AND(AT13=$BB13,AV13=$BD13),"5",IF(AND(AU13=$BB13-$BD13,AU13=0),"3",IF(AND(AU13=$BB13-$BD13,OR(AU13>0,AU13<0)),"3",IF(AND(AU13>0,$BB13-$BD13>0),"2",IF(AND(AU13<0,$BB13-$BD13<0),"2","0")))))) -> 0 | AX13: Лацио - Рома
B14: =MID(Лист1!$B$2,11,1) -> 2 | C14: =B14-D14 -> 1 | D14: =MID(Лист1!$B$2,12,1) -> 1 | E14: =IF((LEN($BB14)=0),"0",IF(AND(B14=$BB14,D14=$BD14),"5",IF(AND(C14=$BB14-$BD14,C14=0),"3",IF(AND(C14=$BB14-$BD14,OR(C14>0,C14<0)),"3",IF(AND(C14>0,$BB14-$BD14>0),"2",IF(AND(C14<0,$BB14-$BD14<0),"2","0")))))) -> 0 | F14: =MID(Лист1!$B$9,11,1) -> 1 | G14: =F14-H14 -> 0 | H14: =MID(Лист1!$B$9,12,1) -> 1 | I14: =IF((LEN($BB14)=0),"0",IF(AND(F14=$BB14,H14=$BD14),"5",IF(AND(G14=$BB14-$BD14,G14=0),"3",IF(AND(G14=$BB14-$BD14,OR(G14>0,G14<0)),"3",IF(AND(G14>0,$BB14-$BD14>0),"2",IF(AND(G14<0,$BB14-$BD14<0),"2","0")))))) -> 0 | J14: =MID(Лист1!$B$3,11,1) -> 2 | K14: =J14-L14 -> 1 | L14: =MID(Лист1!$B$3,12,1) -> 1 | M14: =IF((LEN($BB14)=0),"0",IF(AND(J14=$BB14,L14=$BD14),"5",IF(AND(K14=$BB14-$BD14,K14=0),"3",IF(AND(K14=$BB14-$BD14,OR(K14>0,K14<0)),"3",IF(AND(K14>0,$BB14-$BD14>0),"2",IF(AND(K14<0,$BB14-$BD14<0),"2","0")))))) -> 0 | N14: =MID(Лист1!$B$10,11,1) -> 2 | O14: =N14-P14 -> 1 | P14: =MID(Лист1!$B$10,12,1) -> 1 | Q14: =IF((LEN($BB14)=0),"0",IF(AND(N14=$BB14,P14=$BD14),"5",IF(AND(O14=$BB14-$BD14,O14=0),"3",IF(AND(O14=$BB14-$BD14,OR(O14>0,O14<0)),"3",IF(AND(O14>0,$BB14-$BD14>0),"2",IF(AND(O14<0,$BB14-$BD14<0),"2","0")))))) -> 0 | R14: =MID(Лист1!$B$4,11,1) -> 2 | S14: =R14-T14 -> 1 | T14: =MID(Лист1!$B$4,12,1) -> 1 | U14: =IF((LEN($BB14)=0),"0",IF(AND(R14=$BB14,T14=$BD14),"5",IF(AND(S14=$BB14-$BD14,S14=0),"3",IF(AND(S14=$BB14-$BD14,OR(S14>0,S14<0)),"3",IF(AND(S14>0,$BB14-$BD14>0),"2",IF(AND(S14<0,$BB14-$BD14<0),"2","0")))))) -> 0 | V14: =MID(Лист1!$B$11,11,1) -> 2 | W14: =V14-X14 -> 1 | X14: =MID(Лист1!$B$11,12,1) -> 1 | Y14: =IF((LEN($BB14)=0),"0",IF(AND(V14=$BB14,X14=$BD14),"5",IF(AND(W14=$BB14-$BD14,W14=0),"3",IF(AND(W14=$BB14-$BD14,OR(W14>0,W14<0)),"3",IF(AND(W14>0,$BB14-$BD14>0),"2",IF(AND(W14<0,$BB14-$BD14<0),"2","0")))))) -> 0 | Z14: =MID(Лист1!$B$5,11,1) | AA14: =Z14-AB14 -> #VALUE! | AB14: =MID(Лист1!$B$5,12,1) | AC14: =IF((LEN($BB14)=0),"0",IF(AND(Z14=$BB14,AB14=$BD14),"5",IF(AND(AA14=$BB14-$BD14,AA14=0),"3",IF(AND(AA14=$BB14-$BD14,OR(AA14>0,AA14<0)),"3",IF(AND(AA14>0,$BB14-$BD14>0),"2",IF(AND(AA14<0,$BB14-$BD14<0),"2","0")))))) -> 0 | AD14: =MID(Лист1!$B$12,11,1) -> 1 | AE14: =AD14-AF14 -> 0 | AF14: =MID(Лист1!$B$12,12,1) -> 1 | AG14: =IF((LEN($BB14)=0),"0",IF(AND(AD14=$BB14,AF14=$BD14),"5",IF(AND(AE14=$BB14-$BD14,AE14=0),"3",IF(AND(AE14=$BB14-$BD14,OR(AE14>0,AE14<0)),"3",IF(AND(AE14>0,$BB14-$BD14>0),"2",IF(AND(AE14<0,$BB14-$BD14<0),"2","0")))))) -> 0 | AH14: =MID(Лист1!$B$6,11,1) | AI14: =AH14-AJ14 -> #VALUE! | AJ14: =MID(Лист1!$B$6,12,1) | AK14: =IF((LEN($BB14)=0),"0",IF(AND(AH14=$BB14,AJ14=$BD14),"5",IF(AND(AI14=$BB14-$BD14,AI14=0),"3",IF(AND(AI14=$BB14-$BD14,OR(AI14>0,AI14<0)),"3",IF(AND(AI14>0,$BB14-$BD14>0),"2",IF(AND(AI14<0,$BB14-$BD14<0),"2","0")))))) -> 0 | AL14: =MID(Лист1!$B$13,11,1) -> 2 | AM14: =AL14-AN14 -> 1 | AN14: =MID(Лист1!$B$13,12,1) -> 1 | AO14: =IF((LEN($BB14)=0),"0",IF(AND(AL14=$BB14,AN14=$BD14),"5",IF(AND(AM14=$BB14-$BD14,AM14=0),"3",IF(AND(AM14=$BB14-$BD14,OR(AM14>0,AM14<0)),"3",IF(AND(AM14>0,$BB14-$BD14>0),"2",IF(AND(AM14<0,$BB14-$BD14<0),"2","0")))))) -> 0 | AP14: =MID(Лист1!$B$7,11,1) | AQ14: =AP14-AR14 -> #VALUE! | AR14: =MID(Лист1!$B$7,12,1) | AS14: =IF((LEN($BB14)=0),"0",IF(AND(AP14=$BB14,AR14=$BD14),"5",IF(AND(AQ14=$BB14-$BD14,AQ14=0),"3",IF(AND(AQ14=$BB14-$BD14,OR(AQ14>0,AQ14<0)),"3",IF(AND(AQ14>0,$BB14-$BD14>0),"2",IF(AND(AQ14<0,$BB14-$BD14<0),"2","0")))))) -> 0 | AT14: =MID(Лист1!$B$14,11,1) | AU14: =AT14-AV14 -> #VALUE! | AV14: =MID(Лист1!$B$14,12,1) | AW14: =IF((LEN($BB14)=0),"0",IF(AND(AT14=$BB14,AV14=$BD14),"5",IF(AND(AU14=$BB14-$BD14,AU14=0),"3",IF(AND(AU14=$BB14-$BD14,OR(AU14>0,AU14<0)),"3",IF(AND(AU14>0,$BB14-$BD14>0),"2",IF(AND(AU14<0,$BB14-$BD14<0),"2","0")))))) -> 0 | AX14: Боруссия М - Герта
B15: =MID(Лист1!$B$2,13,1) -> 0 | C15: =B15-D15 -> -1 | D15: =MID(Лист1!$B$2,14,1) -> 1 | E15: =IF((LEN($BB15)=0),"0",IF(AND(B15=$BB15,D15=$BD15),"5",IF(AND(C15=$BB15-$BD15,C15=0),"3",IF(AND(C15=$BB15-$BD15,OR(C15>0,C15<0)),"3",IF(AND(C15>0,$BB15-$BD15>0),"2",IF(AND(C15<0,$BB15-$BD15<0),"2","0")))))) -> 0 | F15: =MID(Лист1!$B$9,13,1) -> 0 | G15: =F15-H15 -> -1 | H15: =MID(Лист1!$B$9,14,1) -> 1 | I15: =IF((LEN($BB15)=0),"0",IF(AND(F15=$BB15,H15=$BD15),"5",IF(AND(G15=$BB15-$BD15,G15=0),"3",IF(AND(G15=$BB15-$BD15,OR(G15>0,G15<0)),"3",IF(AND(G15>0,$BB15-$BD15>0),"2",IF(AND(G15<0,$BB15-$BD15<0),"2","0")))))) -> 0 | J15: =MID(Лист1!$B$3,13,1) -> 0 | K15: =J15-L15 -> 0 | L15: =MID(Лист1!$B$3,14,1) -> 0 | M15: =IF((LEN($BB15)=0),"0",IF(AND(J15=$BB15,L15=$BD15),"5",IF(AND(K15=$BB15-$BD15,K15=0),"3",IF(AND(K15=$BB15-$BD15,OR(K15>0,K15<0)),"3",IF(AND(K15>0,$BB15-$BD15>0),"2",IF(AND(K15<0,$BB15-$BD15<0),"2","0")))))) -> 0 | N15: =MID(Лист1!$B$10,13,1) -> 1 | O15: =N15-P15 -> 0 | P15: =MID(Лист1!$B$10,14,1) -> 1 | Q15: =IF((LEN($BB15)=0),"0",IF(AND(N15=$BB15,P15=$BD15),"5",IF(AND(O15=$BB15-$BD15,O15=0),"3",IF(AND(O15=$BB15-$BD15,OR(O15>0,O15<0)),"3",IF(AND(O15>0,$BB15-$BD15>0),"2",IF(AND(O15<0,$BB15-$BD15<0),"2","0")))))) -> 0 | R15: =MID(Лист1!$B$4,13,1) -> 1 | S15: =R15-T15 -> 0 | T15: =MID(Лист1!$B$4,14,1) -> 1 | U15: =IF((LEN($BB15)=0),"0",IF(AND(R15=$BB15,T15=$BD15),"5",IF(AND(S15=$BB15-$BD15,S15=0),"3",IF(AND(S15=$BB15-$BD15,OR(S15>0,S15<0)),"3",IF(AND(S15>0,$BB15-$BD15>0),"2",IF(AND(S15<0,$BB15-$BD15<0),"2","0")))))) -> 0 | V15: =MID(Лист1!$B$11,13,1) -> 0 | W15: =V15-X15 -> -2 | X15: =MID(Лист1!$B$11,14,1) -> 2 | Y15: =IF((LEN($BB15)=0),"0",IF(AND(V15=$BB15,X15=$BD15),"5",IF(AND(W15=$BB15-$BD15,W15=0),"3",IF(AND(W15=$BB15-$BD15,OR(W15>0,W15<0)),"3",IF(AND(W15>0,$BB15-$BD15>0),"2",IF(AND(W15<0,$BB15-$BD15<0),"2","0")))))) -> 0 | Z15: =MID(Лист1!$B$5,13,1) | AA15: =Z15-AB15 -> #VALUE! | AB15: =MID(Лист1!$B$5,14,1) | AC15: =IF((LEN($BB15)=0),"0",IF(AND(Z15=$BB15,AB15=$BD15),"5",IF(AND(AA15=$BB15-$BD15,AA15=0),"3",IF(AND(AA15=$BB15-$BD15,OR(AA15>0,AA15<0)),"3",IF(AND(AA15>0,$BB15-$BD15>0),"2",IF(AND(AA15<0,$BB15-$BD15<0),"2","0")))))) -> 0 | AD15: =MID(Лист1!$B$12,13,1) -> 1 | AE15: =AD15-AF15 -> 1 | AF15: =MID(Лист1!$B$12,14,1) -> 0 | AG15: =IF((LEN($BB15)=0),"0",IF(AND(AD15=$BB15,AF15=$BD15),"5",IF(AND(AE15=$BB15-$BD15,AE15=0),"3",IF(AND(AE15=$BB15-$BD15,OR(AE15>0,AE15<0)),"3",IF(AND(AE15>0,$BB15-$BD15>0),"2",IF(AND(AE15<0,$BB15-$BD15<0),"2","0")))))) -> 0 | AH15: =MID(Лист1!$B$6,13,1) | AI15: =AH15-AJ15 -> #VALUE! | AJ15: =MID(Лист1!$B$6,14,1) | AK15: =IF((LEN($BB15)=0),"0",IF(AND(AH15=$BB15,AJ15=$BD15),"5",IF(AND(AI15=$BB15-$BD15,AI15=0),"3",IF(AND(AI15=$BB15-$BD15,OR(AI15>0,AI15<0)),"3",IF(AND(AI15>0,$BB15-$BD15>0),"2",IF(AND(AI15<0,$BB15-$BD15<0),"2","0")))))) -> 0 | AL15: =MID(Лист1!$B$13,13,1) -> 1 | AM15: =AL15-AN15 -> -1 | AN15: =MID(Лист1!$B$13,14,1) -> 2 | AO15: =IF((LEN($BB15)=0),"0",IF(AND(AL15=$BB15,AN15=$BD15),"5",IF(AND(AM15=$BB15-$BD15,AM15=0),"3",IF(AND(AM15=$BB15-$BD15,OR(AM15>0,AM15<0)),"3",IF(AND(AM15>0,$BB15-$BD15>0),"2",IF(AND(AM15<0,$BB15-$BD15<0),"2","0")))))) -> 0 | AP15: =MID(Лист1!$B$7,13,1) | AQ15: =AP15-AR15 -> #VALUE! | AR15: =MID(Лист1!$B$7,14,1) | AS15: =IF((LEN($BB15)=0),"0",IF(AND(AP15=$BB15,AR15=$BD15),"5",IF(AND(AQ15=$BB15-$BD15,AQ15=0),"3",IF(AND(AQ15=$BB15-$BD15,OR(AQ15>0,AQ15<0)),"3",IF(AND(AQ15>0,$BB15-$BD15>0),"2",IF(AND(AQ15<0,$BB15-$BD15<0),"2","0")))))) -> 0 | AT15: =MID(Лист1!$B$14,13,1) | AU15: =AT15-AV15 -> #VALUE! | AV15: =MID(Лист1!$B$14,14,1) | AW15: =IF((LEN($BB15)=0),"0",IF(AND(AT15=$BB15,AV15=$BD15),"5",IF(AND(AU15=$BB15-$BD15,AU15=0),"3",IF(AND(AU15=$BB15-$BD15,OR(AU15>0,AU15<0)),"3",IF(AND(AU15>0,$BB15-$BD15>0),"2",IF(AND(AU15<0,$BB15-$BD15<0),"2","0")))))) -> 0 | AX15: Бастия - Марсель
B16: =MID(Лист1!$B$2,15,1) -> 2 | C16: =B16-D16 -> 1 | D16: =MID(Лист1!$B$2,16,1) -> 1 | E16: =IF((LEN($BB16)=0),"0",IF(AND(B16=$BB16,D16=$BD16),"5",IF(AND(C16=$BB16-$BD16,C16=0),"3",IF(AND(C16=$BB16-$BD16,OR(C16>0,C16<0)),"3",IF(AND(C16>0,$BB16-$BD16>0),"2",IF(AND(C16<0,$BB16-$BD16<0),"2","0")))))) -> 0 | F16: =MID(Лист1!$B$9,15,1) -> 1 | G16: =F16-H16 -> 0 | H16: =MID(Лист1!$B$9,16,1) -> 1 | I16: =IF((LEN($BB16)=0),"0",IF(AND(F16=$BB16,H16=$BD16),"5",IF(AND(G16=$BB16-$BD16,G16=0),"3",IF(AND(G16=$BB16-$BD16,OR(G16>0,G16<0)),"3",IF(AND(G16>0,$BB16-$BD16>0),"2",IF(AND(G16<0,$BB16-$BD16<0),"2","0")))))) -> 0 | J16: =MID(Лист1!$B$3,15,1) -> 2 | K16: =J16-L16 -> 0 | L16: =MID(Лист1!$B$3,16,1) -> 2 | M16: =IF((LEN($BB16)=0),"0",IF(AND(J16=$BB16,L16=$BD16),"5",IF(AND(K16=$BB16-$BD16,K16=0),"3",IF(AND(K16=$BB16-$BD16,OR(K16>0,K16<0)),"3",IF(AND(K16>0,$BB16-$BD16>0),"2",IF(AND(K16<0,$BB16-$BD16<0),"2","0")))))) -> 0 | N16: =MID(Лист1!$B$10,15,1) -> 1 | O16: =N16-P16 -> 0 | P16: =MID(Лист1!$B$10,16,1) -> 1 | Q16: =IF((LEN($BB16)=0),"0",IF(AND(N16=$BB16,P16=$BD16),"5",IF(AND(O16=$BB16-$BD16,O16=0),"3",IF(AND(O16=$BB16-$BD16,OR(O16>0,O16<0)),"3",IF(AND(O16>0,$BB16-$BD16>0),"2",IF(AND(O16<0,$BB16-$BD16<0),"2","0")))))) -> 0 | R16: =MID(Лист1!$B$4,15,1) -> 1 | S16: =R16-T16 -> 1 | T16: =MID(Лист1!$B$4,16,1) -> 0 | U16: =IF((LEN($BB16)=0),"0",IF(AND(R16=$BB16,T16=$BD16),"5",IF(AND(S16=$BB16-$BD16,S16=0),"3",IF(AND(S16=$BB16-$BD16,OR(S16>0,S16<0)),"3",IF(AND(S16>0,$BB16-$BD16>0),"2",IF(AND(S16<0,$BB16-$BD16<0),"2","0")))))) -> 0 | V16: =MID(Лист1!$B$11,15,1) -> 1 | W16: =V16-X16 -> 0 | X16: =MID(Лист1!$B$11,16,1) -> 1 | Y16: =IF((LEN($BB16)=0),"0",IF(AND(V16=$BB16,X16=$BD16),"5",IF(AND(W16=$BB16-$BD16,W16=0),"3",IF(AND(W16=$BB16-$BD16,OR(W16>0,W16<0)),"3",IF(AND(W16>0,$BB16-$BD16>0),"2",IF(AND(W16<0,$BB16-$BD16<0),"2","0")))))) -> 0 | Z16: =MID(Лист1!$B$5,15,1) | AA16: =Z16-AB16 -> #VALUE! | AB16: =MID(Лист1!$B$5,16,1) | AC16: =IF((LEN($BB16)=0),"0",IF(AND(Z16=$BB16,AB16=$BD16),"5",IF(AND(AA16=$BB16-$BD16,AA16=0),"3",IF(AND(AA16=$BB16-$BD16,OR(AA16>0,AA16<0)),"3",IF(AND(AA16>0,$BB16-$BD16>0),"2",IF(AND(AA16<0,$BB16-$BD16<0),"2","0")))))) -> 0 | AD16: =MID(Лист1!$B$12,15,1) -> 2 | AE16: =AD16-AF16 -> 1 | AF16: =MID(Лист1!$B$12,16,1) -> 1 | AG16: =IF((LEN($BB16)=0),"0",IF(AND(AD16=$BB16,AF16=$BD16),"5",IF(AND(AE16=$BB16-$BD16,AE16=0),"3",IF(AND(AE16=$BB16-$BD16,OR(AE16>0,AE16<0)),"3",IF(AND(AE16>0,$BB16-$BD16>0),"2",IF(AND(AE16<0,$BB16-$BD16<0),"2","0")))))) -> 0 | AH16: =MID(Лист1!$B$6,15,1) | AI16: =AH16-AJ16 -> #VALUE! | AJ16: =MID(Лист1!$B$6,16,1) | AK16: =IF((LEN($BB16)=0),"0",IF(AND(AH16=$BB16,AJ16=$BD16),"5",IF(AND(AI16=$BB16-$BD16,AI16=0),"3",IF(AND(AI16=$BB16-$BD16,OR(AI16>0,AI16<0)),"3",IF(AND(AI16>0,$BB16-$BD16>0),"2",IF(AND(AI16<0,$BB16-$BD16<0),"2","0")))))) -> 0 | AL16: =MID(Лист1!$B$13,15,1) -> 0 | AM16: =AL16-AN16 -> 0 | AN16: =MID(Лист1!$B$13,16,1) -> 0 | AO16: =IF((LEN($BB16)=0),"0",IF(AND(AL16=$BB16,AN16=$BD16),"5",IF(AND(AM16=$BB16-$BD16,AM16=0),"3",IF(AND(AM16=$BB16-$BD16,OR(AM16>0,AM16<0)),"3",IF(AND(AM16>0,$BB16-$BD16>0),"2",IF(AND(AM16<0,$BB16-$BD16<0),"2","0")))))) -> 0 | AP16: =MID(Лист1!$B$7,15,1) | AQ16: =AP16-AR16 -> #VALUE! | AR16: =MID(Лист1!$B$7,16,1) | AS16: =IF((LEN($BB16)=0),"0",IF(AND(AP16=$BB16,AR16=$BD16),"5",IF(AND(AQ16=$BB16-$BD16,AQ16=0),"3",IF(AND(AQ16=$BB16-$BD16,OR(AQ16>0,AQ16<0)),"3",IF(AND(AQ16>0,$BB16-$BD16>0),"2",IF(AND(AQ16<0,$BB16-$BD16<0),"2","0")))))) -> 0 | AT16: =MID(Лист1!$B$14,15,1) | AU16: =AT16-AV16 -> #VALUE! | AV16: =MID(Лист1!$B$14,16,1) | AW16: =IF((LEN($BB16)=0),"0",IF(AND(AT16=$BB16,AV16=$BD16),"5",IF(AND(AU16=$BB16-$BD16,AU16=0),"3",IF(AND(AU16=$BB16-$BD16,OR(AU16>0,AU16<0)),"3",IF(AND(AU16>0,$BB16-$BD16>0),"2",IF(AND(AU16<0,$BB16-$BD16<0),"2","0")))))) -> 0 | AX16: Зенит - ЦСКА
B17: 1 | C17: =B17-D17 -> 1 | D17: 0 | E17: =IF((LEN(BB17)=0),"0",IF(AND(B17=BB17,D17=BD17),"5",IF(AND(C17=BC17,C17=0),"2",IF(AND(C17=BC17,OR(C17>0,C17<0)),"3",IF(AND(C17>0,BC17>0),"2",IF(AND(C17<0,BC17<0),"2","0")))))) -> 0 | F17: 0 | G17: =F17-H17 -> -2 | H17: 2 | I17: =IF((LEN(BB17)=0),"0",IF(AND(F17=BB17,H17=BD17),"5",IF(AND(G17=BC17,G17=0),"2",IF(AND(G17=BC17,OR(G17>0,G17<0)),"3",IF(AND(G17>0,BC17>0),"2",IF(AND(G17<0,BC17<0),"2","0")))))) -> 0 | J17: 0 | K17: =J17-L17 -> -2 | L17: 2 | M17: =IF((LEN(BB17)=0),"0",IF(AND(J17=BB17,L17=BD17),"5",IF(AND(K17=BC17,K17=0),"2",IF(AND(K17=BC17,OR(K17>0,K17<0)),"3",IF(AND(K17>0,BC17>0),"2",IF(AND(K17<0,BC17<0),"2","0")))))) -> 0 | N17: 1 | O17: =N17-P17 -> -1 | P17: 2 | Q17: =IF((LEN(BB17)=0),"0",IF(AND(N17=BB17,P17=BD17),"5",IF(AND(O17=BC17,O17=0),"2",IF(AND(O17=BC17,OR(O17>0,O17<0)),"3",IF(AND(O17>0,BC17>0),"2",IF(AND(O17<0,BC17<0),"2","0")))))) -> 0 | R17: 1 | S17: =R17-T17 -> -1 | T17: 2 | U17: =IF((LEN(BB17)=0),"0",IF(AND(R17=BB17,T17=BD17),"5",IF(AND(S17=BC17,S17=0),"2",IF(AND(S17=BC17,OR(S17>0,S17<0)),"3",IF(AND(S17>0,BC17>0),"2",IF(AND(S17<0,BC17<0),"2","0")))))) -> 0 | V17: 2 | W17: =V17-X17 -> 1 | X17: 1 | Y17: =IF((LEN(BB17)=0),"0",IF(AND(V17=BB17,X17=BD17),"5",IF(AND(W17=BC17,W17=0),"2",IF(AND(W17=BC17,OR(W17>0,W17<0)),"3",IF(AND(W17>0,BC17>0),"2",IF(AND(W17<0,BC17<0),"2","0")))))) -> 0 | Z17: 1 | AA17: =Z17-AB17 -> 0 | AB17: 1 | AC17: =IF((LEN(BB17)=0),"0",IF(AND(Z17=BB17,AB17=BD17),"5",IF(AND(AA17=BC17,AA17=0),"2",IF(AND(AA17=BC17,OR(AA17>0,AA17<0)),"3",IF(AND(AA17>0,BC17>0),"2",IF(AND(AA17<0,BC17<0),"2","0")))))) -> 0 | AD17: 1 | AE17: =AD17-AF17 -> -1 | AF17: 2 | AG17: =IF((LEN(BB17)=0),"0",IF(AND(AD17=BB17,AF17=BD17),"5",IF(AND(AE17=BC17,AE17=0),"2",IF(AND(AE17=BC17,OR(AE17>0,AE17<0)),"3",IF(AND(AE17>0,BC17>0),"2",IF(AND(AE17<0,BC17<0),"2","0")))))) -> 0 | AH17: 1 | AI17: =AH17-AJ17 -> 0 | AJ17: 1 | AK17: =IF((LEN(BB17)=0),"0",IF(AND(AH17=BB17,AJ17=BD17),"5",IF(AND(AI17=BC17,AI17=0),"2",IF(AND(AI17=BC17,OR(AI17>0,AI17<0)),"3",IF(AND(AI17>0,BC17>0),"2",IF(AND(AI17<0,BC17<0),"2","0")))))) -> 0 | AL17: 1 | AM17: =AL17-AN17 -> -1 | AN17: 2 | AO17: =IF((LEN(BB17)=0),"0",IF(AND(AL17=BB17,AN17=BD17),"5",IF(AND(AM17=BC17,AM17=0),"2",IF(AND(AM17=BC17,OR(AM17>0,AM17<0)),"3",IF(AND(AM17>0,BC17>0),"2",IF(AND(AM17<0,BC17<0),"2","0")))))) -> 0 | AP17: 1 | AQ17: =AP17-AR17 -> -2 | AR17: 3 | AS17: =IF((LEN(BB17)=0),"0",IF(AND(AP17=BB17,AR17=BD17),"5",IF(AND(AQ17=BC17,AQ17=0),"2",IF(AND(AQ17=BC17,OR(AQ17>0,AQ17<0)),"3",IF(AND(AQ17>0,BC17>0),"2",IF(AND(AQ17<0,BC17<0),"2","0")))))) -> 0 | AT17: 1 | AU17: =AT17-AV17 -> -1 | AV17: 2 | AW17: =IF((LEN(BB17)=0),"0",IF(AND(AT17=BB17,AV17=BD17),"5",IF(AND(AU17=BC17,AU17=0),"2",IF(AND(AU17=BC17,OR(AU17>0,AU17<0)),"3",IF(AND(AU17>0,BC17>0),"2",IF(AND(AU17<0,BC17<0),"2","0")))))) -> 0 | BC17: =BB17-BD17 -> 0
B18: 0 | C18: =B18-D18 -> -1 | D18: 1 | E18: =IF((LEN(BB18)=0),"0",IF(AND(B18=BB18,D18=BD18),"5",IF(AND(C18=BC18,C18=0),"2",IF(AND(C18=BC18,OR(C18>0,C18<0)),"3",IF(AND(C18>0,BC18>0),"2",IF(AND(C18<0,BC18<0),"2","0")))))) -> 0 | F18: 0 | G18: =F18-H18 -> -2 | H18: 2 | I18: =IF((LEN(BB18)=0),"0",IF(AND(F18=BB18,H18=BD18),"5",IF(AND(G18=BC18,G18=0),"2",IF(AND(G18=BC18,OR(G18>0,G18<0)),"3",IF(AND(G18>0,BC18>0),"2",IF(AND(G18<0,BC18<0),"2","0")))))) -> 0 | J18: 1 | K18: =J18-L18 -> 1 | L18: 0 | M18: =IF((LEN(BB18)=0),"0",IF(AND(J18=BB18,L18=BD18),"5",IF(AND(K18=BC18,K18=0),"2",IF(AND(K18=BC18,OR(K18>0,K18<0)),"3",IF(AND(K18>0,BC18>0),"2",IF(AND(K18<0,BC18<0),"2","0")))))) -> 0 | N18: 1 | O18: =N18-P18 -> 0 | P18: 1 | Q18: =IF((LEN(BB18)=0),"0",IF(AND(N18=BB18,P18=BD18),"5",IF(AND(O18=BC18,O18=0),"2",IF(AND(O18=BC18,OR(O18>0,O18<0)),"3",IF(AND(O18>0,BC18>0),"2",IF(AND(O18<0,BC18<0),"2","0")))))) -> 0 | R18: 1 | S18: =R18-T18 -> -1 | T18: 2 | U18: =IF((LEN(BB18)=0),"0",IF(AND(R18=BB18,T18=BD18),"5",IF(AND(S18=BC18,S18=0),"2",IF(AND(S18=BC18,OR(S18>0,S18<0)),"3",IF(AND(S18>0,BC18>0),"2",IF(AND(S18<0,BC18<0),"2","0")))))) -> 0 | V18: 1 | W18: =V18-X18 -> -1 | X18: 2 | Y18: =IF((LEN(BB18)=0),"0",IF(AND(V18=BB18,X18=BD18),"5",IF(AND(W18=BC18,W18=0),"2",IF(AND(W18=BC18,OR(W18>0,W18<0)),"3",IF(AND(W18>0,BC18>0),"2",IF(AND(W18<0,BC18<0),"2","0")))))) -> 0 | Z18: 1 | AA18: =Z18-AB18 -> 0 | AB18: 1 | AC18: =IF((LEN(BB18)=0),"0",IF(AND(Z18=BB18,AB18=BD18),"5",IF(AND(AA18=BC18,AA18=0),"2",IF(AND(AA18=BC18,OR(AA18>0,AA18<0)),"3",IF(AND(AA18>0,BC18>0),"2",IF(AND(AA18<0,BC18<0),"2","0")))))) -> 0 | AD18: 2 | AE18: =AD18-AF18 -> 1 | AF18: 1 | AG18: =IF((LEN(BB18)=0),"0",IF(AND(AD18=BB18,AF18=BD18),"5",IF(AND(AE18=BC18,AE18=0),"2",IF(AND(AE18=BC18,OR(AE18>0,AE18<0)),"3",IF(AND(AE18>0,BC18>0),"2",IF(AND(AE18<0,BC18<0),"2","0")))))) -> 0 | AH18: 2 | AI18: =AH18-AJ18 -> -1 | AJ18: 3 | AK18: =IF((LEN(BB18)=0),"0",IF(AND(AH18=BB18,AJ18=BD18),"5",IF(AND(AI18=BC18,AI18=0),"2",IF(AND(AI18=BC18,OR(AI18>0,AI18<0)),"3",IF(AND(AI18>0,BC18>0),"2",IF(AND(AI18<0,BC18<0),"2","0")))))) -> 0 | AL18: 1 | AM18: =AL18-AN18 -> -1 | AN18: 2 | AO18: =IF((LEN(BB18)=0),"0",IF(AND(AL18=BB18,AN18=BD18),"5",IF(AND(AM18=BC18,AM18=0),"2",IF(AND(AM18=BC18,OR(AM18>0,AM18<0)),"3",IF(AND(AM18>0,BC18>0),"2",IF(AND(AM18<0,BC18<0),"2","0")))))) -> 0 | AP18: 1 | AQ18: =AP18-AR18 -> -2 | AR18: 3 | AS18: =IF((LEN(BB18)=0),"0",IF(AND(AP18=BB18,AR18=BD18),"5",IF(AND(AQ18=BC18,AQ18=0),"2",IF(AND(AQ18=BC18,OR(AQ18>0,AQ18<0)),"3",IF(AND(AQ18>0,BC18>0),"2",IF(AND(AQ18<0,BC18<0),"2","0")))))) -> 0 | AT18: 1 | AU18: =AT18-AV18 -> -2 | AV18: 3 | AW18: =IF((LEN(BB18)=0),"0",IF(AND(AT18=BB18,AV18=BD18),"5",IF(AND(AU18=BC18,AU18=0),"2",IF(AND(AU18=BC18,OR(AU18>0,AU18<0)),"3",IF(AND(AU18>0,BC18>0),"2",IF(AND(AU18<0,BC18<0),"2","0")))))) -> 0 | BC18: =BB18-BD18 -> 0
B19: =E9+E10+E11+E12+E13+E14+E15+E16+E17+E18 -> 7 | F19: =I9+I10+I11+I12+I13+I14+I15+I16+I17+I18 -> 7 | J19: =M9+M10+M11+M12+M13+M14+M15+M16+M17+M18 -> 0 | N19: =Q9+Q10+Q11+Q12+Q13+Q14+Q15+Q16+Q17+Q18 -> 0 | R19: =U9+U10+U11+U12+U13+U14+U15+U16+U17+U18 -> 3 | V19: =Y9+Y10+Y11+Y12+Y13+Y14+Y15+Y16+Y17+Y18 -> 0 | Z19: =AC9+AC10+AC11+AC12+AC13+AC14+AC15+AC16+AC17+AC18 -> #VALUE! | AD19: =AG9+AG10+AG11+AG12+AG13+AG14+AG15+AG16+AG17+AG18 -> 7 | AH19: =AK9+AK10+AK11+AK12+AK13+AK14+AK15+AK16+AK17+AK18 -> #VALUE! | AL19: =AO9+AO10+AO11+AO12+AO13+AO14+AO15+AO16+AO17+AO18 -> 5 | AP19: =AS9+AS10+AS11+AS12+AS13+AS14+AS15+AS16+AS17+AS18 -> #VALUE! | AT19: =AW9+AW10+AW11+AW12+AW13+AW14+AW15+AW16+AW17+AW18 -> #VALUE!
B20: =IF(B19>F19,"1",IF(B19=F19,"0", IF(B19<F19,"0"))) -> 0 | F20: =IF(F19>B19,"1",IF(F19=B19,"0", IF(F19<B19,"0"))) -> 0 | J20: =IF(J19>N19,"1",IF(J19=N19,"0", IF(J19<N19,"0"))) -> 0 | N20: =IF(N19>J19,"1",IF(N19=J19,"0", IF(N19<J19,"0"))) -> 0 | R20: =IF(R19>V19,"1",IF(R19=V19,"0", IF(R19<V19,"0"))) -> 1 | V20: =IF(V19>R19,"1",IF(V19=R19,"0", IF(V19<R19,"0"))) -> 0 | Z20: =IF(Z19>AD19,"1",IF(Z19=AD19,"0", IF(Z19<AD19,"0"))) -> #VALUE! | AD20: =IF(AD19>Z19,"1",IF(AD19=Z19,"0", IF(AD19<Z19,"0"))) -> #VALUE! | AH20: =IF(AH19>AL19,"1",IF(AH19=AL19,"0", IF(AH19<AL19,"0"))) -> #VALUE! | AL20: =IF(AL19>AH19,"1",IF(AL19=AH19,"0", IF(AL19<AH19,"0"))) -> #VALUE! | AP20: =IF(AP19>AT19,"1",IF(AP19=AT19,"0", IF(AP19<AT19,"0"))) -> #VALUE! | AT20: =IF(AT19>AP19,"1",IF(AT19=AP19,"0", IF(AT19<AP19,"0"))) -> #VALUE!
B24: =Лист1!A21 -> КСП "Торпедо" | H24: =B40+J40+R40+Z40+AH40+AP40 -> #VALUE!
B25: =Лист1!A28 -> liga1.ru | H25: =F40+N40+V40+AD40+AL40+AT40 -> #VALUE!
B27: =Лист1!A22 -> Korsar | F27: =Лист1!A29 -> Ice | J27: =Лист1!A23 -> dauren | N27: =Лист1!A30 -> NORGE | R27: =Лист1!A24 -> shaydul | V27: =Лист1!A31 -> PiF | Z27: =Лист1!A25 -> ЯД | AD27: =Лист1!A32 -> Урал-72 | AH27: =Лист1!A26 -> ESI2607 | AL27: =Лист1!A33 -> ZHEKA_KORCHAGIN | AP27: =Лист1!A27 -> 0 | AT27: =Лист1!A34 -> strelets | BB27: Итог
B28: прогноз | E28: очки | F28: прогноз | I28: очки | J28: прогноз | M28: очки | N28: прогноз | Q28: очки | R28: прогноз | U28: очки | V28: прогноз | Y28: очки | Z28: прогноз | AC28: очки | AD28: прогноз | AG28: очки | AH28: прогноз | AK28: очки | AL28: прогноз | AO28: очки | AP28: прогноз | AS28: очки | AT28: прогноз | AW28: очки
B29: =MID(Лист1!$B$22,1,1) -> 1 | C29: =B29-D29 -> -1 | D29: =MID(Лист1!$B$22,2,1) -> 2 | E29: =IF((LEN($BB9)=0),"0",IF(AND(B29=$BB9,D29=$BD9),"5",IF(AND(C29=$BB9-$BD9,C29=0),"3",IF(AND(C29=$BB9-$BD9,OR(C29>0,C29<0)),"3",IF(AND(C29>0,$BB9-$BD9>0),"2",IF(AND(C29<0,$BB9-$BD9<0),"2","0")))))) -> 0 | F29: =MID(Лист1!$B$29,1,1) -> 1 | G29: =F29-H29 -> -1 | H29: =MID(Лист1!$B$29,2,1) -> 2 | I29: =IF((LEN($BB9)=0),"0",IF(AND(F29=$BB9,H29=$BD9),"5",IF(AND(G29=$BB9-$BD9,G29=0),"3",IF(AND(G29=$BB9-$BD9,OR(G29>0,G29<0)),"3",IF(AND(G29>0,$BB9-$BD9>0),"2",IF(AND(G29<0,$BB9-$BD9<0),"2","0")))))) -> 0 | J29: =MID(Лист1!$B$23,1,1) -> 1 | K29: =J29-L29 -> 0 | L29: =MID(Лист1!$B$23,2,1) -> 1 | M29: =IF((LEN($BB9)=0),"0",IF(AND(J29=$BB9,L29=$BD9),"5",IF(AND(K29=$BB9-$BD9,K29=0),"3",IF(AND(K29=$BB9-$BD9,OR(K29>0,K29<0)),"3",IF(AND(K29>0,$BB9-$BD9>0),"2",IF(AND(K29<0,$BB9-$BD9<0),"2","0")))))) -> 3 | N29: =MID(Лист1!$B$30,1,1) -> 1 | O29: =N29-P29 -> 0 | P29: =MID(Лист1!$B$30,2,1) -> 1 | Q29: =IF((LEN($BB9)=0),"0",IF(AND(N29=$BB9,P29=$BD9),"5",IF(AND(O29=$BB9-$BD9,O29=0),"3",IF(AND(O29=$BB9-$BD9,OR(O29>0,O29<0)),"3",IF(AND(O29>0,$BB9-$BD9>0),"2",IF(AND(O29<0,$BB9-$BD9<0),"2","0")))))) -> 3 | R29: =MID(Лист1!$B$24,1,1) -> 0 | S29: =R29-T29 -> -1 | T29: =MID(Лист1!$B$24,2,1) -> 1 | U29: =IF((LEN($BB9)=0),"0",IF(AND(R29=$BB9,T29=$BD9),"5",IF(AND(S29=$BB9-$BD9,S29=0),"3",IF(AND(S29=$BB9-$BD9,OR(S29>0,S29<0)),"3",IF(AND(S29>0,$BB9-$BD9>0),"2",IF(AND(S29<0,$BB9-$BD9<0),"2","0")))))) -> 0 | V29: =MID(Лист1!$B$31,1,1) -> 1 | W29: =V29-X29 -> 0 | X29: =MID(Лист1!$B$31,2,1) -> 1 | Y29: =IF((LEN($BB9)=0),"0",IF(AND(V29=$BB9,X29=$BD9),"5",IF(AND(W29=$BB9-$BD9,W29=0),"3",IF(AND(W29=$BB9-$BD9,OR(W29>0,W29<0)),"3",IF(AND(W29>0,$BB9-$BD9>0),"2",IF(AND(W29<0,$BB9-$BD9<0),"2","0")))))) -> 3 | Z29: =MID(Лист1!$B$25,1,1) -> 0 | AA29: =Z29-AB29 -> -1 | AB29: =MID(Лист1!$B$25,2,1) -> 1 | AC29: =IF((LEN($BB9)=0),"0",IF(AND(Z29=$BB9,AB29=$BD9),"5",IF(AND(AA29=$BB9-$BD9,AA29=0),"3",IF(AND(AA29=$BB9-$BD9,OR(AA29>0,AA29<0)),"3",IF(AND(AA29>0,$BB9-$BD9>0),"2",IF(AND(AA29<0,$BB9-$BD9<0),"2","0")))))) -> 0 | AD29: =MID(Лист1!$B$32,1,1) -> 0 | AE29: =AD29-AF29 -> -1 | AF29: =MID(Лист1!$B$32,2,1) -> 1 | AG29: =IF((LEN($BB9)=0),"0",IF(AND(AD29=$BB9,AF29=$BD9),"5",IF(AND(AE29=$BB9-$BD9,AE29=0),"3",IF(AND(AE29=$BB9-$BD9,OR(AE29>0,AE29<0)),"3",IF(AND(AE29>0,$BB9-$BD9>0),"2",IF(AND(AE29<0,$BB9-$BD9<0),"2","0")))))) -> 0 | AH29: =MID(Лист1!$B$26,1,1) -> 1 | AI29: =AH29-AJ29 -> -1 | AJ29: =MID(Лист1!$B$26,2,1) -> 2 | AK29: =IF((LEN($BB9)=0),"0",IF(AND(AH29=$BB9,AJ29=$BD9),"5",IF(AND(AI29=$BB9-$BD9,AI29=0),"3",IF(AND(AI29=$BB9-$BD9,OR(AI29>0,AI29<0)),"3",IF(AND(AI29>0,$BB9-$BD9>0),"2",IF(AND(AI29<0,$BB9-$BD9<0),"2","0")))))) -> 0 | AL29: =MID(Лист1!$B$33,1,1) -> 1 | AM29: =AL29-AN29 -> -1 | AN29: =MID(Лист1!$B$33,2,1) -> 2 | AO29: =IF((LEN($BB9)=0),"0",IF(AND(AL29=$BB9,AN29=$BD9),"5",IF(AND(AM29=$BB9-$BD9,AM29=0),"3",IF(AND(AM29=$BB9-$BD9,OR(AM29>0,AM29<0)),"3",IF(AND(AM29>0,$BB9-$BD9>0),"2",IF(AND(AM29<0,$BB9-$BD9<0),"2","0")))))) -> 0 | AP29: =MID(Лист1!$B$27,1,1) | AQ29: =AP29-AR29 -> #VALUE! | AR29: =MID(Лист1!$B$27,2,1) | AS29: =IF((LEN($BB9)=0),"0",IF(AND(AP29=$BB9,AR29=$BD9),"5",IF(AND(AQ29=$BB9-$BD9,AQ29=0),"3",IF(AND(AQ29=$BB9-$BD9,OR(AQ29>0,AQ29<0)),"3",IF(AND(AQ29>0,$BB9-$BD9>0),"2",IF(AND(AQ29<0,$BB9-$BD9<0),"2","0")))))) -> #VALUE! | AT29: =MID(Лист1!$B$34,1,1) -> 1 | AU29: =AT29-AV29 -> 0 | AV29: =MID(Лист1!$B$34,2,1) -> 1 | AW29: =IF((LEN($BB9)=0),"0",IF(AND(AT29=$BB9,AV29=$BD9),"5",IF(AND(AU29=$BB9-$BD9,AU29=0),"3",IF(AND(AU29=$BB9-$BD9,OR(AU29>0,AU29<0)),"3",IF(AND(AU29>0,$BB9-$BD9>0),"2",IF(AND(AU29<0,$BB9-$BD9<0),"2","0")))))) -> 3 | AX29: =AX9 -> Дармштадт - Штутгарт | BB29: =IF((LEN(BB9)=0)," ",BB9) -> 2 | BD29: =IF((LEN(BD9)=0)," ",BD9) -> 2
B30: =MID(Лист1!$B$22,3,1) -> 2 | C30: =B30-D30 -> 1 | D30: =MID(Лист1!$B$22,4,1) -> 1 | E30: =IF((LEN($BB10)=0),"0",IF(AND(B30=$BB10,D30=$BD10),"5",IF(AND(C30=$BB10-$BD10,C30=0),"3",IF(AND(C30=$BB10-$BD10,OR(C30>0,C30<0)),"3",IF(AND(C30>0,$BB10-$BD10>0),"2",IF(AND(C30<0,$BB10-$BD10<0),"2","0")))))) -> 0 | F30: =MID(Лист1!$B$29,3,1) -> 2 | G30: =F30-H30 -> 1 | H30: =MID(Лист1!$B$29,4,1) -> 1 | I30: =IF((LEN($BB10)=0),"0",IF(AND(F30=$BB10,H30=$BD10),"5",IF(AND(G30=$BB10-$BD10,G30=0),"3",IF(AND(G30=$BB10-$BD10,OR(G30>0,G30<0)),"3",IF(AND(G30>0,$BB10-$BD10>0),"2",IF(AND(G30<0,$BB10-$BD10<0),"2","0")))))) -> 0 | J30: =MID(Лист1!$B$23,3,1) -> 2 | K30: =J30-L30 -> 1 | L30: =MID(Лист1!$B$23,4,1) -> 1 | M30: =IF((LEN($BB10)=0),"0",IF(AND(J30=$BB10,L30=$BD10),"5",IF(AND(K30=$BB10-$BD10,K30=0),"3",IF(AND(K30=$BB10-$BD10,OR(K30>0,K30<0)),"3",IF(AND(K30>0,$BB10-$BD10>0),"2",IF(AND(K30<0,$BB10-$BD10<0),"2","0")))))) -> 0 | N30: =MID(Лист1!$B$30,3,1) -> 2 | O30: =N30-P30 -> 0 | P30: =MID(Лист1!$B$30,4,1) -> 2 | Q30: =IF((LEN($BB10)=0),"0",IF(AND(N30=$BB10,P30=$BD10),"5",IF(AND(O30=$BB10-$BD10,O30=0),"3",IF(AND(O30=$BB10-$BD10,OR(O30>0,O30<0)),"3",IF(AND(O30>0,$BB10-$BD10>0),"2",IF(AND(O30<0,$BB10-$BD10<0),"2","0")))))) -> 3 | R30: =MID(Лист1!$B$24,3,1) -> 1 | S30: =R30-T30 -> 0 | T30: =MID(Лист1!$B$24,4,1) -> 1 | U30: =IF((LEN($BB10)=0),"0",IF(AND(R30=$BB10,T30=$BD10),"5",IF(AND(S30=$BB10-$BD10,S30=0),"3",IF(AND(S30=$BB10-$BD10,OR(S30>0,S30<0)),"3",IF(AND(S30>0,$BB10-$BD10>0),"2",IF(AND(S30<0,$BB10-$BD10<0),"2","0")))))) -> 5 | V30: =MID(Лист1!$B$31,3,1) -> 1 | W30: =V30-X30 -> 0 | X30: =MID(Лист1!$B$31,4,1) -> 1 | Y30: =IF((LEN($BB10)=0),"0",IF(AND(V30=$BB10,X30=$BD10),"5",IF(AND(W30=$BB10-$BD10,W30=0),"3",IF(AND(W30=$BB10-$BD10,OR(W30>0,W30<0)),"3",IF(AND(W30>0,$BB10-$BD10>0),"2",IF(AND(W30<0,$BB10-$BD10<0),"2","0")))))) -> 5 | Z30: =MID(Лист1!$B$25,3,1) -> 2 | AA30: =Z30-AB30 -> 1 | AB30: =MID(Лист1!$B$25,4,1) -> 1 | AC30: =IF((LEN($BB10)=0),"0",IF(AND(Z30=$BB10,AB30=$BD10),"5",IF(AND(AA30=$BB10-$BD10,AA30=0),"3",IF(AND(AA30=$BB10-$BD10,OR(AA30>0,AA30<0)),"3",IF(AND(AA30>0,$BB10-$BD10>0),"2",IF(AND(AA30<0,$BB10-$BD10<0),"2","0")))))) -> 0 | AD30: =MID(Лист1!$B$32,3,1) -> 2 | AE30: =AD30-AF30 -> 2 | AF30: =MID(Лист1!$B$32,4,1) -> 0 | AG30: =IF((LEN($BB10)=0),"0",IF(AND(AD30=$BB10,AF30=$BD10),"5",IF(AND(AE30=$BB10-$BD10,AE30=0),"3",IF(AND(AE30=$BB10-$BD10,OR(AE30>0,AE30<0)),"3",IF(AND(AE30>0,$BB10-$BD10>0),"2",IF(AND(AE30<0,$BB10-$BD10<0),"2","0")))))) -> 0 | AH30: =MID(Лист1!$B$26,3,1) -> 1 | AI30: =AH30-AJ30 -> 0 | AJ30: =MID(Лист1!$B$26,4,1) -> 1 | AK30: =IF((LEN($BB10)=0),"0",IF(AND(AH30=$BB10,AJ30=$BD10),"5",IF(AND(AI30=$BB10-$BD10,AI30=0),"3",IF(AND(AI30=$BB10-$BD10,OR(AI30>0,AI30<0)),"3",IF(AND(AI30>0,$BB10-$BD10>0),"2",IF(AND(AI30<0,$BB10-$BD10<0),"2","0")))))) -> 5 | AL30: =MID(Лист1!$B$33,3,1) -> 2 | AM30: =AL30-AN30 -> 1 | AN30: =MID(Лист1!$B$33,4,1) -> 1 | AO30: =IF((LEN($BB10)=0),"0",IF(AND(AL30=$BB10,AN30=$BD10),"5",IF(AND(AM30=$BB10-$BD10,AM30=0),"3",IF(AND(AM30=$BB10-$BD10,OR(AM30>0,AM30<0)),"3",IF(AND(AM30>0,$BB10-$BD10>0),"2",IF(AND(AM30<0,$BB10-$BD10<0),"2","0")))))) -> 0 | AP30: =MID(Лист1!$B$27,3,1) | AQ30: =AP30-AR30 -> #VALUE! | AR30: =MID(Лист1!$B$27,4,1) | AS30: =IF((LEN($BB10)=0),"0",IF(AND(AP30=$BB10,AR30=$BD10),"5",IF(AND(AQ30=$BB10-$BD10,AQ30=0),"3",IF(AND(AQ30=$BB10-$BD10,OR(AQ30>0,AQ30<0)),"3",IF(AND(AQ30>0,$BB10-$BD10>0),"2",IF(AND(AQ30<0,$BB10-$BD10<0),"2","0")))))) -> #VALUE! | AT30: =MID(Лист1!$B$34,3,1) -> 1 | AU30: =AT30-AV30 -> 0 | AV30: =MID(Лист1!$B$34,4,1) -> 1 | AW30: =IF((LEN($BB10)=0),"0",IF(AND(AT30=$BB10,AV30=$BD10),"5",IF(AND(AU30=$BB10-$BD10,AU30=0),"3",IF(AND(AU30=$BB10-$BD10,OR(AU30>0,AU30<0)),"3",IF(AND(AU30>0,$BB10-$BD10>0),"2",IF(AND(AU30<0,$BB10-$BD10<0),"2","0")))))) -> 5 | AX30: =AX10 -> Ливерпуль - Тоттенхэм | BB30: =IF((LEN(BB10)=0)," ",BB10) -> 1 | BC30: =BB30-BD30 -> 0 | BD30: =IF((LEN(BD10)=0)," ",BD10) -> 1
B31: =MID(Лист1!$B$22,5,1) -> 1 | C31: =B31-D31 -> 0 | D31: =MID(Лист1!$B$22,6,1) -> 1 | E31: =IF((LEN($BB11)=0),"0",IF(AND(B31=$BB11,D31=$BD11),"5",IF(AND(C31=$BB11-$BD11,C31=0),"3",IF(AND(C31=$BB11-$BD11,OR(C31>0,C31<0)),"3",IF(AND(C31>0,$BB11-$BD11>0),"2",IF(AND(C31<0,$BB11-$BD11<0),"2","0")))))) -> 0 | F31: =MID(Лист1!$B$29,5,1) -> 1 | G31: =F31-H31 -> 1 | H31: =MID(Лист1!$B$29,6,1) -> 0 | I31: =IF((LEN($BB11)=0),"0",IF(AND(F31=$BB11,H31=$BD11),"5",IF(AND(G31=$BB11-$BD11,G31=0),"3",IF(AND(G31=$BB11-$BD11,OR(G31>0,G31<0)),"3",IF(AND(G31>0,$BB11-$BD11>0),"2",IF(AND(G31<0,$BB11-$BD11<0),"2","0")))))) -> 2 | J31: =MID(Лист1!$B$23,5,1) -> 1 | K31: =J31-L31 -> 1 | L31: =MID(Лист1!$B$23,6,1) -> 0 | M31: =IF((LEN($BB11)=0),"0",IF(AND(J31=$BB11,L31=$BD11),"5",IF(AND(K31=$BB11-$BD11,K31=0),"3",IF(AND(K31=$BB11-$BD11,OR(K31>0,K31<0)),"3",IF(AND(K31>0,$BB11-$BD11>0),"2",IF(AND(K31<0,$BB11-$BD11<0),"2","0")))))) -> 2 | N31: =MID(Лист1!$B$30,5,1) -> 1 | O31: =N31-P31 -> 0 | P31: =MID(Лист1!$B$30,6,1) -> 1 | Q31: =IF((LEN($BB11)=0),"0",IF(AND(N31=$BB11,P31=$BD11),"5",IF(AND(O31=$BB11-$BD11,O31=0),"3",IF(AND(O31=$BB11-$BD11,OR(O31>0,O31<0)),"3",IF(AND(O31>0,$BB11-$BD11>0),"2",IF(AND(O31<0,$BB11-$BD11<0),"2","0")))))) -> 0 | R31: =MID(Лист1!$B$24,5,1) -> 1 | S31: =R31-T31 -> 1 | T31: =MID(Лист1!$B$24,6,1) -> 0 | U31: =IF((LEN($BB11)=0),"0",IF(AND(R31=$BB11,T31=$BD11),"5",IF(AND(S31=$BB11-$BD11,S31=0),"3",IF(AND(S31=$BB11-$BD11,OR(S31>0,S31<0)),"3",IF(AND(S31>0,$BB11-$BD11>0),"2",IF(AND(S31<0,$BB11-$BD11<0),"2","0")))))) -> 2 | V31: =MID(Лист1!$B$31,5,1) -> 1 | W31: =V31-X31 -> 0 | X31: =MID(Лист1!$B$31,6,1) -> 1 | Y31: =IF((LEN($BB11)=0),"0",IF(AND(V31=$BB11,X31=$BD11),"5",IF(AND(W31=$BB11-$BD11,W31=0),"3",IF(AND(W31=$BB11-$BD11,OR(W31>0,W31<0)),"3",IF(AND(W31>0,$BB11-$BD11>0),"2",IF(AND(W31<0,$BB11-$BD11<0),"2","0")))))) -> 0 | Z31: =MID(Лист1!$B$25,5,1) -> 2 | AA31: =Z31-AB31 -> 2 | AB31: =MID(Лист1!$B$25,6,1) -> 0 | AC31: =IF((LEN($BB11)=0),"0",IF(AND(Z31=$BB11,AB31=$BD11),"5",IF(AND(AA31=$BB11-$BD11,AA31=0),"3",IF(AND(AA31=$BB11-$BD11,OR(AA31>0,AA31<0)),"3",IF(AND(AA31>0,$BB11-$BD11>0),"2",IF(AND(AA31<0,$BB11-$BD11<0),"2","0")))))) -> 5 | AD31: =MID(Лист1!$B$32,5,1) -> 1 | AE31: =AD31-AF31 -> -1 | AF31: =MID(Лист1!$B$32,6,1) -> 2 | AG31: =IF((LEN($BB11)=0),"0",IF(AND(AD31=$BB11,AF31=$BD11),"5",IF(AND(AE31=$BB11-$BD11,AE31=0),"3",IF(AND(AE31=$BB11-$BD11,OR(AE31>0,AE31<0)),"3",IF(AND(AE31>0,$BB11-$BD11>0),"2",IF(AND(AE31<0,$BB11-$BD11<0),"2","0")))))) -> 0 | AH31: =MID(Лист1!$B$26,5,1) -> 1 | AI31: =AH31-AJ31 -> 0 | AJ31: =MID(Лист1!$B$26,6,1) -> 1 | AK31: =IF((LEN($BB11)=0),"0",IF(AND(AH31=$BB11,AJ31=$BD11),"5",IF(AND(AI31=$BB11-$BD11,AI31=0),"3",IF(AND(AI31=$BB11-$BD11,OR(AI31>0,AI31<0)),"3",IF(AND(AI31>0,$BB11-$BD11>0),"2",IF(AND(AI31<0,$BB11-$BD11<0),"2","0")))))) -> 0 | AL31: =MID(Лист1!$B$33,5,1) -> 1 | AM31: =AL31-AN31 -> -1 | AN31: =MID(Лист1!$B$33,6,1) -> 2 | AO31: =IF((LEN($BB11)=0),"0",IF(AND(AL31=$BB11,AN31=$BD11),"5",IF(AND(AM31=$BB11-$BD11,AM31=0),"3",IF(AND(AM31=$BB11-$BD11,OR(AM31>0,AM31<0)),"3",IF(AND(AM31>0,$BB11-$BD11>0),"2",IF(AND(AM31<0,$BB11-$BD11<0),"2","0")))))) -> 0 | AP31: =MID(Лист1!$B$27,5,1) | AQ31: =AP31-AR31 -> #VALUE! | AR31: =MID(Лист1!$B$27,6,1) | AS31: =IF((LEN($BB11)=0),"0",IF(AND(AP31=$BB11,AR31=$BD11),"5",IF(AND(AQ31=$BB11-$BD11,AQ31=0),"3",IF(AND(AQ31=$BB11-$BD11,OR(AQ31>0,AQ31<0)),"3",IF(AND(AQ31>0,$BB11-$BD11>0),"2",IF(AND(AQ31<0,$BB11-$BD11<0),"2","0")))))) -> #VALUE! | AT31: =MID(Лист1!$B$34,5,1) -> 1 | AU31: =AT31-AV31 -> -1 | AV31: =MID(Лист1!$B$34,6,1) -> 2 | AW31: =IF((LEN($BB11)=0),"0",IF(AND(AT31=$BB11,AV31=$BD11),"5",IF(AND(AU31=$BB11-$BD11,AU31=0),"3",IF(AND(AU31=$BB11-$BD11,OR(AU31>0,AU31<0)),"3",IF(AND(AU31>0,$BB11-$BD11>0),"2",IF(AND(AU31<0,$BB11-$BD11<0),"2","0")))))) -> 0 | AX31: =AX11 -> Ростов - Спартак | BB31: =IF((LEN(BB11)=0)," ",BB11) -> 2 | BC31: =BB31-BD31 -> 2 | BD31: =IF((LEN(BD11)=0)," ",BD11) -> 0
B32: =MID(Лист1!$B$22,7,1) -> 3 | C32: =B32-D32 -> 2 | D32: =MID(Лист1!$B$22,8,1) -> 1 | E32: =IF((LEN($BB12)=0),"0",IF(AND(B32=$BB12,D32=$BD12),"5",IF(AND(C32=$BB12-$BD12,C32=0),"3",IF(AND(C32=$BB12-$BD12,OR(C32>0,C32<0)),"3",IF(AND(C32>0,$BB12-$BD12>0),"2",IF(AND(C32<0,$BB12-$BD12<0),"2","0")))))) -> 0 | F32: =MID(Лист1!$B$29,7,1) -> 3 | G32: =F32-H32 -> 2 | H32: =MID(Лист1!$B$29,8,1) -> 1 | I32: =IF((LEN($BB12)=0),"0",IF(AND(F32=$BB12,H32=$BD12),"5",IF(AND(G32=$BB12-$BD12,G32=0),"3",IF(AND(G32=$BB12-$BD12,OR(G32>0,G32<0)),"3",IF(AND(G32>0,$BB12-$BD12>0),"2",IF(AND(G32<0,$BB12-$BD12<0),"2","0")))))) -> 0 | J32: =MID(Лист1!$B$23,7,1) -> 2 | K32: =J32-L32 -> 1 | L32: =MID(Лист1!$B$23,8,1) -> 1 | M32: =IF((LEN($BB12)=0),"0",IF(AND(J32=$BB12,L32=$BD12),"5",IF(AND(K32=$BB12-$BD12,K32=0),"3",IF(AND(K32=$BB12-$BD12,OR(K32>0,K32<0)),"3",IF(AND(K32>0,$BB12-$BD12>0),"2",IF(AND(K32<0,$BB12-$BD12<0),"2","0")))))) -> 0 | N32: =MID(Лист1!$B$30,7,1) -> 2 | O32: =N32-P32 -> 1 | P32: =MID(Лист1!$B$30,8,1) -> 1 | Q32: =IF((LEN($BB12)=0),"0",IF(AND(N32=$BB12,P32=$BD12),"5",IF(AND(O32=$BB12-$BD12,O32=0),"3",IF(AND(O32=$BB12-$BD12,OR(O32>0,O32<0)),"3",IF(AND(O32>0,$BB12-$BD12>0),"2",IF(AND(O32<0,$BB12-$BD12<0),"2","0")))))) -> 0 | R32: =MID(Лист1!$B$24,7,1) -> 2 | S32: =R32-T32 -> 1 | T32: =MID(Лист1!$B$24,8,1) -> 1 | U32: =IF((LEN($BB12)=0),"0",IF(AND(R32=$BB12,T32=$BD12),"5",IF(AND(S32=$BB12-$BD12,S32=0),"3",IF(AND(S32=$BB12-$BD12,OR(S32>0,S32<0)),"3",IF(AND(S32>0,$BB12-$BD12>0),"2",IF(AND(S32<0,$BB12-$BD12<0),"2","0")))))) -> 0 | V32: =MID(Лист1!$B$31,7,1) -> 3 | W32: =V32-X32 -> 2 | X32: =MID(Лист1!$B$31,8,1) -> 1 | Y32: =IF((LEN($BB12)=0),"0",IF(AND(V32=$BB12,X32=$BD12),"5",IF(AND(W32=$BB12-$BD12,W32=0),"3",IF(AND(W32=$BB12-$BD12,OR(W32>0,W32<0)),"3",IF(AND(W32>0,$BB12-$BD12>0),"2",IF(AND(W32<0,$BB12-$BD12<0),"2","0")))))) -> 0 | Z32: =MID(Лист1!$B$25,7,1) -> 2 | AA32: =Z32-AB32 -> 1 | AB32: =MID(Лист1!$B$25,8,1) -> 1 | AC32: =IF((LEN($BB12)=0),"0",IF(AND(Z32=$BB12,AB32=$BD12),"5",IF(AND(AA32=$BB12-$BD12,AA32=0),"3",IF(AND(AA32=$BB12-$BD12,OR(AA32>0,AA32<0)),"3",IF(AND(AA32>0,$BB12-$BD12>0),"2",IF(AND(AA32<0,$BB12-$BD12<0),"2","0")))))) -> 0 | AD32: =MID(Лист1!$B$32,7,1) -> 2 | AE32: =AD32-AF32 -> 1 | AF32: =MID(Лист1!$B$32,8,1) -> 1 | AG32: =IF((LEN($BB12)=0),"0",IF(AND(AD32=$BB12,AF32=$BD12),"5",IF(AND(AE32=$BB12-$BD12,AE32=0),"3",IF(AND(AE32=$BB12-$BD12,OR(AE32>0,AE32<0)),"3",IF(AND(AE32>0,$BB12-$BD12>0),"2",IF(AND(AE32<0,$BB12-$BD12<0),"2","0")))))) -> 0 | AH32: =MID(Лист1!$B$26,7,1) -> 2 | AI32: =AH32-AJ32 -> 1 | AJ32: =MID(Лист1!$B$26,8,1) -> 1 | AK32: =IF((LEN($BB12)=0),"0",IF(AND(AH32=$BB12,AJ32=$BD12),"5",IF(AND(AI32=$BB12-$BD12,AI32=0),"3",IF(AND(AI32=$BB12-$BD12,OR(AI32>0,AI32<0)),"3",IF(AND(AI32>0,$BB12-$BD12>0),"2",IF(AND(AI32<0,$BB12-$BD12<0),"2","0")))))) -> 0 | AL32: =MID(Лист1!$B$33,7,1) -> 3 | AM32: =AL32-AN32 -> 2 | AN32: =MID(Лист1!$B$33,8,1) -> 1 | AO32: =IF((LEN($BB12)=0),"0",IF(AND(AL32=$BB12,AN32=$BD12),"5",IF(AND(AM32=$BB12-$BD12,AM32=0),"3",IF(AND(AM32=$BB12-$BD12,OR(AM32>0,AM32<0)),"3",IF(AND(AM32>0,$BB12-$BD12>0),"2",IF(AND(AM32<0,$BB12-$BD12<0),"2","0")))))) -> 0 | AP32: =MID(Лист1!$B$27,7,1) | AQ32: =AP32-AR32 -> #VALUE! | AR32: =MID(Лист1!$B$27,8,1) | AS32: =IF((LEN($BB12)=0),"0",IF(AND(AP32=$BB12,AR32=$BD12),"5",IF(AND(AQ32=$BB12-$BD12,AQ32=0),"3",IF(AND(AQ32=$BB12-$BD12,OR(AQ32>0,AQ32<0)),"3",IF(AND(AQ32>0,$BB12-$BD12>0),"2",IF(AND(AQ32<0,$BB12-$BD12<0),"2","0")))))) -> 0 | AT32: =MID(Лист1!$B$34,7,1) -> 3 | AU32: =AT32-AV32 -> 1 | AV32: =MID(Лист1!$B$34,8,1) -> 2 | AW32: =IF((LEN($BB12)=0),"0",IF(AND(AT32=$BB12,AV32=$BD12),"5",IF(AND(AU32=$BB12-$BD12,AU32=0),"3",IF(AND(AU32=$BB12-$BD12,OR(AU32>0,AU32<0)),"3",IF(AND(AU32>0,$BB12-$BD12>0),"2",IF(AND(AU32<0,$BB12-$BD12<0),"2","0")))))) -> 0 | AX32: =AX12 -> Барселона - Реал | BB32: =IF((LEN(BB12)=0)," ",BB12) | BC32: =BB32-BD32 -> #VALUE! | BD32: =IF((LEN(BD12)=0)," ",BD12)
B33: =MID(Лист1!$B$22,9,1) -> 1 | C33: =B33-D33 -> -1 | D33: =MID(Лист1!$B$22,10,1) -> 2 | E33: =IF((LEN($BB13)=0),"0",IF(AND(B33=$BB13,D33=$BD13),"5",IF(AND(C33=$BB13-$BD13,C33=0),"3",IF(AND(C33=$BB13-$BD13,OR(C33>0,C33<0)),"3",IF(AND(C33>0,$BB13-$BD13>0),"2",IF(AND(C33<0,$BB13-$BD13<0),"2","0")))))) -> 0 | F33: =MID(Лист1!$B$29,9,1) -> 1 | G33: =F33-H33 -> -1 | H33: =MID(Лист1!$B$29,10,1) -> 2 | I33: =IF((LEN($BB13)=0),"0",IF(AND(F33=$BB13,H33=$BD13),"5",IF(AND(G33=$BB13-$BD13,G33=0),"3",IF(AND(G33=$BB13-$BD13,OR(G33>0,G33<0)),"3",IF(AND(G33>0,$BB13-$BD13>0),"2",IF(AND(G33<0,$BB13-$BD13<0),"2","0")))))) -> 0 | J33: =MID(Лист1!$B$23,9,1) -> 1 | K33: =J33-L33 -> 1 | L33: =MID(Лист1!$B$23,10,1) -> 0 | M33: =IF((LEN($BB13)=0),"0",IF(AND(J33=$BB13,L33=$BD13),"5",IF(AND(K33=$BB13-$BD13,K33=0),"3",IF(AND(K33=$BB13-$BD13,OR(K33>0,K33<0)),"3",IF(AND(K33>0,$BB13-$BD13>0),"2",IF(AND(K33<0,$BB13-$BD13<0),"2","0")))))) -> 0 | N33: =MID(Лист1!$B$30,9,1) -> 1 | O33: =N33-P33 -> -1 | P33: =MID(Лист1!$B$30,10,1) -> 2 | Q33: =IF((LEN($BB13)=0),"0",IF(AND(N33=$BB13,P33=$BD13),"5",IF(AND(O33=$BB13-$BD13,O33=0),"3",IF(AND(O33=$BB13-$BD13,OR(O33>0,O33<0)),"3",IF(AND(O33>0,$BB13-$BD13>0),"2",IF(AND(O33<0,$BB13-$BD13<0),"2","0")))))) -> 0 | R33: =MID(Лист1!$B$24,9,1) -> 1 | S33: =R33-T33 -> -1 | T33: =MID(Лист1!$B$24,10,1) -> 2 | U33: =IF((LEN($BB13)=0),"0",IF(AND(R33=$BB13,T33=$BD13),"5",IF(AND(S33=$BB13-$BD13,S33=0),"3",IF(AND(S33=$BB13-$BD13,OR(S33>0,S33<0)),"3",IF(AND(S33>0,$BB13-$BD13>0),"2",IF(AND(S33<0,$BB13-$BD13<0),"2","0")))))) -> 0 | V33: =MID(Лист1!$B$31,9,1) -> 1 | W33: =V33-X33 -> -1 | X33: =MID(Лист1!$B$31,10,1) -> 2 | Y33: =IF((LEN($BB13)=0),"0",IF(AND(V33=$BB13,X33=$BD13),"5",IF(AND(W33=$BB13-$BD13,W33=0),"3",IF(AND(W33=$BB13-$BD13,OR(W33>0,W33<0)),"3",IF(AND(W33>0,$BB13-$BD13>0),"2",IF(AND(W33<0,$BB13-$BD13<0),"2","0")))))) -> 0 | Z33: =MID(Лист1!$B$25,9,1) -> 1 | AA33: =Z33-AB33 -> 0 | AB33: =MID(Лист1!$B$25,10,1) -> 1 | AC33: =IF((LEN($BB13)=0),"0",IF(AND(Z33=$BB13,AB33=$BD13),"5",IF(AND(AA33=$BB13-$BD13,AA33=0),"3",IF(AND(AA33=$BB13-$BD13,OR(AA33>0,AA33<0)),"3",IF(AND(AA33>0,$BB13-$BD13>0),"2",IF(AND(AA33<0,$BB13-$BD13<0),"2","0")))))) -> 0 | AD33: =MID(Лист1!$B$32,9,1) -> 1 | AE33: =AD33-AF33 -> -2 | AF33: =MID(Лист1!$B$32,10,1) -> 3 | AG33: =IF((LEN($BB13)=0),"0",IF(AND(AD33=$BB13,AF33=$BD13),"5",IF(AND(AE33=$BB13-$BD13,AE33=0),"3",IF(AND(AE33=$BB13-$BD13,OR(AE33>0,AE33<0)),"3",IF(AND(AE33>0,$BB13-$BD13>0),"2",IF(AND(AE33<0,$BB13-$BD13<0),"2","0")))))) -> 0 | AH33: =MID(Лист1!$B$26,9,1) -> 1 | AI33: =AH33-AJ33 -> -1 | AJ33: =MID(Лист1!$B$26,10,1) -> 2 | AK33: =IF((LEN($BB13)=0),"0",IF(AND(AH33=$BB13,AJ33=$BD13),"5",IF(AND(AI33=$BB13-$BD13,AI33=0),"3",IF(AND(AI33=$BB13-$BD13,OR(AI33>0,AI33<0)),"3",IF(AND(AI33>0,$BB13-$BD13>0),"2",IF(AND(AI33<0,$BB13-$BD13<0),"2","0")))))) -> 0 | AL33: =MID(Лист1!$B$33,9,1) -> 1 | AM33: =AL33-AN33 -> -1 | AN33: =MID(Лист1!$B$33,10,1) -> 2 | AO33: =IF((LEN($BB13)=0),"0",IF(AND(AL33=$BB13,AN33=$BD13),"5",IF(AND(AM33=$BB13-$BD13,AM33=0),"3",IF(AND(AM33=$BB13-$BD13,OR(AM33>0,AM33<0)),"3",IF(AND(AM33>0,$BB13-$BD13>0),"2",IF(AND(AM33<0,$BB13-$BD13<0),"2","0")))))) -> 0 | AP33: =MID(Лист1!$B$27,9,1) | AQ33: =AP33-AR33 -> #VALUE! | AR33: =MID(Лист1!$B$27,10,1) | AS33: =IF((LEN($BB13)=0),"0",IF(AND(AP33=$BB13,AR33=$BD13),"5",IF(AND(AQ33=$BB13-$BD13,AQ33=0),"3",IF(AND(AQ33=$BB13-$BD13,OR(AQ33>0,AQ33<0)),"3",IF(AND(AQ33>0,$BB13-$BD13>0),"2",IF(AND(AQ33<0,$BB13-$BD13<0),"2","0")))))) -> 0 | AT33: =MID(Лист1!$B$34,9,1) -> 0 | AU33: =AT33-AV33 -> -1 | AV33: =MID(Лист1!$B$34,10,1) -> 1 | AW33: =IF((LEN($BB13)=0),"0",IF(AND(AT33=$BB13,AV33=$BD13),"5",IF(AND(AU33=$BB13-$BD13,AU33=0),"3",IF(AND(AU33=$BB13-$BD13,OR(AU33>0,AU33<0)),"3",IF(AND(AU33>0,$BB13-$BD13>0),"2",IF(AND(AU33<0,$BB13-$BD13<0),"2","0")))))) -> 0 | AX33: =AX13 -> Лацио - Рома | BB33: =IF((LEN(BB13)=0)," ",BB13) | BC33: =BB33-BD33 -> #VALUE! | BD33: =IF((LEN(BD13)=0)," ",BD13)
