Workbook

Sheet Лист1
A1: Спартанцы IT
A2: Zapro100 | B2: 0211102112210121
A3: Efremys | B3: 1221113102210022
A4: Aragorn | B4: 1121012112211110
A8: Проф.прогноза
A9: saleh | B9: 1211212012110111
A10: aks | B10: 1321112102211111
A11: Эдмундо | B11: 1012112011210211
A12: Gambit13 | B12: 1011102112111021
A13: NecID | B13: 1121102111211200
A21: КСП "Торпедо"
A22: Korsar | B22: 1221113112210110
A23: dauren | B23: 1121102110101111
A24: shaydul | B24: 0111102112110121
A25: ЯД | B25: 0121202111112011
A26: ESI2607 | B26: 1211112112101221
A28: liga1.ru
A29: Ice | B29: 1221103112201121
A30: NORGE | B30: 1122112112211021
A31: PiF | B31: 1111113112201121
A32: Урал-72 | B32: 0120122113101110
A33: ZHEKA_KORCHAGIN | B33: 1221123112311220
A34: strelets | B34: 1111123201212121
A41: Спартакфорум
A42: Игрок 13 | B42: 10211310101122102112
A43: Игрок 14 | B43: 10211310101122102112
A44: Игрок 15 | B44: 10211310101122102112
A45: Игрок 16 | B45: 10211310101122102112
A46: Игрок 17 | B46: 10211310101122102112
A47: Игрок 18 | B47: 10211310101122102112
A48: ЗенитЗоне
A49: Игрок 13 | B49: 10211310101122102112
A50: Игрок 14 | B50: 10211310101122102112
A51: Игрок 15 | B51: 10211310101122102112
A52: Игрок 16 | B52: 10211310101122102112
A53: Игрок 17 | B53: 10211310101122102112
A54: Игрок 18 | B54: 10211310101122102112
A61: Проф.прогноза
A62: Игрок 19 | B62: 10211310101122102112
A63: Игрок 20 | B63: 10211310101122102112
A64: Игрок 21 | B64: 10211310101122102112
A65: Игрок 22 | B65: 10211310101122102112
A66: Игрок 23 | B66: 10211310101122102112
A67: Игрок 24 | B67: 10211310101122102112
A68: Команда 8
A69: Игрок 19 | B69: 10211310101122102112
A70: Игрок 20 | B70: 10211310101122102112
A71: Игрок 21 | B71: 10211310101122102112
A72: Игрок 22 | B72: 10211310101122102112
A73: Игрок 23 | B73: 10211310101122102112
A74: Игрок 24 | B74: 10211310101122102112
A81: Команда 9
A82: Игрок 13 | B82: 10211310101122102112
A83: Игрок 14 | B83: 10211310101122102112
A84: Игрок 15 | B84: 10211310101122102112
A85: Игрок 16 | B85: 10211310101122102112
A86: Игрок 17 | B86: 10211310101122102112
A87: Игрок 18 | B87: 10211310101122102112
A88: Команда 10
A89: Игрок 13 | B89: 10211310101122102112
A90: Игрок 14 | B90: 10211310101122102112
A91: Игрок 15 | B91: 10211310101122102112
A92: Игрок 16 | B92: 10211310101122102112
A93: Игрок 17 | B93: 10211310101122102112
A94: Игрок 18 | B94: 10211310101122102112
A101: Команда 11
A102: Игрок 19 | B102: 10211310101122102112
A103: Игрок 20 | B103: 10211310101122102112
A104: Игрок 21 | B104: 10211310101122102112
A105: Игрок 22 | B105: 10211310101122102112
A106: Игрок 23 | B106: 10211310101122102112
A107: Игрок 24 | B107: 10211310101122102112
A108: Команда 12
A109: Игрок 19 | B109: 10211310101122102112
A110: Игрок 20 | B110: 10211310101122102112
A111: Игрок 21 | B111: 10211310101122102112
A112: Игрок 22 | B112: 10211310101122102112
A113: Игрок 23 | B113: 10211310101122102112
A114: Игрок 24 | B114: 10211310101122102112

Sheet Турнир к 71- летию
B2: 1/2 1 игра
B4: =Лист1!A1 -> Спартанцы IT | H4: =B20+J20+R20+Z20+AH20+AP20 -> #VALUE!
B5: =Лист1!A8 -> Проф.прогноза | H5: =F20+N20+V20+AD20+AL20+AT20 -> #VALUE!
B7: =Лист1!A2 -> Zapro100 | F7: =Лист1!A9 -> saleh | J7: =Лист1!A3 -> Efremys | N7: =Лист1!A10 -> aks | R7: =Лист1!A4 -> Aragorn | V7: =Лист1!A11 -> Эдмундо | Z7: =Лист1!A5 -> 0 | AD7: =Лист1!A12 -> Gambit13 | AH7: =Лист1!A6 -> 0 | AL7: =Лист1!A13 -> NecID | AP7: =Лист1!A7 -> 0 | AT7: =Лист1!A14 -> 0 | BB7: Итог
B8: прогноз | E8: очки | F8: прогноз | I8: очки | J8: прогноз | M8: очки | N8: прогноз | Q8: очки | R8: прогноз | U8: очки | V8: прогноз | Y8: очки | Z8: прогноз | AC8: очки | AD8: прогноз | AG8: очки | AH8: прогноз | AK8: очки | AL8: прогноз | AO8: очки | AP8: прогноз | AS8: очки | AT8: прогноз | AW8: очки
B9: =MID(Лист1!$B$2,1,1) -> 0 | C9: =B9-D9 -> -2 | D9: =MID(Лист1!$B$2,2,1) -> 2 | E9: =IF((LEN($BB9)=0),"0",IF(AND(B9=$BB9,D9=$BD9),"5",IF(AND(C9=$BB9-$BD9,C9=0),"3",IF(AND(C9=$BB9-$BD9,OR(C9>0,C9<0)),"3",IF(AND(C9>0,$BB9-$BD9>0),"2",IF(AND(C9<0,$BB9-$BD9<0),"2","0")))))) -> 0 | F9: =MID(Лист1!$B$9,1,1) -> 1 | G9: =F9-H9 -> -1 | H9: =MID(Лист1!$B$9,2,1) -> 2 | I9: =IF((LEN($BB9)=0),"0",IF(AND(F9=$BB9,H9=$BD9),"5",IF(AND(G9=$BB9-$BD9,G9=0),"3",IF(AND(G9=$BB9-$BD9,OR(G9>0,G9<0)),"3",IF(AND(G9>0,$BB9-$BD9>0),"2",IF(AND(G9<0,$BB9-$BD9<0),"2","0")))))) -> 0 | J9: =MID(Лист1!$B$3,1,1) -> 1 | K9: =J9-L9 -> -1 | L9: =MID(Лист1!$B$3,2,1) -> 2 | M9: =IF((LEN($BB9)=0),"0",IF(AND(J9=$BB9,L9=$BD9),"5",IF(AND(K9=$BB9-$BD9,K9=0),"3",IF(AND(K9=$BB9-$BD9,OR(K9>0,K9<0)),"3",IF(AND(K9>0,$BB9-$BD9>0),"2",IF(AND(K9<0,$BB9-$BD9<0),"2","0")))))) -> 0 | N9: =MID(Лист1!$B$10,1,1) -> 1 | O9: =N9-P9 -> -2 | P9: =MID(Лист1!$B$10,2,1) -> 3 | Q9: =IF((LEN($BB9)=0),"0",IF(AND(N9=$BB9,P9=$BD9),"5",IF(AND(O9=$BB9-$BD9,O9=0),"3",IF(AND(O9=$BB9-$BD9,OR(O9>0,O9<0)),"3",IF(AND(O9>0,$BB9-$BD9>0),"2",IF(AND(O9<0,$BB9-$BD9<0),"2","0")))))) -> 0 | R9: =MID(Лист1!$B$4,1,1) -> 1 | S9: =R9-T9 -> 0 | T9: =MID(Лист1!$B$4,2,1) -> 1 | U9: =IF((LEN($BB9)=0),"0",IF(AND(R9=$BB9,T9=$BD9),"5",IF(AND(S9=$BB9-$BD9,S9=0),"3",IF(AND(S9=$BB9-$BD9,OR(S9>0,S9<0)),"3",IF(AND(S9>0,$BB9-$BD9>0),"2",IF(AND(S9<0,$BB9-$BD9<0),"2","0")))))) -> 3 | V9: =MID(Лист1!$B$11,1,1) -> 1 | W9: =V9-X9 -> 1 | X9: =MID(Лист1!$B$11,2,1) -> 0 | Y9: =IF((LEN($BB9)=0),"0",IF(AND(V9=$BB9,X9=$BD9),"5",IF(AND(W9=$BB9-$BD9,W9=0),"3",IF(AND(W9=$BB9-$BD9,OR(W9>0,W9<0)),"3",IF(AND(W9>0,$BB9-$BD9>0),"2",IF(AND(W9<0,$BB9-$BD9<0),"2","0")))))) -> 0 | Z9: =MID(Лист1!$B$5,1,1) | AA9: =Z9-AB9 -> #VALUE! | AB9: =MID(Лист1!$B$5,2,1) | AC9: =IF((LEN($BB9)=0),"0",IF(AND(Z9=$BB9,AB9=$BD9),"5",IF(AND(AA9=$BB9-$BD9,AA9=0),"3",IF(AND(AA9=$BB9-$BD9,OR(AA9>0,AA9<0)),"3",IF(AND(AA9>0,$BB9-$BD9>0),"2",IF(AND(AA9<0,$BB9-$BD9<0),"2","0")))))) -> #VALUE! | AD9: =MID(Лист1!$B$12,1,1) -> 1 | AE9: =AD9-AF9 -> 1 | AF9: =MID(Лист1!$B$12,2,1) -> 0 | AG9: =IF((LEN($BB9)=0),"0",IF(AND(AD9=$BB9,AF9=$BD9),"5",IF(AND(AE9=$BB9-$BD9,AE9=0),"3",IF(AND(AE9=$BB9-$BD9,OR(AE9>0,AE9<0)),"3",IF(AND(AE9>0,$BB9-$BD9>0),"2",IF(AND(AE9<0,$BB9-$BD9<0),"2","0")))))) -> 0 | AH9: =MID(Лист1!$B$6,1,1) | AI9: =AH9-AJ9 -> #VALUE! | AJ9: =MID(Лист1!$B$6,2,1) | AK9: =IF((LEN($BB9)=0),"0",IF(AND(AH9=$BB9,AJ9=$BD9),"5",IF(AND(AI9=$BB9-$BD9,AI9=0),"3",IF(AND(AI9=$BB9-$BD9,OR(AI9>0,AI9<0)),"3",IF(AND(AI9>0,$BB9-$BD9>0),"2",IF(AND(AI9<0,$BB9-$BD9<0),"2","0")))))) -> #VALUE! | AL9: =MID(Лист1!$B$13,1,1) -> 1 | AM9: =AL9-AN9 -> 0 | AN9: =MID(Лист1!$B$13,2,1) -> 1 | AO9: =IF((LEN($BB9)=0),"0",IF(AND(AL9=$BB9,AN9=$BD9),"5",IF(AND(AM9=$BB9-$BD9,AM9=0),"3",IF(AND(AM9=$BB9-$BD9,OR(AM9>0,AM9<0)),"3",IF(AND(AM9>0,$BB9-$BD9>0),"2",IF(AND(AM9<0,$BB9-$BD9<0),"2","0")))))) -> 3 | AP9: =MID(Лист1!$B$7,1,1) | AQ9: =AP9-AR9 -> #VALUE! | AR9: =MID(Лист1!$B$7,2,1) | AS9: =IF((LEN($BB9)=0),"0",IF(AND(AP9=$BB9,AR9=$BD9),"5",IF(AND(AQ9=$BB9-$BD9,AQ9=0),"3",IF(AND(AQ9=$BB9-$BD9,OR(AQ9>0,AQ9<0)),"3",IF(AND(AQ9>0,$BB9-$BD9>0),"2",IF(AND(AQ9<0,$BB9-$BD9<0),"2","0")))))) -> #VALUE! | AT9: =MID(Лист1!$B$14,1,1) | AU9: =AT9-AV9 -> #VALUE! | AV9: =MID(Лист1!$B$14,2,1) | AW9: =IF((LEN($BB9)=0),"0",IF(AND(AT9=$BB9,AV9=$BD9),"5",IF(AND(AU9=$BB9-$BD9,AU9=0),"3",IF(AND(AU9=$BB9-$BD9,OR(AU9>0,AU9<0)),"3",IF(AND(AU9>0,$BB9-$BD9>0),"2",IF(AND(AU9<0,$BB9-$BD9<0),"2","0")))))) -> #VALUE! | AX9: Дармштадт - Штутгарт | BB9: 2 | BD9: 2
B10: =MID(Лист1!$B$2,3,1) -> 1 | C10: =B10-D10 -> 0 | D10: =MID(Лист1!$B$2,4,1) -> 1 | E10: =IF((LEN($BB10)=0),"0",IF(AND(B10=$BB10,D10=$BD10),"5",IF(AND(C10=$BB10-$BD10,C10=0),"3",IF(AND(C10=$BB10-$BD10,OR(C10>0,C10<0)),"3",IF(AND(C10>0,$BB10-$BD10>0),"2",IF(AND(C10<0,$BB10-$BD10<0),"2","0")))))) -> 5 | F10: =MID(Лист1!$B$9,3,1) -> 1 | G10: =F10-H10 -> 0 | H10: =MID(Лист1!$B$9,4,1) -> 1 | I10: =IF((LEN($BB10)=0),"0",IF(AND(F10=$BB10,H10=$BD10),"5",IF(AND(G10=$BB10-$BD10,G10=0),"3",IF(AND(G10=$BB10-$BD10,OR(G10>0,G10<0)),"3",IF(AND(G10>0,$BB10-$BD10>0),"2",IF(AND(G10<0,$BB10-$BD10<0),"2","0")))))) -> 5 | J10: =MID(Лист1!$B$3,3,1) -> 2 | K10: =J10-L10 -> 1 | L10: =MID(Лист1!$B$3,4,1) -> 1 | M10: =IF((LEN($BB10)=0),"0",IF(AND(J10=$BB10,L10=$BD10),"5",IF(AND(K10=$BB10-$BD10,K10=0),"3",IF(AND(K10=$BB10-$BD10,OR(K10>0,K10<0)),"3",IF(AND(K10>0,$BB10-$BD10>0),"2",IF(AND(K10<0,$BB10-$BD10<0),"2","0")))))) -> 0 | N10: =MID(Лист1!$B$10,3,1) -> 2 | O10: =N10-P10 -> 1 | P10: =MID(Лист1!$B$10,4,1) -> 1 | Q10: =IF((LEN($BB10)=0),"0",IF(AND(N10=$BB10,P10=$BD10),"5",IF(AND(O10=$BB10-$BD10,O10=0),"3",IF(AND(O10=$BB10-$BD10,OR(O10>0,O10<0)),"3",IF(AND(O10>0,$BB10-$BD10>0),"2",IF(AND(O10<0,$BB10-$BD10<0),"2","0")))))) -> 0 | R10: =MID(Лист1!$B$4,3,1) -> 2 | S10: =R10-T10 -> 1 | T10: =MID(Лист1!$B$4,4,1) -> 1 | U10: =IF((LEN($BB10)=0),"0",IF(AND(R10=$BB10,T10=$BD10),"5",IF(AND(S10=$BB10-$BD10,S10=0),"3",IF(AND(S10=$BB10-$BD10,OR(S10>0,S10<0)),"3",IF(AND(S10>0,$BB10-$BD10>0),"2",IF(AND(S10<0,$BB10-$BD10<0),"2","0")))))) -> 0 | V10: =MID(Лист1!$B$11,3,1) -> 1 | W10: =V10-X10 -> -1 | X10: =MID(Лист1!$B$11,4,1) -> 2 | Y10: =IF((LEN($BB10)=0),"0",IF(AND(V10=$BB10,X10=$BD10),"5",IF(AND(W10=$BB10-$BD10,W10=0),"3",IF(AND(W10=$BB10-$BD10,OR(W10>0,W10<0)),"3",IF(AND(W10>0,$BB10-$BD10>0),"2",IF(AND(W10<0,$BB10-$BD10<0),"2","0")))))) -> 0 | Z10: =MID(Лист1!$B$5,3,1) | AA10: =Z10-AB10 -> #VALUE! | AB10: =MID(Лист1!$B$5,4,1) | AC10: =IF((LEN($BB10)=0),"0",IF(AND(Z10=$BB10,AB10=$BD10),"5",IF(AND(AA10=$BB10-$BD10,AA10=0),"3",IF(AND(AA10=$BB10-$BD10,OR(AA10>0,AA10<0)),"3",IF(AND(AA10>0,$BB10-$BD10>0),"2",IF(AND(AA10<0,$BB10-$BD10<0),"2","0")))))) -> #VALUE! | AD10: =MID(Лист1!$B$12,3,1) -> 1 | AE10: =AD10-AF10 -> 0 | AF10: =MID(Лист1!$B$12,4,1) -> 1 | AG10: =IF((LEN($BB10)=0),"0",IF(AND(AD10=$BB10,AF10=$BD10),"5",IF(AND(AE10=$BB10-$BD10,AE10=0),"3",IF(AND(AE10=$BB10-$BD10,OR(AE10>0,AE10<0)),"3",IF(AND(AE10>0,$BB10-$BD10>0),"2",IF(AND(AE10<0,$BB10-$BD10<0),"2","0")))))) -> 5 | AH10: =MID(Лист1!$B$6,3,1) | AI10: =AH10-AJ10 -> #VALUE! | AJ10: =MID(Лист1!$B$6,4,1) | AK10: =IF((LEN($BB10)=0),"0",IF(AND(AH10=$BB10,AJ10=$BD10),"5",IF(AND(AI10=$BB10-$BD10,AI10=0),"3",IF(AND(AI10=$BB10-$BD10,OR(AI10>0,AI10<0)),"3",IF(AND(AI10>0,$BB10-$BD10>0),"2",IF(AND(AI10<0,$BB10-$BD10<0),"2","0")))))) -> #VALUE! | AL10: =MID(Лист1!$B$13,3,1) -> 2 | AM10: =AL10-AN10 -> 1 | AN10: =MID(Лист1!$B$13,4,1) -> 1 | AO10: =IF((LEN($BB10)=0),"0",IF(AND(AL10=$BB10,AN10=$BD10),"5",IF(AND(AM10=$BB10-$BD10,AM10=0),"3",IF(AND(AM10=$BB10-$BD10,OR(AM10>0,AM10<0)),"3",IF(AND(AM10>0,$BB10-$BD10>0),"2",IF(AND(AM10<0,$BB10-$BD10<0),"2","0")))))) -> 0 | AP10: =MID(Лист1!$B$7,3,1) | AQ10: =AP10-AR10 -> #VALUE! | AR10: =MID(Лист1!$B$7,4,1) | AS10: =IF((LEN($BB10)=0),"0",IF(AND(AP10=$BB10,AR10=$BD10),"5",IF(AND(AQ10=$BB10-$BD10,AQ10=0),"3",IF(AND(AQ10=$BB10-$BD10,OR(AQ10>0,AQ10<0)),"3",IF(AND(AQ10>0,$BB10-$BD10>0),"2",IF(AND(AQ10<0,$BB10-$BD10<0),"2","0")))))) -> #VALUE! | AT10: =MID(Лист1!$B$14,3,1) | AU10: =AT10-AV10 -> #VALUE! | AV10: =MID(Лист1!$B$14,4,1) | AW10: =IF((LEN($BB10)=0),"0",IF(AND(AT10=$BB10,AV10=$BD10),"5",IF(AND(AU10=$BB10-$BD10,AU10=0),"3",IF(AND(AU10=$BB10-$BD10,OR(AU10>0,AU10<0)),"3",IF(AND(AU10>0,$BB10-$BD10>0),"2",IF(AND(AU10<0,$BB10-$BD10<0),"2","0")))))) -> #VALUE! | AX10: Ливерпуль - Тоттенхэм | BB10: 1 | BD10: 1
B11: =MID(Лист1!$B$2,5,1) -> 1 | C11: =B11-D11 -> 1 | D11: =MID(Лист1!$B$2,6,1) -> 0 | E11: =IF((LEN($BB11)=0),"0",IF(AND(B11=$BB11,D11=$BD11),"5",IF(AND(C11=$BB11-$BD11,C11=0),"3",IF(AND(C11=$BB11-$BD11,OR(C11>0,C11<0)),"3",IF(AND(C11>0,$BB11-$BD11>0),"2",IF(AND(C11<0,$BB11-$BD11<0),"2","0")))))) -> 2 | F11: =MID(Лист1!$B$9,5,1) -> 2 | G11: =F11-H11 -> 1 | H11: =MID(Лист1!$B$9,6,1) -> 1 | I11: =IF((LEN($BB11)=0),"0",IF(AND(F11=$BB11,H11=$BD11),"5",IF(AND(G11=$BB11-$BD11,G11=0),"3",IF(AND(G11=$BB11-$BD11,OR(G11>0,G11<0)),"3",IF(AND(G11>0,$BB11-$BD11>0),"2",IF(AND(G11<0,$BB11-$BD11<0),"2","0")))))) -> 2 | J11: =MID(Лист1!$B$3,5,1) -> 1 | K11: =J11-L11 -> 0 | L11: =MID(Лист1!$B$3,6,1) -> 1 | M11: =IF((LEN($BB11)=0),"0",IF(AND(J11=$BB11,L11=$BD11),"5",IF(AND(K11=$BB11-$BD11,K11=0),"3",IF(AND(K11=$BB11-$BD11,OR(K11>0,K11<0)),"3",IF(AND(K11>0,$BB11-$BD11>0),"2",IF(AND(K11<0,$BB11-$BD11<0),"2","0")))))) -> 0 | N11: =MID(Лист1!$B$10,5,1) -> 1 | O11: =N11-P11 -> 0 | P11: =MID(Лист1!$B$10,6,1) -> 1 | Q11: =IF((LEN($BB11)=0),"0",IF(AND(N11=$BB11,P11=$BD11),"5",IF(AND(O11=$BB11-$BD11,O11=0),"3",IF(AND(O11=$BB11-$BD11,OR(O11>0,O11<0)),"3",IF(AND(O11>0,$BB11-$BD11>0),"2",IF(AND(O11<0,$BB11-$BD11<0),"2","0")))))) -> 0 | R11: =MID(Лист1!$B$4,5,1) -> 0 | S11: =R11-T11 -> -1 | T11: =MID(Лист1!$B$4,6,1) -> 1 | U11: =IF((LEN($BB11)=0),"0",IF(AND(R11=$BB11,T11=$BD11),"5",IF(AND(S11=$BB11-$BD11,S11=0),"3",IF(AND(S11=$BB11-$BD11,OR(S11>0,S11<0)),"3",IF(AND(S11>0,$BB11-$BD11>0),"2",IF(AND(S11<0,$BB11-$BD11<0),"2","0")))))) -> 0 | V11: =MID(Лист1!$B$11,5,1) -> 1 | W11: =V11-X11 -> 0 | X11: =MID(Лист1!$B$11,6,1) -> 1 | Y11: =IF((LEN($BB11)=0),"0",IF(AND(V11=$BB11,X11=$BD11),"5",IF(AND(W11=$BB11-$BD11,W11=0),"3",IF(AND(W11=$BB11-$BD11,OR(W11>0,W11<0)),"3",IF(AND(W11>0,$BB11-$BD11>0),"2",IF(AND(W11<0,$BB11-$BD11<0),"2","0")))))) -> 0 | Z11: =MID(Лист1!$B$5,5,1) | AA11: =Z11-AB11 -> #VALUE! | AB11: =MID(Лист1!$B$5,6,1) | AC11: =IF((LEN($BB11)=0),"0",IF(AND(Z11=$BB11,AB11=$BD11),"5",IF(AND(AA11=$BB11-$BD11,AA11=0),"3",IF(AND(AA11=$BB11-$BD11,OR(AA11>0,AA11<0)),"3",IF(AND(AA11>0,$BB11-$BD11>0),"2",IF(AND(AA11<0,$BB11-$BD11<0),"2","0")))))) -> #VALUE! | AD11: =MID(Лист1!$B$12,5,1) -> 1 | AE11: =AD11-AF11 -> 1 | AF11: =MID(Лист1!$B$12,6,1) -> 0 | AG11: =IF((LEN($BB11)=0),"0",IF(AND(AD11=$BB11,AF11=$BD11),"5",IF(AND(AE11=$BB11-$BD11,AE11=0),"3",IF(AND(AE11=$BB11-$BD11,OR(AE11>0,AE11<0)),"3",IF(AND(AE11>0,$BB11-$BD11>0),"2",IF(AND(AE11<0,$BB11-$BD11<0),"2","0")))))) -> 2 | AH11: =MID(Лист1!$B$6,5,1) | AI11: =AH11-AJ11 -> #VALUE! | AJ11: =MID(Лист1!$B$6,6,1) | AK11: =IF((LEN($BB11)=0),"0",IF(AND(AH11=$BB11,AJ11=$BD11),"5",IF(AND(AI11=$BB11-$BD11,AI11=0),"3",IF(AND(AI11=$BB11-$BD11,OR(AI11>0,AI11<0)),"3",IF(AND(AI11>0,$BB11-$BD11>0),"2",IF(AND(AI11<0,$BB11-$BD11<0),"2","0")))))) -> #VALUE! | AL11: =MID(Лист1!$B$13,5,1) -> 1 | AM11: =AL11-AN11 -> 1 | AN11: =MID(Лист1!$B$13,6,1) -> 0 | AO11: =IF((LEN($BB11)=0),"0",IF(AND(AL11=$BB11,AN11=$BD11),"5",IF(AND(AM11=$BB11-$BD11,AM11=0),"3",IF(AND(AM11=$BB11-$BD11,OR(AM11>0,AM11<0)),"3",IF(AND(AM11>0,$BB11-$BD11>0),"2",IF(AND(AM11<0,$BB11-$BD11<0),"2","0")))))) -> 2 | AP11: =MID(Лист1!$B$7,5,1) | AQ11: =AP11-AR11 -> #VALUE! | AR11: =MID(Лист1!$B$7,6,1) | AS11: =IF((LEN($BB11)=0),"0",IF(AND(AP11=$BB11,AR11=$BD11),"5",IF(AND(AQ11=$BB11-$BD11,AQ11=0),"3",IF(AND(AQ11=$BB11-$BD11,OR(AQ11>0,AQ11<0)),"3",IF(AND(AQ11>0,$BB11-$BD11>0),"2",IF(AND(AQ11<0,$BB11-$BD11<0),"2","0")))))) -> #VALUE! | AT11: =MID(Лист1!$B$14,5,1) | AU11: =AT11-AV11 -> #VALUE! | AV11: =MID(Лист1!$B$14,6,1) | AW11: =IF((LEN($BB11)=0),"0",IF(AND(AT11=$BB11,AV11=$BD11),"5",IF(AND(AU11=$BB11-$BD11,AU11=0),"3",IF(AND(AU11=$BB11-$BD11,OR(AU11>0,AU11<0)),"3",IF(AND(AU11>0,$BB11-$BD11>0),"2",IF(AND(AU11<0,$BB11-$BD11<0),"2","0")))))) -> #VALUE! | AX11: Ростов - Спартак | BB11: 2 | BD11: 0
B12: =MID(Лист1!$B$2,7,1) -> 2 | C12: =B12-D12 -> 1 | D12: =MID(Лист1!$B$2,8,1) -> 1 | E12: =IF((LEN($BB12)=0),"0",IF(AND(B12=$BB12,D12=$BD12),"5",IF(AND(C12=$BB12-$BD12,C12=0),"3",IF(AND(C12=$BB12-$BD12,OR(C12>0,C12<0)),"3",IF(AND(C12>0,$BB12-$BD12>0),"2",IF(AND(C12<0,$BB12-$BD12<0),"2","0")))))) -> 0 | F12: =MID(Лист1!$B$9,7,1) -> 2 | G12: =F12-H12 -> 2 | H12: =MID(Лист1!$B$9,8,1) -> 0 | I12: =IF((LEN($BB12)=0),"0",IF(AND(F12=$BB12,H12=$BD12),"5",IF(AND(G12=$BB12-$BD12,G12=0),"3",IF(AND(G12=$BB12-$BD12,OR(G12>0,G12<0)),"3",IF(AND(G12>0,$BB12-$BD12>0),"2",IF(AND(G12<0,$BB12-$BD12<0),"2","0")))))) -> 0 | J12: =MID(Лист1!$B$3,7,1) -> 3 | K12: =J12-L12 -> 2 | L12: =MID(Лист1!$B$3,8,1) -> 1 | M12: =IF((LEN($BB12)=0),"0",IF(AND(J12=$BB12,L12=$BD12),"5",IF(AND(K12=$BB12-$BD12,K12=0),"3",IF(AND(K12=$BB12-$BD12,OR(K12>0,K12<0)),"3",IF(AND(K12>0,$BB12-$BD12>0),"2",IF(AND(K12<0,$BB12-$BD12<0),"2","0")))))) -> 0 | N12: =MID(Лист1!$B$10,7,1) -> 2 | O12: =N12-P12 -> 1 | P12: =MID(Лист1!$B$10,8,1) -> 1 | Q12: =IF((LEN($BB12)=0),"0",IF(AND(N12=$BB12,P12=$BD12),"5",IF(AND(O12=$BB12-$BD12,O12=0),"3",IF(AND(O12=$BB12-$BD12,OR(O12>0,O12<0)),"3",IF(AND(O12>0,$BB12-$BD12>0),"2",IF(AND(O12<0,$BB12-$BD12<0),"2","0")))))) -> 0 | R12: =MID(Лист1!$B$4,7,1) -> 2 | S12: =R12-T12 -> 1 | T12: =MID(Лист1!$B$4,8,1) -> 1 | U12: =IF((LEN($BB12)=0),"0",IF(AND(R12=$BB12,T12=$BD12),"5",IF(AND(S12=$BB12-$BD12,S12=0),"3",IF(AND(S12=$BB12-$BD12,OR(S12>0,S12<0)),"3",IF(AND(S12>0,$BB12-$BD12>0),"2",IF(AND(S12<0,$BB12-$BD12<0),"2","0")))))) -> 0 | V12: =MID(Лист1!$B$11,7,1) -> 2 | W12: =V12-X12 -> 2 | X12: =MID(Лист1!$B$11,8,1) -> 0 | Y12: =IF((LEN($BB12)=0),"0",IF(AND(V12=$BB12,X12=$BD12),"5",IF(AND(W12=$BB12-$BD12,W12=0),"3",IF(AND(W12=$BB12-$BD12,OR(W12>0,W12<0)),"3",IF(AND(W12>0,$BB12-$BD12>0),"2",IF(AND(W12<0,$BB12-$BD12<0),"2","0")))))) -> 0 | Z12: =MID(Лист1!$B$5,7,1) | AA12: =Z12-AB12 -> #VALUE! | AB12: =MID(Лист1!$B$5,8,1) | AC12: =IF((LEN($BB12)=0),"0",IF(AND(Z12=$BB12,AB12=$BD12),"5",IF(AND(AA12=$BB12-$BD12,AA12=0),"3",IF(AND(AA12=$BB12-$BD12,OR(AA12>0,AA12<0)),"3",IF(AND(AA12>0,$BB12-$BD12>0),"2",IF(AND(AA12<0,$BB12-$BD12<0),"2","0")))))) -> 0 | AD12: =MID(Лист1!$B$12,7,1) -> 2 | AE12: =AD12-AF12 -> 1 | AF12: =MID(Лист1!$B$12,8,1) -> 1 | AG12: =IF((LEN($BB12)=0),"0",IF(AND(AD12=$BB12,AF12=$BD12),"5",IF(AND(AE12=$BB12-$BD12,AE12=0),"3",IF(AND(AE12=$BB12-$BD12,OR(AE12>0,AE12<0)),"3",IF(AND(AE12>0,$BB12-$BD12>0),"2",IF(AND(AE12<0,$BB12-$BD12<0),"2","0")))))) -> 0 | AH12: =MID(Лист1!$B$6,7,1) | AI12: =AH12-AJ12 -> #VALUE! | AJ12: =MID(Лист1!$B$6,8,1) | AK12: =IF((LEN($BB12)=0),"0",IF(AND(AH12=$BB12,AJ12=$BD12),"5",IF(AND(AI12=$BB12-$BD12,AI12=0),"3",IF(AND(AI12=$BB12-$BD12,OR(AI12>0,AI12<0)),"3",IF(AND(AI12>0,$BB12-$BD12>0),"2",IF(AND(AI12<0,$BB12-$BD12<0),"2","0")))))) -> 0 | AL12: =MID(Лист1!$B$13,7,1) -> 2 | AM12: =AL12-AN12 -> 1 | AN12: =MID(Лист1!$B$13,8,1) -> 1 | AO12: =IF((LEN($BB12)=0),"0",IF(AND(AL12=$BB12,AN12=$BD12),"5",IF(AND(AM12=$BB12-$BD12,AM12=0),"3",IF(AND(AM12=$BB12-$BD12,OR(AM12>0,AM12<0)),"3",IF(AND(AM12>0,$BB12-$BD12>0),"2",IF(AND(AM12<0,$BB12-$BD12<0),"2","0")))))) -> 0 | AP12: =MID(Лист1!$B$7,7,1) | AQ12: =AP12-AR12 -> #VALUE! | AR12: =MID(Лист1!$B$7,8,1) | AS12: =IF((LEN($BB12)=0),"0",IF(AND(AP12=$BB12,AR12=$BD12),"5",IF(AND(AQ12=$BB12-$BD12,AQ12=0),"3",IF(AND(AQ12=$BB12-$BD12,OR(AQ12>0,AQ12<0)),"3",IF(AND(AQ12>0,$BB12-$BD12>0),"2",IF(AND(AQ12<0,$BB12-$BD12<0),"2","0")))))) -> 0 | AT12: =MID(Лист1!$B$14,7,1) | AU12: =AT12-AV12 -> #VALUE! | AV12: =MID(Лист1!$B$14,8,1) | AW12: =IF((LEN($BB12)=0),"0",IF(AND(AT12=$BB12,AV12=$BD12),"5",IF(AND(AU12=$BB12-$BD12,AU12=0),"3",IF(AND(AU12=$BB12-$BD12,OR(AU12>0,AU12<0)),"3",IF(AND(AU12>0,$BB12-$BD12>0),"2",IF(AND(AU12<0,$BB12-$BD12<0),"2","0")))))) -> 0 | AX12: Барселона - Реал
B13: =MID(Лист1!$B$2,9,1) -> 1 | C13: =B13-D13 -> -1 | D13: =MID(Лист1!$B$2,10,1) -> 2 | E13: =IF((LEN($BB13)=0),"0",IF(AND(B13=$BB13,D13=$BD13),"5",IF(AND(C13=$BB13-$BD13,C13=0),"3",IF(AND(C13=$BB13-$BD13,OR(C13>0,C13<0)),"3",IF(AND(C13>0,$BB13-$BD13>0),"2",IF(AND(C13<0,$BB13-$BD13<0),"2","0")))))) -> 0 | F13: =MID(Лист1!$B$9,9,1) -> 1 | G13: =F13-H13 -> -1 | H13: =MID(Лист1!$B$9,10,1) -> 2 | I13: =IF((LEN($BB13)=0),"0",IF(AND(F13=$BB13,H13=$BD13),"5",IF(AND(G13=$BB13-$BD13,G13=0),"3",IF(AND(G13=$BB13-$BD13,OR(G13>0,G13<0)),"3",IF(AND(G13>0,$BB13-$BD13>0),"2",IF(AND(G13<0,$BB13-$BD13<0),"2","0")))))) -> 0 | J13: =MID(Лист1!$B$3,9,1) -> 0 | K13: =J13-L13 -> -2 | L13: =MID(Лист1!$B$3,10,1) -> 2 | M13: =IF((LEN($BB13)=0),"0",IF(AND(J13=$BB13,L13=$BD13),"5",IF(AND(K13=$BB13-$BD13,K13=0),"3",IF(AND(K13=$BB13-$BD13,OR(K13>0,K13<0)),"3",IF(AND(K13>0,$BB13-$BD13>0),"2",IF(AND(K13<0,$BB13-$BD13<0),"2","0")))))) -> 0 | N13: =MID(Лист1!$B$10,9,1) -> 0 | O13: =N13-P13 -> -2 | P13: =MID(Лист1!$B$10,10,1) -> 2 | Q13: =IF((LEN($BB13)=0),"0",IF(AND(N13=$BB13,P13=$BD13),"5",IF(AND(O13=$BB13-$BD13,O13=0),"3",IF(AND(O13=$BB13-$BD13,OR(O13>0,O13<0)),"3",IF(AND(O13>0,$BB13-$BD13>0),"2",IF(AND(O13<0,$BB13-$BD13<0),"2","0")))))) -> 0 | R13: =MID(Лист1!$B$4,9,1) -> 1 | S13: =R13-T13 -> -1 | T13: =MID(Лист1!$B$4,10,1) -> 2 | U13: =IF((LEN($BB13)=0),"0",IF(AND(R13=$BB13,T13=$BD13),"5",IF(AND(S13=$BB13-$BD13,S13=0),"3",IF(AND(S13=$BB13-$BD13,OR(S13>0,S13<0)),"3",IF(AND(S13>0,$BB13-$BD13>0),"2",IF(AND(S13<0,$BB13-$BD13<0),"2","0")))))) -> 0 | V13: =MID(Лист1!$B$11,9,1) -> 1 | W13: =V13-X13 -> 0 | X13: =MID(Лист1!$B$11,10,1) -> 1 | Y13: =IF((LEN($BB13)=0),"0",IF(AND(V13=$BB13,X13=$BD13),"5",IF(AND(W13=$BB13-$BD13,W13=0),"3",IF(AND(W13=$BB13-$BD13,OR(W13>0,W13<0)),"3",IF(AND(W13>0,$BB13-$BD13>0),"2",IF(AND(W13<0,$BB13-$BD13<0),"2","0")))))) -> 0 | Z13: =MID(Лист1!$B$5,9,1) | AA13: =Z13-AB13 -> #VALUE! | AB13: =MID(Лист1!$B$5,10,1) | AC13: =IF((LEN($BB13)=0),"0",IF(AND(Z13=$BB13,AB13=$BD13),"5",IF(AND(AA13=$BB13-$BD13,AA13=0),"3",IF(AND(AA13=$BB13-$BD13,OR(AA13>0,AA13<0)),"3",IF(AND(AA13>0,$BB13-$BD13>0),"2",IF(AND(AA13<0,$BB13-$BD13<0),"2","0")))))) -> 0 | AD13: =MID(Лист1!$B$12,9,1) -> 1 | AE13: =AD13-AF13 -> -1 | AF13: =MID(Лист1!$B$12,10,1) -> 2 | AG13: =IF((LEN($BB13)=0),"0",IF(AND(AD13=$BB13,AF13=$BD13),"5",IF(AND(AE13=$BB13-$BD13,AE13=0),"3",IF(AND(AE13=$BB13-$BD13,OR(AE13>0,AE13<0)),"3",IF(AND(AE13>0,$BB13-$BD13>0),"2",IF(AND(AE13<0,$BB13-$BD13<0),"2","0")))))) -> 0 | AH13: =MID(Лист1!$B$6,9,1) | AI13: =AH13-AJ13 -> #VALUE! | AJ13: =MID(Лист1!$B$6,10,1) | AK13: =IF((LEN($BB13)=0),"0",IF(AND(AH13=$BB13,AJ13=$BD13),"5",IF(AND(AI13=$BB13-$BD13,AI13=0),"3",IF(AND(AI13=$BB13-$BD13,OR(AI13>0,AI13<0)),"3",IF(AND(AI13>0,$BB13-$BD13>0),"2",IF(AND(AI13<0,$BB13-$BD13<0),"2","0")))))) -> 0 | AL13: =MID(Лист1!$B$13,9,1) -> 1 | AM13: =AL13-AN13 -> 0 | AN13: =MID(Лист1!$B$13,10,1) -> 1 | AO13: =IF((LEN($BB13)=0),"0",IF(AND(AL13=$BB13,AN13=$BD13),"5",IF(AND(AM13=$BB13-$BD13,AM13=0),"3",IF(AND(AM13=$BB13-$BD13,OR(AM13>0,AM13<0)),"3",IF(AND(AM13>0,$BB13-$BD13>0),"2",IF(AND(AM13<0,$BB13-$BD13<0),"2","0")))))) -> 0 | AP13: =MID(Лист1!$B$7,9,1) | AQ13: =AP13-AR13 -> #VALUE! | AR13: =MID(Лист1!$B$7,10,1) | AS13: =IF((LEN($BB13)=0),"0",IF(AND(AP13=$BB13,AR13=$BD13),"5",IF(AND(AQ13=$BB13-$BD13,AQ13=0),"3",IF(AND(AQ13=$BB13-$BD13,OR(AQ13>0,AQ13<0)),"3",IF(AND(AQ13>0,$BB13-$BD13>0),"2",IF(AND(AQ13<0,$BB13-$BD13<0),"2","0")))))) -> 0 | AT13: =MID(Лист1!$B$14,9,1) | AU13: =AT13-AV13 -> #VALUE! | AV13: =MID(Лист1!$B$14,10,1) | AW13: =IF((LEN($BB13)=0),"0",IF(AND(AT13=$BB13,AV13=$BD13),"5",IF(AND(AU13=$BB13-$BD13,AU13=0),"3",IF(AND(AU13=$BB13-$BD13,OR(AU13>0,AU13<0)),"3",IF(AND(AU13>0,$BB13-$BD13>0),"2",IF(AND(AU13<0,$BB13-$BD13<0),"2","0")))))) -> 0 | AX13: Лацио - Рома
B14: =MID(Лист1!$B$2,11,1) -> 2 | C14: =B14-D14 -> 1 | D14: =MID(Лист1!$B$2,12,1) -> 1 | E14: =IF((LEN($BB14)=0),"0",IF(AND(B14=$BB14,D14=$BD14),"5",IF(AND(C14=$BB14-$BD14,C14=0),"3",IF(AND(C14=$BB14-$BD14,OR(C14>0,C14<0)),"3",IF(AND(C14>0,$BB14-$BD14>0),"2",IF(AND(C14<0,$BB14-$BD14<0),"2","0")))))) -> 0 | F14: =MID(Лист1!$B$9,11,1) -> 1 | G14: =F14-H14 -> 0 | H14: =MID(Лист1!$B$9,12,1) -> 1 | I14: =IF((LEN($BB14)=0),"0",IF(AND(F14=$BB14,H14=$BD14),"5",IF(AND(G14=$BB14-$BD14,G14=0),"3",IF(AND(G14=$BB14-$BD14,OR(G14>0,G14<0)),"3",IF(AND(G14>0,$BB14-$BD14>0),"2",IF(AND(G14<0,$BB14-$BD14<0),"2","0")))))) -> 0 | J14: =MID(Лист1!$B$3,11,1) -> 2 | K14: =J14-L14 -> 1 | L14: =MID(Лист1!$B$3,12,1) -> 1 | M14: =IF((LEN($BB14)=0),"0",IF(AND(J14=$BB14,L14=$BD14),"5",IF(AND(K14=$BB14-$BD14,K14=0),"3",IF(AND(K14=$BB14-$BD14,OR(K14>0,K14<0)),"3",IF(AND(K14>0,$BB14-$BD14>0),"2",IF(AND(K14<0,$BB14-$BD14<0),"2","0")))))) -> 0 | N14: =MID(Лист1!$B$10,11,1) -> 2 | O14: =N14-P14 -> 1 | P14: =MID(Лист1!$B$10,12,1) -> 1 | Q14: =IF((LEN($BB14)=0),"0",IF(AND(N14=$BB14,P14=$BD14),"5",IF(AND(O14=$BB14-$BD14,O14=0),"3",IF(AND(O14=$BB14-$BD14,OR(O14>0,O14<0)),"3",IF(AND(O14>0,$BB14-$BD14>0),"2",IF(AND(O14<0,$BB14-$BD14<0),"2","0")))))) -> 0 | R14: =MID(Лист1!$B$4,11,1) -> 2 | S14: =R14-T14 -> 1 | T14: =MID(Лист1!$B$4,12,1) -> 1 | U14: =IF((LEN($BB14)=0),"0",IF(AND(R14=$BB14,T14=$BD14),"5",IF(AND(S14=$BB14-$BD14,S14=0),"3",IF(AND(S14=$BB14-$BD14,OR(S14>0,S14<0)),"3",IF(AND(S14>0,$BB14-$BD14>0),"2",IF(AND(S14<0,$BB14-$BD14<0),"2","0")))))) -> 0 | V14: =MID(Лист1!$B$11,11,1) -> 2 | W14: =V14-X14 -> 1 | X14: =MID(Лист1!$B$11,12,1) -> 1 | Y14: =IF((LEN($BB14)=0),"0",IF(AND(V14=$BB14,X14=$BD14),"5",IF(AND(W14=$BB14-$BD14,W14=0),"3",IF(AND(W14=$BB14-$BD14,OR(W14>0,W14<0)),"3",IF(AND(W14>0,$BB14-$BD14>0),"2",IF(AND(W14<0,$BB14-$BD14<0),"2","0")))))) -> 0 | Z14: =MID(Лист1!$B$5,11,1) | AA14: =Z14-AB14 -> #VALUE! | AB14: =MID(Лист1!$B$5,12,1) | AC14: =IF((LEN($BB14)=0),"0",IF(AND(Z14=$BB14,AB14=$BD14),"5",IF(AND(AA14=$BB14-$BD14,AA14=0),"3",IF(AND(AA14=$BB14-$BD14,OR(AA14>0,AA14<0)),"3",IF(AND(AA14>0,$BB14-$BD14>0),"2",IF(AND(AA14<0,$BB14-$BD14<0),"2","0")))))) -> 0 | AD14: =MID(Лист1!$B$12,11,1) -> 1 | AE14: =AD14-AF14 -> 0 | AF14: =MID(Лист1!$B$12,12,1) -> 1 | AG14: =IF((LEN($BB14)=0),"0",IF(AND(AD14=$BB14,AF14=$BD14),"5",IF(AND(AE14=$BB14-$BD14,AE14=0),"3",IF(AND(AE14=$BB14-$BD14,OR(AE14>0,AE14<0)),"3",IF(AND(AE14>0,$BB14-$BD14>0),"2",IF(AND(AE14<0,$BB14-$BD14<0),"2","0")))))) -> 0 | AH14: =MID(Лист1!$B$6,11,1) | AI14: =AH14-AJ14 -> #VALUE! | AJ14: =MID(Лист1!$B$6,12,1) | AK14: =IF((LEN($BB14)=0),"0",IF(AND(AH14=$BB14,AJ14=$BD14),"5",IF(AND(AI14=$BB14-$BD14,AI14=0),"3",IF(AND(AI14=$BB14-$BD14,OR(AI14>0,AI14<0)),"3",IF(AND(AI14>0,$BB14-$BD14>0),"2",IF(AND(AI14<0,$BB14-$BD14<0),"2","0")))))) -> 0 | AL14: =MID(Лист1!$B$13,11,1) -> 2 | AM14: =AL14-AN14 -> 1 | AN14: =MID(Лист1!$B$13,12,1) -> 1 | AO14: =IF((LEN($BB14)=0),"0",IF(AND(AL14=$BB14,AN14=$BD14),"5",IF(AND(AM14=$BB14-$BD14,AM14=0),"3",IF(AND(AM14=$BB14-$BD14,OR(AM14>0,AM14<0)),"3",IF(AND(AM14>0,$BB14-$BD14>0),"2",IF(AND(AM14<0,$BB14-$BD14<0),"2","0")))))) -> 0 | AP14: =MID(Лист1!$B$7,11,1) | AQ14: =AP14-AR14 -> #VALUE! | AR14: =MID(Лист1!$B$7,12,1) | AS14: =IF((LEN($BB14)=0),"0",IF(AND(AP14=$BB14,AR14=$BD14),"5",IF(AND(AQ14=$BB14-$BD14,AQ14=0),"3",IF(AND(AQ14=$BB14-$BD14,OR(AQ14>0,AQ14<0)),"3",IF(AND(AQ14>0,$BB14-$BD14>0),"2",IF(AND(AQ14<0,$BB14-$BD14<0),"2","0")))))) -> 0 | AT14: =MID(Лист1!$B$14,11,1) | AU14: =AT14-AV14 -> #VALUE! | AV14: =MID(Лист1!$B$14,12,1) | AW14: =IF((LEN($BB14)=0),"0",IF(AND(AT14=$BB14,AV14=$BD14),"5",IF(AND(AU14=$BB14-$BD14,AU14=0),"3",IF(AND(AU14=$BB14-$BD14,OR(AU14>0,AU14<0)),"3",IF(AND(AU14>0,$BB14-$BD14>0),"2",IF(AND(AU14<0,$BB14-$BD14<0),"2","0")))))) -> 0 | AX14: Боруссия М - Герта
B15: =MID(Лист1!$B$2,13,1) -> 0 | C15: =B15-D15 -> -1 | D15: =MID(Лист1!$B$2,14,1) -> 1 | E15: =IF((LEN($BB15)=0),"0",IF(AND(B15=$BB15,D15=$BD15),"5",IF(AND(C15=$BB15-$BD15,C15=0),"3",IF(AND(C15=$BB15-$BD15,OR(C15>0,C15<0)),"3",IF(AND(C15>0,$BB15-$BD15>0),"2",IF(AND(C15<0,$BB15-$BD15<0),"2","0")))))) -> 0 | F15: =MID(Лист1!$B$9,13,1) -> 0 | G15: =F15-H15 -> -1 | H15: =MID(Лист1!$B$9,14,1) -> 1 | I15: =IF((LEN($BB15)=0),"0",IF(AND(F15=$BB15,H15=$BD15),"5",IF(AND(G15=$BB15-$BD15,G15=0),"3",IF(AND(G15=$BB15-$BD15,OR(G15>0,G15<0)),"3",IF(AND(G15>0,$BB15-$BD15>0),"2",IF(AND(G15<0,$BB15-$BD15<0),"2","0")))))) -> 0 | J15: =MID(Лист1!$B$3,13,1) -> 0 | K15: =J15-L15 -> 0 | L15: =MID(Лист1!$B$3,14,1) -> 0 | M15: =IF((LEN($BB15)=0),"0",IF(AND(J15=$BB15,L15=$BD15),"5",IF(AND(K15=$BB15-$BD15,K15=0),"3",IF(AND(K15=$BB15-$BD15,OR(K15>0,K15<0)),"3",IF(AND(K15>0,$BB15-$BD15>0),"2",IF(AND(K15<0,$BB15-$BD15<0),"2","0")))))) -> 0 | N15: =MID(Лист1!$B$10,13,1) -> 1 | O15: =N15-P15 -> 0 | P15: =MID(Лист1!$B$10,14,1) -> 1 | Q15: =IF((LEN($BB15)=0),"0",IF(AND(N15=$BB15,P15=$BD15),"5",IF(AND(O15=$BB15-$BD15,O15=0),"3",IF(AND(O15=$BB15-$BD15,OR(O15>0,O15<0)),"3",IF(AND(O15>0,$BB15-$BD15>0),"2",IF(AND(O15<0,$BB15-$BD15<0),"2","0")))))) -> 0 | R15: =MID(Лист1!$B$4,13,1) -> 1 | S15: =R15-T15 -> 0 | T15: =MID(Лист1!$B$4,14,1) -> 1 | U15: =IF((LEN($BB15)=0),"0",IF(AND(R15=$BB15,T15=$BD15),"5",IF(AND(S15=$BB15-$BD15,S15=0),"3",IF(AND(S15=$BB15-$BD15,OR(S15>0,S15<0)),"3",IF(AND(S15>0,$BB15-$BD15>0),"2",IF(AND(S15<0,$BB15-$BD15<0),"2","0")))))) -> 0 | V15: =MID(Лист1!$B$11,13,1) -> 0 | W15: =V15-X15 -> -2 | X15: =MID(Лист1!$B$11,14,1) -> 2 | Y15: =IF((LEN($BB15)=0),"0",IF(AND(V15=$BB15,X15=$BD15),"5",IF(AND(W15=$BB15-$BD15,W15=0),"3",IF(AND(W15=$BB15-$BD15,OR(W15>0,W15<0)),"3",IF(AND(W15>0,$BB15-$BD15>0),"2",IF(AND(W15<0,$BB15-$BD15<0),"2","0")))))) -> 0 | Z15: =MID(Лист1!$B$5,13,1) | AA15: =Z15-AB15 -> #VALUE! | AB15: =MID(Лист1!$B$5,14,1) | AC15: =IF((LEN($BB15)=0),"0",IF(AND(Z15=$BB15,AB15=$BD15),"5",IF(AND(AA15=$BB15-$BD15,AA15=0),"3",IF(AND(AA15=$BB15-$BD15,OR(AA15>0,AA15<0)),"3",IF(AND(AA15>0,$BB15-$BD15>0),"2",IF(AND(AA15<0,$BB15-$BD15<0),"2","0")))))) -> 0 | AD15: =MID(Лист1!$B$12,13,1) -> 1 | AE15: =AD15-AF15 -> 1 | AF15: =MID(Лист1!$B$12,14,1) -> 0 | AG15: =IF((LEN($BB15)=0),"0",IF(AND(AD15=$BB15,AF15=$BD15),"5",IF(AND(AE15=$BB15-$BD15,AE15=0),"3",IF(AND(AE15=$BB15-$BD15,OR(AE15>0,AE15<0)),"3",IF(AND(AE15>0,$BB15-$BD15>0),"2",IF(AND(AE15<0,$BB15-$BD15<0),"2","0")))))) -> 0 | AH15: =MID(Лист1!$B$6,13,1) | AI15: =AH15-AJ15 -> #VALUE! | AJ15: =MID(Лист1!$B$6,14,1) | AK15: =IF((LEN($BB15)=0),"0",IF(AND(AH15=$BB15,AJ15=$BD15),"5",IF(AND(AI15=$BB15-$BD15,AI15=0),"3",IF(AND(AI15=$BB15-$BD15,OR(AI15>0,AI15<0)),"3",IF(AND(AI15>0,$BB15-$BD15>0),"2",IF(AND(AI15<0,$BB15-$BD15<0),"2","0")))))) -> 0 | AL15: =MID(Лист1!$B$13,13,1) -> 1 | AM15: =AL15-AN15 -> -1 | AN15: =MID(Лист1!$B$13,14,1) -> 2 | AO15: =IF((LEN($BB15)=0),"0",IF(AND(AL15=$BB15,AN15=$BD15),"5",IF(AND(AM15=$BB15-$BD15,AM15=0),"3",IF(AND(AM15=$BB15-$BD15,OR(AM15>0,AM15<0)),"3",IF(AND(AM15>0,$BB15-$BD15>0),"2",IF(AND(AM15<0,$BB15-$BD15<0),"2","0")))))) -> 0 | AP15: =MID(Лист1!$B$7,13,1) | AQ15: =AP15-AR15 -> #VALUE! | AR15: =MID(Лист1!$B$7,14,1) | AS15: =IF((LEN($BB15)=0),"0",IF(AND(AP15=$BB15,AR15=$BD15),"5",IF(AND(AQ15=$BB15-$BD15,AQ15=0),"3",IF(AND(AQ15=$BB15-$BD15,OR(AQ15>0,AQ15<0)),"3",IF(AND(AQ15>0,$BB15-$BD15>0),"2",IF(AND(AQ15<0,$BB15-$BD15<0),"2","0")))))) -> 0 | AT15: =MID(Лист1!$B$14,13,1) | AU15: =AT15-AV15 -> #VALUE! | AV15: =MID(Лист1!$B$14,14,1) | AW15: =IF((LEN($BB15)=0),"0",IF(AND(AT15=$BB15,AV15=$BD15),"5",IF(AND(AU15=$BB15-$BD15,AU15=0),"3",IF(AND(AU15=$BB15-$BD15,OR(AU15>0,AU15<0)),"3",IF(AND(AU15>0,$BB15-$BD15>0),"2",IF(AND(AU15<0,$BB15-$BD15<0),"2","0")))))) -> 0 | AX15: Бастия - Марсель
B16: =MID(Лист1!$B$2,15,1) -> 2 | C16: =B16-D16 -> 1 | D16: =MID(Лист1!$B$2,16,1) -> 1 | E16: =IF((LEN($BB16)=0),"0",IF(AND(B16=$BB16,D16=$BD16),"5",IF(AND(C16=$BB16-$BD16,C16=0),"3",IF(AND(C16=$BB16-$BD16,OR(C16>0,C16<0)),"3",IF(AND(C16>0,$BB16-$BD16>0),"2",IF(AND(C16<0,$BB16-$BD16<0),"2","0")))))) -> 0 | F16: =MID(Лист1!$B$9,15,1) -> 1 | G16: =F16-H16 -> 0 | H16: =MID(Лист1!$B$9,16,1) -> 1 | I16: =IF((LEN($BB16)=0),"0",IF(AND(F16=$BB16,H16=$BD16),"5",IF(AND(G16=$BB16-$BD16,G16=0),"3",IF(AND(G16=$BB16-$BD16,OR(G16>0,G16<0)),"3",IF(AND(G16>0,$BB16-$BD16>0),"2",IF(AND(G16<0,$BB16-$BD16<0),"2","0")))))) -> 0 | J16: =MID(Лист1!$B$3,15,1) -> 2 | K16: =J16-L16 -> 0 | L16: =MID(Лист1!$B$3,16,1) -> 2 | M16: =IF((LEN($BB16)=0),"0",IF(AND(J16=$BB16,L16=$BD16),"5",IF(AND(K16=$BB16-$BD16,K16=0),"3",IF(AND(K16=$BB16-$BD16,OR(K16>0,K16<0)),"3",IF(AND(K16>0,$BB16-$BD16>0),"2",IF(AND(K16<0,$BB16-$BD16<0),"2","0")))))) -> 0 | N16: =MID(Лист1!$B$10,15,1) -> 1 | O16: =N16-P16 -> 0 | P16: =MID(Лист1!$B$10,16,1) -> 1 | Q16: =IF((LEN($BB16)=0),"0",IF(AND(N16=$BB16,P16=$BD16),"5",IF(AND(O16=$BB16-$BD16,O16=0),"3",IF(AND(O16=$BB16-$BD16,OR(O16>0,O16<0)),"3",IF(AND(O16>0,$BB16-$BD16>0),"2",IF(AND(O16<0,$BB16-$BD16<0),"2","0")))))) -> 0 | R16: =MID(Лист1!$B$4,15,1) -> 1 | S16: =R16-T16 -> 1 | T16: =MID(Лист1!$B$4,16,1) -> 0 | U16: =IF((LEN($BB16)=0),"0",IF(AND(R16=$BB16,T16=$BD16),"5",IF(AND(S16=$BB16-$BD16,S16=0),"3",IF(AND(S16=$BB16-$BD16,OR(S16>0,S16<0)),"3",IF(AND(S16>0,$BB16-$BD16>0),"2",IF(AND(S16<0,$BB16-$BD16<0),"2","0")))))) -> 0 | V16: =MID(Лист1!$B$11,15,1) -> 1 | W16: =V16-X16 -> 0 | X16: =MID(Лист1!$B$11,16,1) -> 1 | Y16: =IF((LEN($BB16)=0),"0",IF(AND(V16=$BB16,X16=$BD16),"5",IF(AND(W16=$BB16-$BD16,W16=0),"3",IF(AND(W16=$BB16-$BD16,OR(W16>0,W16<0)),"3",IF(AND(W16>0,$BB16-$BD16>0),"2",IF(AND(W16<0,$BB16-$BD16<0),"2","0")))))) -> 0 | Z16: =MID(Лист1!$B$5,15,1) | AA16: =Z16-AB16 -> #VALUE! | AB16: =MID(Лист1!$B$5,16,1) | AC16: =IF((LEN($BB16)=0),"0",IF(AND(Z16=$BB16,AB16=$BD16),"5",IF(AND(AA16=$BB16-$BD16,AA16=0),"3",IF(AND(AA16=$BB16-$BD16,OR(AA16>0,AA16<0)),"3",IF(AND(AA16>0,$BB16-$BD16>0),"2",IF(AND(AA16<0,$BB16-$BD16<0),"2","0")))))) -> 0 | AD16: =MID(Лист1!$B$12,15,1) -> 2 | AE16: =AD16-AF16 -> 1 | AF16: =MID(Лист1!$B$12,16,1) -> 1 | AG16: =IF((LEN($BB16)=0),"0",IF(AND(AD16=$BB16,AF16=$BD16),"5",IF(AND(AE16=$BB16-$BD16,AE16=0),"3",IF(AND(AE16=$BB16-$BD16,OR(AE16>0,AE16<0)),"3",IF(AND(AE16>0,$BB16-$BD16>0),"2",IF(AND(AE16<0,$BB16-$BD16<0),"2","0")))))) -> 0 | AH16: =MID(Лист1!$B$6,15,1) | AI16: =AH16-AJ16 -> #VALUE! | AJ16: =MID(Лист1!$B$6,16,1) | AK16: =IF((LEN($BB16)=0),"0",IF(AND(AH16=$BB16,AJ16=$BD16),"5",IF(AND(AI16=$BB16-$BD16,AI16=0),"3",IF(AND(AI16=$BB16-$BD16,OR(AI16>0,AI16<0)),"3",IF(AND(AI16>0,$BB16-$BD16>0),"2",IF(AND(AI16<0,$BB16-$BD16<0),"2","0")))))) -> 0 | AL16: =MID(Лист1!$B$13,15,1) -> 0 | AM16: =AL16-AN16 -> 0 | AN16: =MID(Лист1!$B$13,16,1) -> 0 | AO16: =IF((LEN($BB16)=0),"0",IF(AND(AL16=$BB16,AN16=$BD16),"5",IF(AND(AM16=$BB16-$BD16,AM16=0),"3",IF(AND(AM16=$BB16-$BD16,OR(AM16>0,AM16<0)),"3",IF(AND(AM16>0,$BB16-$BD16>0),"2",IF(AND(AM16<0,$BB16-$BD16<0),"2","0")))))) -> 0 | AP16: =MID(Лист1!$B$7,15,1) | AQ16: =AP16-AR16 -> #VALUE! | AR16: =MID(Лист1!$B$7,16,1) | AS16: =IF((LEN($BB16)=0),"0",IF(AND(AP16=$BB16,AR16=$BD16),"5",IF(AND(AQ16=$BB16-$BD16,AQ16=0),"3",IF(AND(AQ16=$BB16-$BD16,OR(AQ16>0,AQ16<0)),"3",IF(AND(AQ16>0,$BB16-$BD16>0),"2",IF(AND(AQ16<0,$BB16-$BD16<0),"2","0")))))) -> 0 | AT16: =MID(Лист1!$B$14,15,1) | AU16: =AT16-AV16 -> #VALUE! | AV16: =MID(Лист1!$B$14,16,1) | AW16: =IF((LEN($BB16)=0),"0",IF(AND(AT16=$BB16,AV16=$BD16),"5",IF(AND(AU16=$BB16-$BD16,AU16=0),"3",IF(AND(AU16=$BB16-$BD16,OR(AU16>0,AU16<0)),"3",IF(AND(AU16>0,$BB16-$BD16>0),"2",IF(AND(AU16<0,$BB16-$BD16<0),"2","0")))))) -> 0 | AX16: Зенит - ЦСКА
B17: 1 | C17: =B17-D17 -> 1 | D17: 0 | E17: =IF((LEN(BB17)=0),"0",IF(AND(B17=BB17,D17=BD17),"5",IF(AND(C17=BC17,C17=0),"2",IF(AND(C17=BC17,OR(C17>0,C17<0)),"3",IF(AND(C17>0,BC17>0),"2",IF(AND(C17<0,BC17<0),"2","0")))))) -> 0 | F17: 0 | G17: =F17-H17 -> -2 | H17: 2 | I17: =IF((LEN(BB17)=0),"0",IF(AND(F17=BB17,H17=BD17),"5",IF(AND(G17=BC17,G17=0),"2",IF(AND(G17=BC17,OR(G17>0,G17<0)),"3",IF(AND(G17>0,BC17>0),"2",IF(AND(G17<0,BC17<0),"2","0")))))) -> 0 | J17: 0 | K17: =J17-L17 -> -2 | L17: 2 | M17: =IF((LEN(BB17)=0),"0",IF(AND(J17=BB17,L17=BD17),"5",IF(AND(K17=BC17,K17=0),"2",IF(AND(K17=BC17,OR(K17>0,K17<0)),"3",IF(AND(K17>0,BC17>0),"2",IF(AND(K17<0,BC17<0),"2","0")))))) -> 0 | N17: 1 | O17: =N17-P17 -> -1 | P17: 2 | Q17: =IF((LEN(BB17)=0),"0",IF(AND(N17=BB17,P17=BD17),"5",IF(AND(O17=BC17,O17=0),"2",IF(AND(O17=BC17,OR(O17>0,O17<0)),"3",IF(AND(O17>0,BC17>0),"2",IF(AND(O17<0,BC17<0),"2","0")))))) -> 0 | R17: 1 | S17: =R17-T17 -> -1 | T17: 2 | U17: =IF((LEN(BB17)=0),"0",IF(AND(R17=BB17,T17=BD17),"5",IF(AND(S17=BC17,S17=0),"2",IF(AND(S17=BC17,OR(S17>0,S17<0)),"3",IF(AND(S17>0,BC17>0),"2",IF(AND(S17<0,BC17<0),"2","0")))))) -> 0 | V17: 2 | W17: =V17-X17 -> 1 | X17: 1 | Y17: =IF((LEN(BB17)=0),"0",IF(AND(V17=BB17,X17=BD17),"5",IF(AND(W17=BC17,W17=0),"2",IF(AND(W17=BC17,OR(W17>0,W17<0)),"3",IF(AND(W17>0,BC17>0),"2",IF(AND(W17<0,BC17<0),"2","0")))))) -> 0 | Z17: 1 | AA17: =Z17-AB17 -> 0 | AB17: 1 | AC17: =IF((LEN(BB17)=0),"0",IF(AND(Z17=BB17,AB17=BD17),"5",IF(AND(AA17=BC17,AA17=0),"2",IF(AND(AA17=BC17,OR(AA17>0,AA17<0)),"3",IF(AND(AA17>0,BC17>0),"2",IF(AND(AA17<0,BC17<0),"2","0")))))) -> 0 | AD17: 1 | AE17: =AD17-AF17 -> -1 | AF17: 2 | AG17: =IF((LEN(BB17)=0),"0",IF(AND(AD17=BB17,AF17=BD17),"5",IF(AND(AE17=BC17,AE17=0),"2",IF(AND(AE17=BC17,OR(AE17>0,AE17<0)),"3",IF(AND(AE17>0,BC17>0),"2",IF(AND(AE17<0,BC17<0),"2","0")))))) -> 0 | AH17: 1 | AI17: =AH17-AJ17 -> 0 | AJ17: 1 | AK17: =IF((LEN(BB17)=0),"0",IF(AND(AH17=BB17,AJ17=BD17),"5",IF(AND(AI17=BC17,AI17=0),"2",IF(AND(AI17=BC17,OR(AI17>0,AI17<0)),"3",IF(AND(AI17>0,BC17>0),"2",IF(AND(AI17<0,BC17<0),"2","0")))))) -> 0 | AL17: 1 | AM17: =AL17-AN17 -> -1 | AN17: 2 | AO17: =IF((LEN(BB17)=0),"0",IF(AND(AL17=BB17,AN17=BD17),"5",IF(AND(AM17=BC17,AM17=0),"2",IF(AND(AM17=BC17,OR(AM17>0,AM17<0)),"3",IF(AND(AM17>0,BC17>0),"2",IF(AND(AM17<0,BC17<0),"2","0")))))) -> 0 | AP17: 1 | AQ17: =AP17-AR17 -> -2 | AR17: 3 | AS17: =IF((LEN(BB17)=0),"0",IF(AND(AP17=BB17,AR17=BD17),"5",IF(AND(AQ17=BC17,AQ17=0),"2",IF(AND(AQ17=BC17,OR(AQ17>0,AQ17<0)),"3",IF(AND(AQ17>0,BC17>0),"2",IF(AND(AQ17<0,BC17<0),"2","0")))))) -> 0 | AT17: 1 | AU17: =AT17-AV17 -> -1 | AV17: 2 | AW17: =IF((LEN(BB17)=0),"0",IF(AND(AT17=BB17,AV17=BD17),"5",IF(AND(AU17=BC17,AU17=0),"2",IF(AND(AU17=BC17,OR(AU17>0,AU17<0)),"3",IF(AND(AU17>0,BC17>0),"2",IF(AND(AU17<0,BC17<0),"2","0")))))) -> 0 | BC17: =BB17-BD17 -> 0
B18: 0 | C18: =B18-D18 -> -1 | D18: 1 | E18: =IF((LEN(BB18)=0),"0",IF(AND(B18=BB18,D18=BD18),"5",IF(AND(C18=BC18,C18=0),"2",IF(AND(C18=BC18,OR(C18>0,C18<0)),"3",IF(AND(C18>0,BC18>0),"2",IF(AND(C18<0,BC18<0),"2","0")))))) -> 0 | F18: 0 | G18: =F18-H18 -> -2 | H18: 2 | I18: =IF((LEN(BB18)=0),"0",IF(AND(F18=BB18,H18=BD18),"5",IF(AND(G18=BC18,G18=0),"2",IF(AND(G18=BC18,OR(G18>0,G18<0)),"3",IF(AND(G18>0,BC18>0),"2",IF(AND(G18<0,BC18<0),"2","0")))))) -> 0 | J18: 1 | K18: =J18-L18 -> 1 | L18: 0 | M18: =IF((LEN(BB18)=0),"0",IF(AND(J18=BB18,L18=BD18),"5",IF(AND(K18=BC18,K18=0),"2",IF(AND(K18=BC18,OR(K18>0,K18<0)),"3",IF(AND(K18>0,BC18>0),"2",IF(AND(K18<0,BC18<0),"2","0")))))) -> 0 | N18: 1 | O18: =N18-P18 -> 0 | P18: 1 | Q18: =IF((LEN(BB18)=0),"0",IF(AND(N18=BB18,P18=BD18),"5",IF(AND(O18=BC18,O18=0),"2",IF(AND(O18=BC18,OR(O18>0,O18<0)),"3",IF(AND(O18>0,BC18>0),"2",IF(AND(O18<0,BC18<0),"2","0")))))) -> 0 | R18: 1 | S18: =R18-T18 -> -1 | T18: 2 | U18: =IF((LEN(BB18)=0),"0",IF(AND(R18=BB18,T18=BD18),"5",IF(AND(S18=BC18,S18=0),"2",IF(AND(S18=BC18,OR(S18>0,S18<0)),"3",IF(AND(S18>0,BC18>0),"2",IF(AND(S18<0,BC18<0),"2","0")))))) -> 0 | V18: 1 | W18: =V18-X18 -> -1 | X18: 2 | Y18: =IF((LEN(BB18)=0),"0",IF(AND(V18=BB18,X18=BD18),"5",IF(AND(W18=BC18,W18=0),"2",IF(AND(W18=BC18,OR(W18>0,W18<0)),"3",IF(AND(W18>0,BC18>0),"2",IF(AND(W18<0,BC18<0),"2","0")))))) -> 0 | Z18: 1 | AA18: =Z18-AB18 -> 0 | AB18: 1 | AC18: =IF((LEN(BB18)=0),"0",IF(AND(Z18=BB18,AB18=BD18),"5",IF(AND(AA18=BC18,AA18=0),"2",IF(AND(AA18=BC18,OR(AA18>0,AA18<0)),"3",IF(AND(AA18>0,BC18>0),"2",IF(AND(AA18<0,BC18<0),"2","0")))))) -> 0 | AD18: 2 | AE18: =AD18-AF18 -> 1 | AF18: 1 | AG18: =IF((LEN(BB18)=0),"0",IF(AND(AD18=BB18,AF18=BD18),"5",IF(AND(AE18=BC18,AE18=0),"2",IF(AND(AE18=BC18,OR(AE18>0,AE18<0)),"3",IF(AND(AE18>0,BC18>0),"2",IF(AND(AE18<0,BC18<0),"2","0")))))) -> 0 | AH18: 2 | AI18: =AH18-AJ18 -> -1 | AJ18: 3 | AK18: =IF((LEN(BB18)=0),"0",IF(AND(AH18=BB18,AJ18=BD18),"5",IF(AND(AI18=BC18,AI18=0),"2",IF(AND(AI18=BC18,OR(AI18>0,AI18<0)),"3",IF(AND(AI18>0,BC18>0),"2",IF(AND(AI18<0,BC18<0),"2","0")))))) -> 0 | AL18: 1 | AM18: =AL18-AN18 -> -1 | AN18: 2 | AO18: =IF((LEN(BB18)=0),"0",IF(AND(AL18=BB18,AN18=BD18),"5",IF(AND(AM18=BC18,AM18=0),"2",IF(AND(AM18=BC18,OR(AM18>0,AM18<0)),"3",IF(AND(AM18>0,BC18>0),"2",IF(AND(AM18<0,BC18<0),"2","0")))))) -> 0 | AP18: 1 | AQ18: =AP18-AR18 -> -2 | AR18: 3 | AS18: =IF((LEN(BB18)=0),"0",IF(AND(AP18=BB18,AR18=BD18),"5",IF(AND(AQ18=BC18,AQ18=0),"2",IF(AND(AQ18=BC18,OR(AQ18>0,AQ18<0)),"3",IF(AND(AQ18>0,BC18>0),"2",IF(AND(AQ18<0,BC18<0),"2","0")))))) -> 0 | AT18: 1 | AU18: =AT18-AV18 -> -2 | AV18: 3 | AW18: =IF((LEN(BB18)=0),"0",IF(AND(AT18=BB18,AV18=BD18),"5",IF(AND(AU18=BC18,AU18=0),"2",IF(AND(AU18=BC18,OR(AU18>0,AU18<0)),"3",IF(AND(AU18>0,BC18>0),"2",IF(AND(AU18<0,BC18<0),"2","0")))))) -> 0 | BC18: =BB18-BD18 -> 0
B19: =E9+E10+E11+E12+E13+E14+E15+E16+E17+E18 -> 7 | F19: =I9+I10+I11+I12+I13+I14+I15+I16+I17+I18 -> 7 | J19: =M9+M10+M11+M12+M13+M14+M15+M16+M17+M18 -> 0 | N19: =Q9+Q10+Q11+Q12+Q13+Q14+Q15+Q16+Q17+Q18 -> 0 | R19: =U9+U10+U11+U12+U13+U14+U15+U16+U17+U18 -> 3 | V19: =Y9+Y10+Y11+Y12+Y13+Y14+Y15+Y16+Y17+Y18 -> 0 | Z19: =AC9+AC10+AC11+AC12+AC13+AC14+AC15+AC16+AC17+AC18 -> #VALUE! | AD19: =AG9+AG10+AG11+AG12+AG13+AG14+AG15+AG16+AG17+AG18 -> 7 | AH19: =AK9+AK10+AK11+AK12+AK13+AK14+AK15+AK16+AK17+AK18 -> #VALUE! | AL19: =AO9+AO10+AO11+AO12+AO13+AO14+AO15+AO16+AO17+AO18 -> 5 | AP19: =AS9+AS10+AS11+AS12+AS13+AS14+AS15+AS16+AS17+AS18 -> #VALUE! | AT19: =AW9+AW10+AW11+AW12+AW13+AW14+AW15+AW16+AW17+AW18 -> #VALUE!
B20: =IF(B19>F19,"1",IF(B19=F19,"0", IF(B19<F19,"0"))) -> 0 | F20: =IF(F19>B19,"1",IF(F19=B19,"0", IF(F19<B19,"0"))) -> 0 | J20: =IF(J19>N19,"1",IF(J19=N19,"0", IF(J19<N19,"0"))) -> 0 | N20: =IF(N19>J19,"1",IF(N19=J19,"0", IF(N19<J19,"0"))) -> 0 | R20: =IF(R19>V19,"1",IF(R19=V19,"0", IF(R19<V19,"0"))) -> 1 | V20: =IF(V19>R19,"1",IF(V19=R19,"0", IF(V19<R19,"0"))) -> 0 | Z20: =IF(Z19>AD19,"1",IF(Z19=AD19,"0", IF(Z19<AD19,"0"))) -> #VALUE! | AD20: =IF(AD19>Z19,"1",IF(AD19=Z19,"0", IF(AD19<Z19,"0"))) -> #VALUE! | AH20: =IF(AH19>AL19,"1",IF(AH19=AL19,"0", IF(AH19<AL19,"0"))) -> #VALUE! | AL20: =IF(AL19>AH19,"1",IF(AL19=AH19,"0", IF(AL19<AH19,"0"))) -> #VALUE! | AP20: =IF(AP19>AT19,"1",IF(AP19=AT19,"0", IF(AP19<AT19,"0"))) -> #VALUE! | AT20: =IF(AT19>AP19,"1",IF(AT19=AP19,"0", IF(AT19<AP19,"0"))) -> #VALUE!
B24: =Лист1!A21 -> КСП "Торпедо" | H24: =B40+J40+R40+Z40+AH40+AP40 -> #VALUE!
B25: =Лист1!A28 -> liga1.ru | H25: =F40+N40+V40+AD40+AL40+AT40 -> #VALUE!
B27: =Лист1!A22 -> Korsar | F27: =Лист1!A29 -> Ice | J27: =Лист1!A23 -> dauren | N27: =Лист1!A30 -> NORGE | R27: =Лист1!A24 -> shaydul | V27: =Лист1!A31 -> PiF | Z27: =Лист1!A25 -> ЯД | AD27: =Лист1!A32 -> Урал-72 | AH27: =Лист1!A26 -> ESI2607 | AL27: =Лист1!A33 -> ZHEKA_KORCHAGIN | AP27: =Лист1!A27 -> 0 | AT27: =Лист1!A34 -> strelets | BB27: Итог
B28: прогноз | E28: очки | F28: прогноз | I28: очки | J28: прогноз | M28: очки | N28: прогноз | Q28: очки | R28: прогноз | U28: очки | V28: прогноз | Y28: очки | Z28: прогноз | AC28: очки | AD28: прогноз | AG28: очки | AH28: прогноз | AK28: очки | AL28: прогноз | AO28: очки | AP28: прогноз | AS28: очки | AT28: прогноз | AW28: очки
B29: =MID(Лист1!$B$22,1,1) -> 1 | C29: =B29-D29 -> -1 | D29: =MID(Лист1!$B$22,2,1) -> 2 | E29: =IF((LEN($BB9)=0),"0",IF(AND(B29=$BB9,D29=$BD9),"5",IF(AND(C29=$BB9-$BD9,C29=0),"3",IF(AND(C29=$BB9-$BD9,OR(C29>0,C29<0)),"3",IF(AND(C29>0,$BB9-$BD9>0),"2",IF(AND(C29<0,$BB9-$BD9<0),"2","0")))))) -> 0 | F29: =MID(Лист1!$B$29,1,1) -> 1 | G29: =F29-H29 -> -1 | H29: =MID(Лист1!$B$29,2,1) -> 2 | I29: =IF((LEN($BB9)=0),"0",IF(AND(F29=$BB9,H29=$BD9),"5",IF(AND(G29=$BB9-$BD9,G29=0),"3",IF(AND(G29=$BB9-$BD9,OR(G29>0,G29<0)),"3",IF(AND(G29>0,$BB9-$BD9>0),"2",IF(AND(G29<0,$BB9-$BD9<0),"2","0")))))) -> 0 | J29: =MID(Лист1!$B$23,1,1) -> 1 | K29: =J29-L29 -> 0 | L29: =MID(Лист1!$B$23,2,1) -> 1 | M29: =IF((LEN($BB9)=0),"0",IF(AND(J29=$BB9,L29=$BD9),"5",IF(AND(K29=$BB9-$BD9,K29=0),"3",IF(AND(K29=$BB9-$BD9,OR(K29>0,K29<0)),"3",IF(AND(K29>0,$BB9-$BD9>0),"2",IF(AND(K29<0,$BB9-$BD9<0),"2","0")))))) -> 3 | N29: =MID(Лист1!$B$30,1,1) -> 1 | O29: =N29-P29 -> 0 | P29: =MID(Лист1!$B$30,2,1) -> 1 | Q29: =IF((LEN($BB9)=0),"0",IF(AND(N29=$BB9,P29=$BD9),"5",IF(AND(O29=$BB9-$BD9,O29=0),"3",IF(AND(O29=$BB9-$BD9,OR(O29>0,O29<0)),"3",IF(AND(O29>0,$BB9-$BD9>0),"2",IF(AND(O29<0,$BB9-$BD9<0),"2","0")))))) -> 3 | R29: =MID(Лист1!$B$24,1,1) -> 0 | S29: =R29-T29 -> -1 | T29: =MID(Лист1!$B$24,2,1) -> 1 | U29: =IF((LEN($BB9)=0),"0",IF(AND(R29=$BB9,T29=$BD9),"5",IF(AND(S29=$BB9-$BD9,S29=0),"3",IF(AND(S29=$BB9-$BD9,OR(S29>0,S29<0)),"3",IF(AND(S29>0,$BB9-$BD9>0),"2",IF(AND(S29<0,$BB9-$BD9<0),"2","0")))))) -> 0 | V29: =MID(Лист1!$B$31,1,1) -> 1 | W29: =V29-X29 -> 0 | X29: =MID(Лист1!$B$31,2,1) -> 1 | Y29: =IF((LEN($BB9)=0),"0",IF(AND(V29=$BB9,X29=$BD9),"5",IF(AND(W29=$BB9-$BD9,W29=0),"3",IF(AND(W29=$BB9-$BD9,OR(W29>0,W29<0)),"3",IF(AND(W29>0,$BB9-$BD9>0),"2",IF(AND(W29<0,$BB9-$BD9<0),"2","0")))))) -> 3 | Z29: =MID(Лист1!$B$25,1,1) -> 0 | AA29: =Z29-AB29 -> -1 | AB29: =MID(Лист1!$B$25,2,1) -> 1 | AC29: =IF((LEN($BB9)=0),"0",IF(AND(Z29=$BB9,AB29=$BD9),"5",IF(AND(AA29=$BB9-$BD9,AA29=0),"3",IF(AND(AA29=$BB9-$BD9,OR(AA29>0,AA29<0)),"3",IF(AND(AA29>0,$BB9-$BD9>0),"2",IF(AND(AA29<0,$BB9-$BD9<0),"2","0")))))) -> 0 | AD29: =MID(Лист1!$B$32,1,1) -> 0 | AE29: =AD29-AF29 -> -1 | AF29: =MID(Лист1!$B$32,2,1) -> 1 | AG29: =IF((LEN($BB9)=0),"0",IF(AND(AD29=$BB9,AF29=$BD9),"5",IF(AND(AE29=$BB9-$BD9,AE29=0),"3",IF(AND(AE29=$BB9-$BD9,OR(AE29>0,AE29<0)),"3",IF(AND(AE29>0,$BB9-$BD9>0),"2",IF(AND(AE29<0,$BB9-$BD9<0),"2","0")))))) -> 0 | AH29: =MID(Лист1!$B$26,1,1) -> 1 | AI29: =AH29-AJ29 -> -1 | AJ29: =MID(Лист1!$B$26,2,1) -> 2 | AK29: =IF((LEN($BB9)=0),"0",IF(AND(AH29=$BB9,AJ29=$BD9),"5",IF(AND(AI29=$BB9-$BD9,AI29=0),"3",IF(AND(AI29=$BB9-$BD9,OR(AI29>0,AI29<0)),"3",IF(AND(AI29>0,$BB9-$BD9>0),"2",IF(AND(AI29<0,$BB9-$BD9<0),"2","0")))))) -> 0 | AL29: =MID(Лист1!$B$33,1,1) -> 1 | AM29: =AL29-AN29 -> -1 | AN29: =MID(Лист1!$B$33,2,1) -> 2 | AO29: =IF((LEN($BB9)=0),"0",IF(AND(AL29=$BB9,AN29=$BD9),"5",IF(AND(AM29=$BB9-$BD9,AM29=0),"3",IF(AND(AM29=$BB9-$BD9,OR(AM29>0,AM29<0)),"3",IF(AND(AM29>0,$BB9-$BD9>0),"2",IF(AND(AM29<0,$BB9-$BD9<0),"2","0")))))) -> 0 | AP29: =MID(Лист1!$B$27,1,1) | AQ29: =AP29-AR29 -> #VALUE! | AR29: =MID(Лист1!$B$27,2,1) | AS29: =IF((LEN($BB9)=0),"0",IF(AND(AP29=$BB9,AR29=$BD9),"5",IF(AND(AQ29=$BB9-$BD9,AQ29=0),"3",IF(AND(AQ29=$BB9-$BD9,OR(AQ29>0,AQ29<0)),"3",IF(AND(AQ29>0,$BB9-$BD9>0),"2",IF(AND(AQ29<0,$BB9-$BD9<0),"2","0")))))) -> #VALUE! | AT29: =MID(Лист1!$B$34,1,1) -> 1 | AU29: =AT29-AV29 -> 0 | AV29: =MID(Лист1!$B$34,2,1) -> 1 | AW29: =IF((LEN($BB9)=0),"0",IF(AND(AT29=$BB9,AV29=$BD9),"5",IF(AND(AU29=$BB9-$BD9,AU29=0),"3",IF(AND(AU29=$BB9-$BD9,OR(AU29>0,AU29<0)),"3",IF(AND(AU29>0,$BB9-$BD9>0),"2",IF(AND(AU29<0,$BB9-$BD9<0),"2","0")))))) -> 3 | AX29: =AX9 -> Дармштадт - Штутгарт | BB29: =IF((LEN(BB9)=0)," ",BB9) -> 2 | BD29: =IF((LEN(BD9)=0)," ",BD9) -> 2
B30: =MID(Лист1!$B$22,3,1) -> 2 | C30: =B30-D30 -> 1 | D30: =MID(Лист1!$B$22,4,1) -> 1 | E30: =IF((LEN($BB10)=0),"0",IF(AND(B30=$BB10,D30=$BD10),"5",IF(AND(C30=$BB10-$BD10,C30=0),"3",IF(AND(C30=$BB10-$BD10,OR(C30>0,C30<0)),"3",IF(AND(C30>0,$BB10-$BD10>0),"2",IF(AND(C30<0,$BB10-$BD10<0),"2","0")))))) -> 0 | F30: =MID(Лист1!$B$29,3,1) -> 2 | G30: =F30-H30 -> 1 | H30: =MID(Лист1!$B$29,4,1) -> 1 | I30: =IF((LEN($BB10)=0),"0",IF(AND(F30=$BB10,H30=$BD10),"5",IF(AND(G30=$BB10-$BD10,G30=0),"3",IF(AND(G30=$BB10-$BD10,OR(G30>0,G30<0)),"3",IF(AND(G30>0,$BB10-$BD10>0),"2",IF(AND(G30<0,$BB10-$BD10<0),"2","0")))))) -> 0 | J30: =MID(Лист1!$B$23,3,1) -> 2 | K30: =J30-L30 -> 1 | L30: =MID(Лист1!$B$23,4,1) -> 1 | M30: =IF((LEN($BB10)=0),"0",IF(AND(J30=$BB10,L30=$BD10),"5",IF(AND(K30=$BB10-$BD10,K30=0),"3",IF(AND(K30=$BB10-$BD10,OR(K30>0,K30<0)),"3",IF(AND(K30>0,$BB10-$BD10>0),"2",IF(AND(K30<0,$BB10-$BD10<0),"2","0")))))) -> 0 | N30: =MID(Лист1!$B$30,3,1) -> 2 | O30: =N30-P30 -> 0 | P30: =MID(Лист1!$B$30,4,1) -> 2 | Q30: =IF((LEN($BB10)=0),"0",IF(AND(N30=$BB10,P30=$BD10),"5",IF(AND(O30=$BB10-$BD10,O30=0),"3",IF(AND(O30=$BB10-$BD10,OR(O30>0,O30<0)),"3",IF(AND(O30>0,$BB10-$BD10>0),"2",IF(AND(O30<0,$BB10-$BD10<0),"2","0")))))) -> 3 | R30: =MID(Лист1!$B$24,3,1) -> 1 | S30: =R30-T30 -> 0 | T30: =MID(Лист1!$B$24,4,1) -> 1 | U30: =IF((LEN($BB10)=0),"0",IF(AND(R30=$BB10,T30=$BD10),"5",IF(AND(S30=$BB10-$BD10,S30=0),"3",IF(AND(S30=$BB10-$BD10,OR(S30>0,S30<0)),"3",IF(AND(S30>0,$BB10-$BD10>0),"2",IF(AND(S30<0,$BB10-$BD10<0),"2","0")))))) -> 5 | V30: =MID(Лист1!$B$31,3,1) -> 1 | W30: =V30-X30 -> 0 | X30: =MID(Лист1!$B$31,4,1) -> 1 | Y30: =IF((LEN($BB10)=0),"0",IF(AND(V30=$BB10,X30=$BD10),"5",IF(AND(W30=$BB10-$BD10,W30=0),"3",IF(AND(W30=$BB10-$BD10,OR(W30>0,W30<0)),"3",IF(AND(W30>0,$BB10-$BD10>0),"2",IF(AND(W30<0,$BB10-$BD10<0),"2","0")))))) -> 5 | Z30: =MID(Лист1!$B$25,3,1) -> 2 | AA30: =Z30-AB30 -> 1 | AB30: =MID(Лист1!$B$25,4,1) -> 1 | AC30: =IF((LEN($BB10)=0),"0",IF(AND(Z30=$BB10,AB30=$BD10),"5",IF(AND(AA30=$BB10-$BD10,AA30=0),"3",IF(AND(AA30=$BB10-$BD10,OR(AA30>0,AA30<0)),"3",IF(AND(AA30>0,$BB10-$BD10>0),"2",IF(AND(AA30<0,$BB10-$BD10<0),"2","0")))))) -> 0 | AD30: =MID(Лист1!$B$32,3,1) -> 2 | AE30: =AD30-AF30 -> 2 | AF30: =MID(Лист1!$B$32,4,1) -> 0 | AG30: =IF((LEN($BB10)=0),"0",IF(AND(AD30=$BB10,AF30=$BD10),"5",IF(AND(AE30=$BB10-$BD10,AE30=0),"3",IF(AND(AE30=$BB10-$BD10,OR(AE30>0,AE30<0)),"3",IF(AND(AE30>0,$BB10-$BD10>0),"2",IF(AND(AE30<0,$BB10-$BD10<0),"2","0")))))) -> 0 | AH30: =MID(Лист1!$B$26,3,1) -> 1 | AI30: =AH30-AJ30 -> 0 | AJ30: =MID(Лист1!$B$26,4,1) -> 1 | AK30: =IF((LEN($BB10)=0),"0",IF(AND(AH30=$BB10,AJ30=$BD10),"5",IF(AND(AI30=$BB10-$BD10,AI30=0),"3",IF(AND(AI30=$BB10-$BD10,OR(AI30>0,AI30<0)),"3",IF(AND(AI30>0,$BB10-$BD10>0),"2",IF(AND(AI30<0,$BB10-$BD10<0),"2","0")))))) -> 5 | AL30: =MID(Лист1!$B$33,3,1) -> 2 | AM30: =AL30-AN30 -> 1 | AN30: =MID(Лист1!$B$33,4,1) -> 1 | AO30: =IF((LEN($BB10)=0),"0",IF(AND(AL30=$BB10,AN30=$BD10),"5",IF(AND(AM30=$BB10-$BD10,AM30=0),"3",IF(AND(AM30=$BB10-$BD10,OR(AM30>0,AM30<0)),"3",IF(AND(AM30>0,$BB10-$BD10>0),"2",IF(AND(AM30<0,$BB10-$BD10<0),"2","0")))))) -> 0 | AP30: =MID(Лист1!$B$27,3,1) | AQ30: =AP30-AR30 -> #VALUE! | AR30: =MID(Лист1!$B$27,4,1) | AS30: =IF((LEN($BB10)=0),"0",IF(AND(AP30=$BB10,AR30=$BD10),"5",IF(AND(AQ30=$BB10-$BD10,AQ30=0),"3",IF(AND(AQ30=$BB10-$BD10,OR(AQ30>0,AQ30<0)),"3",IF(AND(AQ30>0,$BB10-$BD10>0),"2",IF(AND(AQ30<0,$BB10-$BD10<0),"2","0")))))) -> #VALUE! | AT30: =MID(Лист1!$B$34,3,1) -> 1 | AU30: =AT30-AV30 -> 0 | AV30: =MID(Лист1!$B$34,4,1) -> 1 | AW30: =IF((LEN($BB10)=0),"0",IF(AND(AT30=$BB10,AV30=$BD10),"5",IF(AND(AU30=$BB10-$BD10,AU30=0),"3",IF(AND(AU30=$BB10-$BD10,OR(AU30>0,AU30<0)),"3",IF(AND(AU30>0,$BB10-$BD10>0),"2",IF(AND(AU30<0,$BB10-$BD10<0),"2","0")))))) -> 5 | AX30: =AX10 -> Ливерпуль - Тоттенхэм | BB30: =IF((LEN(BB10)=0)," ",BB10) -> 1 | BC30: =BB30-BD30 -> 0 | BD30: =IF((LEN(BD10)=0)," ",BD10) -> 1
B31: =MID(Лист1!$B$22,5,1) -> 1 | C31: =B31-D31 -> 0 | D31: =MID(Лист1!$B$22,6,1) -> 1 | E31: =IF((LEN($BB11)=0),"0",IF(AND(B31=$BB11,D31=$BD11),"5",IF(AND(C31=$BB11-$BD11,C31=0),"3",IF(AND(C31=$BB11-$BD11,OR(C31>0,C31<0)),"3",IF(AND(C31>0,$BB11-$BD11>0),"2",IF(AND(C31<0,$BB11-$BD11<0),"2","0")))))) -> 0 | F31: =MID(Лист1!$B$29,5,1) -> 1 | G31: =F31-H31 -> 1 | H31: =MID(Лист1!$B$29,6,1) -> 0 | I31: =IF((LEN($BB11)=0),"0",IF(AND(F31=$BB11,H31=$BD11),"5",IF(AND(G31=$BB11-$BD11,G31=0),"3",IF(AND(G31=$BB11-$BD11,OR(G31>0,G31<0)),"3",IF(AND(G31>0,$BB11-$BD11>0),"2",IF(AND(G31<0,$BB11-$BD11<0),"2","0")))))) -> 2 | J31: =MID(Лист1!$B$23,5,1) -> 1 | K31: =J31-L31 -> 1 | L31: =MID(Лист1!$B$23,6,1) -> 0 | M31: =IF((LEN($BB11)=0),"0",IF(AND(J31=$BB11,L31=$BD11),"5",IF(AND(K31=$BB11-$BD11,K31=0),"3",IF(AND(K31=$BB11-$BD11,OR(K31>0,K31<0)),"3",IF(AND(K31>0,$BB11-$BD11>0),"2",IF(AND(K31<0,$BB11-$BD11<0),"2","0")))))) -> 2 | N31: =MID(Лист1!$B$30,5,1) -> 1 | O31: =N31-P31 -> 0 | P31: =MID(Лист1!$B$30,6,1) -> 1 | Q31: =IF((LEN($BB11)=0),"0",IF(AND(N31=$BB11,P31=$BD11),"5",IF(AND(O31=$BB11-$BD11,O31=0),"3",IF(AND(O31=$BB11-$BD11,OR(O31>0,O31<0)),"3",IF(AND(O31>0,$BB11-$BD11>0),"2",IF(AND(O31<0,$BB11-$BD11<0),"2","0")))))) -> 0 | R31: =MID(Лист1!$B$24,5,1) -> 1 | S31: =R31-T31 -> 1 | T31: =MID(Лист1!$B$24,6,1) -> 0 | U31: =IF((LEN($BB11)=0),"0",IF(AND(R31=$BB11,T31=$BD11),"5",IF(AND(S31=$BB11-$BD11,S31=0),"3",IF(AND(S31=$BB11-$BD11,OR(S31>0,S31<0)),"3",IF(AND(S31>0,$BB11-$BD11>0),"2",IF(AND(S31<0,$BB11-$BD11<0),"2","0")))))) -> 2 | V31: =MID(Лист1!$B$31,5,1) -> 1 | W31: =V31-X31 -> 0 | X31: =MID(Лист1!$B$31,6,1) -> 1 | Y31: =IF((LEN($BB11)=0),"0",IF(AND(V31=$BB11,X31=$BD11),"5",IF(AND(W31=$BB11-$BD11,W31=0),"3",IF(AND(W31=$BB11-$BD11,OR(W31>0,W31<0)),"3",IF(AND(W31>0,$BB11-$BD11>0),"2",IF(AND(W31<0,$BB11-$BD11<0),"2","0")))))) -> 0 | Z31: =MID(Лист1!$B$25,5,1) -> 2 | AA31: =Z31-AB31 -> 2 | AB31: =MID(Лист1!$B$25,6,1) -> 0 | AC31: =IF((LEN($BB11)=0),"0",IF(AND(Z31=$BB11,AB31=$BD11),"5",IF(AND(AA31=$BB11-$BD11,AA31=0),"3",IF(AND(AA31=$BB11-$BD11,OR(AA31>0,AA31<0)),"3",IF(AND(AA31>0,$BB11-$BD11>0),"2",IF(AND(AA31<0,$BB11-$BD11<0),"2","0")))))) -> 5 | AD31: =MID(Лист1!$B$32,5,1) -> 1 | AE31: =AD31-AF31 -> -1 | AF31: =MID(Лист1!$B$32,6,1) -> 2 | AG31: =IF((LEN($BB11)=0),"0",IF(AND(AD31=$BB11,AF31=$BD11),"5",IF(AND(AE31=$BB11-$BD11,AE31=0),"3",IF(AND(AE31=$BB11-$BD11,OR(AE31>0,AE31<0)),"3",IF(AND(AE31>0,$BB11-$BD11>0),"2",IF(AND(AE31<0,$BB11-$BD11<0),"2","0")))))) -> 0 | AH31: =MID(Лист1!$B$26,5,1) -> 1 | AI31: =AH31-AJ31 -> 0 | AJ31: =MID(Лист1!$B$26,6,1) -> 1 | AK31: =IF((LEN($BB11)=0),"0",IF(AND(AH31=$BB11,AJ31=$BD11),"5",IF(AND(AI31=$BB11-$BD11,AI31=0),"3",IF(AND(AI31=$BB11-$BD11,OR(AI31>0,AI31<0)),"3",IF(AND(AI31>0,$BB11-$BD11>0),"2",IF(AND(AI31<0,$BB11-$BD11<0),"2","0")))))) -> 0 | AL31: =MID(Лист1!$B$33,5,1) -> 1 | AM31: =AL31-AN31 -> -1 | AN31: =MID(Лист1!$B$33,6,1) -> 2 | AO31: =IF((LEN($BB11)=0),"0",IF(AND(AL31=$BB11,AN31=$BD11),"5",IF(AND(AM31=$BB11-$BD11,AM31=0),"3",IF(AND(AM31=$BB11-$BD11,OR(AM31>0,AM31<0)),"3",IF(AND(AM31>0,$BB11-$BD11>0),"2",IF(AND(AM31<0,$BB11-$BD11<0),"2","0")))))) -> 0 | AP31: =MID(Лист1!$B$27,5,1) | AQ31: =AP31-AR31 -> #VALUE! | AR31: =MID(Лист1!$B$27,6,1) | AS31: =IF((LEN($BB11)=0),"0",IF(AND(AP31=$BB11,AR31=$BD11),"5",IF(AND(AQ31=$BB11-$BD11,AQ31=0),"3",IF(AND(AQ31=$BB11-$BD11,OR(AQ31>0,AQ31<0)),"3",IF(AND(AQ31>0,$BB11-$BD11>0),"2",IF(AND(AQ31<0,$BB11-$BD11<0),"2","0")))))) -> #VALUE! | AT31: =MID(Лист1!$B$34,5,1) -> 1 | AU31: =AT31-AV31 -> -1 | AV31: =MID(Лист1!$B$34,6,1) -> 2 | AW31: =IF((LEN($BB11)=0),"0",IF(AND(AT31=$BB11,AV31=$BD11),"5",IF(AND(AU31=$BB11-$BD11,AU31=0),"3",IF(AND(AU31=$BB11-$BD11,OR(AU31>0,AU31<0)),"3",IF(AND(AU31>0,$BB11-$BD11>0),"2",IF(AND(AU31<0,$BB11-$BD11<0),"2","0")))))) -> 0 | AX31: =AX11 -> Ростов - Спартак | BB31: =IF((LEN(BB11)=0)," ",BB11) -> 2 | BC31: =BB31-BD31 -> 2 | BD31: =IF((LEN(BD11)=0)," ",BD11) -> 0
B32: =MID(Лист1!$B$22,7,1) -> 3 | C32: =B32-D32 -> 2 | D32: =MID(Лист1!$B$22,8,1) -> 1 | E32: =IF((LEN($BB12)=0),"0",IF(AND(B32=$BB12,D32=$BD12),"5",IF(AND(C32=$BB12-$BD12,C32=0),"3",IF(AND(C32=$BB12-$BD12,OR(C32>0,C32<0)),"3",IF(AND(C32>0,$BB12-$BD12>0),"2",IF(AND(C32<0,$BB12-$BD12<0),"2","0")))))) -> 0 | F32: =MID(Лист1!$B$29,7,1) -> 3 | G32: =F32-H32 -> 2 | H32: =MID(Лист1!$B$29,8,1) -> 1 | I32: =IF((LEN($BB12)=0),"0",IF(AND(F32=$BB12,H32=$BD12),"5",IF(AND(G32=$BB12-$BD12,G32=0),"3",IF(AND(G32=$BB12-$BD12,OR(G32>0,G32<0)),"3",IF(AND(G32>0,$BB12-$BD12>0),"2",IF(AND(G32<0,$BB12-$BD12<0),"2","0")))))) -> 0 | J32: =MID(Лист1!$B$23,7,1) -> 2 | K32: =J32-L32 -> 1 | L32: =MID(Лист1!$B$23,8,1) -> 1 | M32: =IF((LEN($BB12)=0),"0",IF(AND(J32=$BB12,L32=$BD12),"5",IF(AND(K32=$BB12-$BD12,K32=0),"3",IF(AND(K32=$BB12-$BD12,OR(K32>0,K32<0)),"3",IF(AND(K32>0,$BB12-$BD12>0),"2",IF(AND(K32<0,$BB12-$BD12<0),"2","0")))))) -> 0 | N32: =MID(Лист1!$B$30,7,1) -> 2 | O32: =N32-P32 -> 1 | P32: =MID(Лист1!$B$30,8,1) -> 1 | Q32: =IF((LEN($BB12)=0),"0",IF(AND(N32=$BB12,P32=$BD12),"5",IF(AND(O32=$BB12-$BD12,O32=0),"3",IF(AND(O32=$BB12-$BD12,OR(O32>0,O32<0)),"3",IF(AND(O32>0,$BB12-$BD12>0),"2",IF(AND(O32<0,$BB12-$BD12<0),"2","0")))))) -> 0 | R32: =MID(Лист1!$B$24,7,1) -> 2 | S32: =R32-T32 -> 1 | T32: =MID(Лист1!$B$24,8,1) -> 1 | U32: =IF((LEN($BB12)=0),"0",IF(AND(R32=$BB12,T32=$BD12),"5",IF(AND(S32=$BB12-$BD12,S32=0),"3",IF(AND(S32=$BB12-$BD12,OR(S32>0,S32<0)),"3",IF(AND(S32>0,$BB12-$BD12>0),"2",IF(AND(S32<0,$BB12-$BD12<0),"2","0")))))) -> 0 | V32: =MID(Лист1!$B$31,7,1) -> 3 | W32: =V32-X32 -> 2 | X32: =MID(Лист1!$B$31,8,1) -> 1 | Y32: =IF((LEN($BB12)=0),"0",IF(AND(V32=$BB12,X32=$BD12),"5",IF(AND(W32=$BB12-$BD12,W32=0),"3",IF(AND(W32=$BB12-$BD12,OR(W32>0,W32<0)),"3",IF(AND(W32>0,$BB12-$BD12>0),"2",IF(AND(W32<0,$BB12-$BD12<0),"2","0")))))) -> 0 | Z32: =MID(Лист1!$B$25,7,1) -> 2 | AA32: =Z32-AB32 -> 1 | AB32: =MID(Лист1!$B$25,8,1) -> 1 | AC32: =IF((LEN($BB12)=0),"0",IF(AND(Z32=$BB12,AB32=$BD12),"5",IF(AND(AA32=$BB12-$BD12,AA32=0),"3",IF(AND(AA32=$BB12-$BD12,OR(AA32>0,AA32<0)),"3",IF(AND(AA32>0,$BB12-$BD12>0),"2",IF(AND(AA32<0,$BB12-$BD12<0),"2","0")))))) -> 0 | AD32: =MID(Лист1!$B$32,7,1) -> 2 | AE32: =AD32-AF32 -> 1 | AF32: =MID(Лист1!$B$32,8,1) -> 1 | AG32: =IF((LEN($BB12)=0),"0",IF(AND(AD32=$BB12,AF32=$BD12),"5",IF(AND(AE32=$BB12-$BD12,AE32=0),"3",IF(AND(AE32=$BB12-$BD12,OR(AE32>0,AE32<0)),"3",IF(AND(AE32>0,$BB12-$BD12>0),"2",IF(AND(AE32<0,$BB12-$BD12<0),"2","0")))))) -> 0 | AH32: =MID(Лист1!$B$26,7,1) -> 2 | AI32: =AH32-AJ32 -> 1 | AJ32: =MID(Лист1!$B$26,8,1) -> 1 | AK32: =IF((LEN($BB12)=0),"0",IF(AND(AH32=$BB12,AJ32=$BD12),"5",IF(AND(AI32=$BB12-$BD12,AI32=0),"3",IF(AND(AI32=$BB12-$BD12,OR(AI32>0,AI32<0)),"3",IF(AND(AI32>0,$BB12-$BD12>0),"2",IF(AND(AI32<0,$BB12-$BD12<0),"2","0")))))) -> 0 | AL32: =MID(Лист1!$B$33,7,1) -> 3 | AM32: =AL32-AN32 -> 2 | AN32: =MID(Лист1!$B$33,8,1) -> 1 | AO32: =IF((LEN($BB12)=0),"0",IF(AND(AL32=$BB12,AN32=$BD12),"5",IF(AND(AM32=$BB12-$BD12,AM32=0),"3",IF(AND(AM32=$BB12-$BD12,OR(AM32>0,AM32<0)),"3",IF(AND(AM32>0,$BB12-$BD12>0),"2",IF(AND(AM32<0,$BB12-$BD12<0),"2","0")))))) -> 0 | AP32: =MID(Лист1!$B$27,7,1) | AQ32: =AP32-AR32 -> #VALUE! | AR32: =MID(Лист1!$B$27,8,1) | AS32: =IF((LEN($BB12)=0),"0",IF(AND(AP32=$BB12,AR32=$BD12),"5",IF(AND(AQ32=$BB12-$BD12,AQ32=0),"3",IF(AND(AQ32=$BB12-$BD12,OR(AQ32>0,AQ32<0)),"3",IF(AND(AQ32>0,$BB12-$BD12>0),"2",IF(AND(AQ32<0,$BB12-$BD12<0),"2","0")))))) -> 0 | AT32: =MID(Лист1!$B$34,7,1) -> 3 | AU32: =AT32-AV32 -> 1 | AV32: =MID(Лист1!$B$34,8,1) -> 2 | AW32: =IF((LEN($BB12)=0),"0",IF(AND(AT32=$BB12,AV32=$BD12),"5",IF(AND(AU32=$BB12-$BD12,AU32=0),"3",IF(AND(AU32=$BB12-$BD12,OR(AU32>0,AU32<0)),"3",IF(AND(AU32>0,$BB12-$BD12>0),"2",IF(AND(AU32<0,$BB12-$BD12<0),"2","0")))))) -> 0 | AX32: =AX12 -> Барселона - Реал | BB32: =IF((LEN(BB12)=0)," ",BB12) | BC32: =BB32-BD32 -> #VALUE! | BD32: =IF((LEN(BD12)=0)," ",BD12)
B33: =MID(Лист1!$B$22,9,1) -> 1 | C33: =B33-D33 -> -1 | D33: =MID(Лист1!$B$22,10,1) -> 2 | E33: =IF((LEN($BB13)=0),"0",IF(AND(B33=$BB13,D33=$BD13),"5",IF(AND(C33=$BB13-$BD13,C33=0),"3",IF(AND(C33=$BB13-$BD13,OR(C33>0,C33<0)),"3",IF(AND(C33>0,$BB13-$BD13>0),"2",IF(AND(C33<0,$BB13-$BD13<0),"2","0")))))) -> 0 | F33: =MID(Лист1!$B$29,9,1) -> 1 | G33: =F33-H33 -> -1 | H33: =MID(Лист1!$B$29,10,1) -> 2 | I33: =IF((LEN($BB13)=0),"0",IF(AND(F33=$BB13,H33=$BD13),"5",IF(AND(G33=$BB13-$BD13,G33=0),"3",IF(AND(G33=$BB13-$BD13,OR(G33>0,G33<0)),"3",IF(AND(G33>0,$BB13-$BD13>0),"2",IF(AND(G33<0,$BB13-$BD13<0),"2","0")))))) -> 0 | J33: =MID(Лист1!$B$23,9,1) -> 1 | K33: =J33-L33 -> 1 | L33: =MID(Лист1!$B$23,10,1) -> 0 | M33: =IF((LEN($BB13)=0),"0",IF(AND(J33=$BB13,L33=$BD13),"5",IF(AND(K33=$BB13-$BD13,K33=0),"3",IF(AND(K33=$BB13-$BD13,OR(K33>0,K33<0)),"3",IF(AND(K33>0,$BB13-$BD13>0),"2",IF(AND(K33<0,$BB13-$BD13<0),"2","0")))))) -> 0 | N33: =MID(Лист1!$B$30,9,1) -> 1 | O33: =N33-P33 -> -1 | P33: =MID(Лист1!$B$30,10,1) -> 2 | Q33: =IF((LEN($BB13)=0),"0",IF(AND(N33=$BB13,P33=$BD13),"5",IF(AND(O33=$BB13-$BD13,O33=0),"3",IF(AND(O33=$BB13-$BD13,OR(O33>0,O33<0)),"3",IF(AND(O33>0,$BB13-$BD13>0),"2",IF(AND(O33<0,$BB13-$BD13<0),"2","0")))))) -> 0 | R33: =MID(Лист1!$B$24,9,1) -> 1 | S33: =R33-T33 -> -1 | T33: =MID(Лист1!$B$24,10,1) -> 2 | U33: =IF((LEN($BB13)=0),"0",IF(AND(R33=$BB13,T33=$BD13),"5",IF(AND(S33=$BB13-$BD13,S33=0),"3",IF(AND(S33=$BB13-$BD13,OR(S33>0,S33<0)),"3",IF(AND(S33>0,$BB13-$BD13>0),"2",IF(AND(S33<0,$BB13-$BD13<0),"2","0")))))) -> 0 | V33: =MID(Лист1!$B$31,9,1) -> 1 | W33: =V33-X33 -> -1 | X33: =MID(Лист1!$B$31,10,1) -> 2 | Y33: =IF((LEN($BB13)=0),"0",IF(AND(V33=$BB13,X33=$BD13),"5",IF(AND(W33=$BB13-$BD13,W33=0),"3",IF(AND(W33=$BB13-$BD13,OR(W33>0,W33<0)),"3",IF(AND(W33>0,$BB13-$BD13>0),"2",IF(AND(W33<0,$BB13-$BD13<0),"2","0")))))) -> 0 | Z33: =MID(Лист1!$B$25,9,1) -> 1 | AA33: =Z33-AB33 -> 0 | AB33: =MID(Лист1!$B$25,10,1) -> 1 | AC33: =IF((LEN($BB13)=0),"0",IF(AND(Z33=$BB13,AB33=$BD13),"5",IF(AND(AA33=$BB13-$BD13,AA33=0),"3",IF(AND(AA33=$BB13-$BD13,OR(AA33>0,AA33<0)),"3",IF(AND(AA33>0,$BB13-$BD13>0),"2",IF(AND(AA33<0,$BB13-$BD13<0),"2","0")))))) -> 0 | AD33: =MID(Лист1!$B$32,9,1) -> 1 | AE33: =AD33-AF33 -> -2 | AF33: =MID(Лист1!$B$32,10,1) -> 3 | AG33: =IF((LEN($BB13)=0),"0",IF(AND(AD33=$BB13,AF33=$BD13),"5",IF(AND(AE33=$BB13-$BD13,AE33=0),"3",IF(AND(AE33=$BB13-$BD13,OR(AE33>0,AE33<0)),"3",IF(AND(AE33>0,$BB13-$BD13>0),"2",IF(AND(AE33<0,$BB13-$BD13<0),"2","0")))))) -> 0 | AH33: =MID(Лист1!$B$26,9,1) -> 1 | AI33: =AH33-AJ33 -> -1 | AJ33: =MID(Лист1!$B$26,10,1) -> 2 | AK33: =IF((LEN($BB13)=0),"0",IF(AND(AH33=$BB13,AJ33=$BD13),"5",IF(AND(AI33=$BB13-$BD13,AI33=0),"3",IF(AND(AI33=$BB13-$BD13,OR(AI33>0,AI33<0)),"3",IF(AND(AI33>0,$BB13-$BD13>0),"2",IF(AND(AI33<0,$BB13-$BD13<0),"2","0")))))) -> 0 | AL33: =MID(Лист1!$B$33,9,1) -> 1 | AM33: =AL33-AN33 -> -1 | AN33: =MID(Лист1!$B$33,10,1) -> 2 | AO33: =IF((LEN($BB13)=0),"0",IF(AND(AL33=$BB13,AN33=$BD13),"5",IF(AND(AM33=$BB13-$BD13,AM33=0),"3",IF(AND(AM33=$BB13-$BD13,OR(AM33>0,AM33<0)),"3",IF(AND(AM33>0,$BB13-$BD13>0),"2",IF(AND(AM33<0,$BB13-$BD13<0),"2","0")))))) -> 0 | AP33: =MID(Лист1!$B$27,9,1) | AQ33: =AP33-AR33 -> #VALUE! | AR33: =MID(Лист1!$B$27,10,1) | AS33: =IF((LEN($BB13)=0),"0",IF(AND(AP33=$BB13,AR33=$BD13),"5",IF(AND(AQ33=$BB13-$BD13,AQ33=0),"3",IF(AND(AQ33=$BB13-$BD13,OR(AQ33>0,AQ33<0)),"3",IF(AND(AQ33>0,$BB13-$BD13>0),"2",IF(AND(AQ33<0,$BB13-$BD13<0),"2","0")))))) -> 0 | AT33: =MID(Лист1!$B$34,9,1) -> 0 | AU33: =AT33-AV33 -> -1 | AV33: =MID(Лист1!$B$34,10,1) -> 1 | AW33: =IF((LEN($BB13)=0),"0",IF(AND(AT33=$BB13,AV33=$BD13),"5",IF(AND(AU33=$BB13-$BD13,AU33=0),"3",IF(AND(AU33=$BB13-$BD13,OR(AU33>0,AU33<0)),"3",IF(AND(AU33>0,$BB13-$BD13>0),"2",IF(AND(AU33<0,$BB13-$BD13<0),"2","0")))))) -> 0 | AX33: =AX13 -> Лацио - Рома | BB33: =IF((LEN(BB13)=0)," ",BB13) | BC33: =BB33-BD33 -> #VALUE! | BD33: =IF((LEN(BD13)=0)," ",BD13)
B34: =MID(Лист1!$B$22,11,1) -> 2 | C34: =B34-D34 -> 1 | D34: =MID(Лист1!$B$22,12,1) -> 1 | E34: =IF((LEN($BB14)=0),"0",IF(AND(B34=$BB14,D34=$BD14),"5",IF(AND(C34=$BB14-$BD14,C34=0),"3",IF(AND(C34=$BB14-$BD14,OR(C34>0,C34<0)),"3",IF(AND(C34>0,$BB14-$BD14>0),"2",IF(AND(C34<0,$BB14-$BD14<0),"2","0")))))) -> 0 | F34: =MID(Лист1!$B$29,11,1) -> 2 | G34: =F34-H34 -> 2 | H34: =MID(Лист1!$B$29,12,1) -> 0 | I34: =IF((LEN($BB14)=0),"0",IF(AND(F34=$BB14,H34=$BD14),"5",IF(AND(G34=$BB14-$BD14,G34=0),"3",IF(AND(G34=$BB14-$BD14,OR(G34>0,G34<0)),"3",IF(AND(G34>0,$BB14-$BD14>0),"2",IF(AND(G34<0,$BB14-$BD14<0),"2","0")))))) -> 0 | J34: =MID(Лист1!$B$23,11,1) -> 1 | K34: =J34-L34 -> 1 | L34: =MID(Лист1!$B$23,12,1) -> 0 | M34: =IF((LEN($BB14)=0),"0",IF(AND(J34=$BB14,L34=$BD14),"5",IF(AND(K34=$BB14-$BD14,K34=0),"3",IF(AND(K34=$BB14-$BD14,OR(K34>0,K34<0)),"3",IF(AND(K34>0,$BB14-$BD14>0),"2",IF(AND(K34<0,$BB14-$BD14<0),"2","0")))))) -> 0 | N34: =MID(Лист1!$B$30,11,1) -> 2 | O34: =N34-P34 -> 1 | P34: =MID(Лист1!$B$30,12,1) -> 1 | Q34: =IF((LEN($BB14)=0),"0",IF(AND(N34=$BB14,P34=$BD14),"5",IF(AND(O34=$BB14-$BD14,O34=0),"3",IF(AND(O34=$BB14-$BD14,OR(O34>0,O34<0)),"3",IF(AND(O34>0,$BB14-$BD14>0),"2",IF(AND(O34<0,$BB14-$BD14<0),"2","0")))))) -> 0 | R34: =MID(Лист1!$B$24,11,1) -> 1 | S34: =R34-T34 -> 0 | T34: =MID(Лист1!$B$24,12,1) -> 1 | U34: =IF((LEN($BB14)=0),"0",IF(AND(R34=$BB14,T34=$BD14),"5",IF(AND(S34=$BB14-$BD14,S34=0),"3",IF(AND(S34=$BB14-$BD14,OR(S34>0,S34<0)),"3",IF(AND(S34>0,$BB14-$BD14>0),"2",IF(AND(S34<0,$BB14-$BD14<0),"2","0")))))) -> 0 | V34: =MID(Лист1!$B$31,11,1) -> 2 | W34: =V34-X34 -> 2 | X34: =MID(Лист1!$B$31,12,1) -> 0 | Y34: =IF((LEN($BB14)=0),"0",IF(AND(V34=$BB14,X34=$BD14),"5",IF(AND(W34=$BB14-$BD14,W34=0),"3",IF(AND(W34=$BB14-$BD14,OR(W34>0,W34<0)),"3",IF(AND(W34>0,$BB14-$BD14>0),"2",IF(AND(W34<0,$BB14-$BD14<0),"2","0")))))) -> 0 | Z34: =MID(Лист1!$B$25,11,1) -> 1 | AA34: =Z34-AB34 -> 0 | AB34: =MID(Лист1!$B$25,12,1) -> 1 | AC34: =IF((LEN($BB14)=0),"0",IF(AND(Z34=$BB14,AB34=$BD14),"5",IF(AND(AA34=$BB14-$BD14,AA34=0),"3",IF(AND(AA34=$BB14-$BD14,OR(AA34>0,AA34<0)),"3",IF(AND(AA34>0,$BB14-$BD14>0),"2",IF(AND(AA34<0,$BB14-$BD14<0),"2","0")))))) -> 0 | AD34: =MID(Лист1!$B$32,11,1) -> 1 | AE34: =AD34-AF34 -> 1 | AF34: =MID(Лист1!$B$32,12,1) -> 0 | AG34: =IF((LEN($BB14)=0),"0",IF(AND(AD34=$BB14,AF34=$BD14),"5",IF(AND(AE34=$BB14-$BD14,AE34=0),"3",IF(AND(AE34=$BB14-$BD14,OR(AE34>0,AE34<0)),"3",IF(AND(AE34>0,$BB14-$BD14>0),"2",IF(AND(AE34<0,$BB14-$BD14<0),"2","0")))))) -> 0 | AH34: =MID(Лист1!$B$26,11,1) -> 1 | AI34: =AH34-AJ34 -> 1 | AJ34: =MID(Лист1!$B$26,12,1) -> 0 | AK34: =IF((LEN($BB14)=0),"0",IF(AND(AH34=$BB14,AJ34=$BD14),"5",IF(AND(AI34=$BB14-$BD14,AI34=0),"3",IF(AND(AI34=$BB14-$BD14,OR(AI34>0,AI34<0)),"3",IF(AND(AI34>0,$BB14-$BD14>0),"2",IF(AND(AI34<0,$BB14-$BD14<0),"2","0")))))) -> 0 | AL34: =MID(Лист1!$B$33,11,1) -> 3 | AM34: =AL34-AN34 -> 2 | AN34: =MID(Лист1!$B$33,12,1) -> 1 | AO34: =IF((LEN($BB14)=0),"0",IF(AND(AL34=$BB14,AN34=$BD14),"5",IF(AND(AM34=$BB14-$BD14,AM34=0),"3",IF(AND(AM34=$BB14-$BD14,OR(AM34>0,AM34<0)),"3",IF(AND(AM34>0,$BB14-$BD14>0),"2",IF(AND(AM34<0,$BB14-$BD14<0),"2","0")))))) -> 0 | AP34: =MID(Лист1!$B$27,11,1) | AQ34: =AP34-AR34 -> #VALUE! | AR34: =MID(Лист1!$B$27,12,1) | AS34: =IF((LEN($BB14)=0),"0",IF(AND(AP34=$BB14,AR34=$BD14),"5",IF(AND(AQ34=$BB14-$BD14,AQ34=0),"3",IF(AND(AQ34=$BB14-$BD14,OR(AQ34>0,AQ34<0)),"3",IF(AND(AQ34>0,$BB14-$BD14>0),"2",IF(AND(AQ34<0,$BB14-$BD14<0),"2","0")))))) -> 0 | AT34: =MID(Лист1!$B$34,11,1) -> 2 | AU34: =AT34-AV34 -> 1 | AV34: =MID(Лист1!$B$34,12,1) -> 1 | AW34: =IF((LEN($BB14)=0),"0",IF(AND(AT34=$BB14,AV34=$BD14),"5",IF(AND(AU34=$BB14-$BD14,AU34=0),"3",IF(AND(AU34=$BB14-$BD14,OR(AU34>0,AU34<0)),"3",IF(AND(AU34>0,$BB14-$BD14>0),"2",IF(AND(AU34<0,$BB14-$BD14<0),"2","0")))))) -> 0 | AX34: =AX14 -> Боруссия М - Герта | BB34: =IF((LEN(BB14)=0)," ",BB14) | BC34: =BB34-BD34 -> #VALUE! | BD34: =IF((LEN(BD14)=0)," ",BD14)
B35: =MID(Лист1!$B$22,13,1) -> 0 | C35: =B35-D35 -> -1 | D35: =MID(Лист1!$B$22,14,1) -> 1 | E35: =IF((LEN($BB15)=0),"0",IF(AND(B35=$BB15,D35=$BD15),"5",IF(AND(C35=$BB15-$BD15,C35=0),"3",IF(AND(C35=$BB15-$BD15,OR(C35>0,C35<0)),"3",IF(AND(C35>0,$BB15-$BD15>0),"2",IF(AND(C35<0,$BB15-$BD15<0),"2","0")))))) -> 0 | F35: =MID(Лист1!$B$29,13,1) -> 1 | G35: =F35-H35 -> 0 | H35: =MID(Лист1!$B$29,14,1) -> 1 | I35: =IF((LEN($BB15)=0),"0",IF(AND(F35=$BB15,H35=$BD15),"5",IF(AND(G35=$BB15-$BD15,G35=0),"3",IF(AND(G35=$BB15-$BD15,OR(G35>0,G35<0)),"3",IF(AND(G35>0,$BB15-$BD15>0),"2",IF(AND(G35<0,$BB15-$BD15<0),"2","0")))))) -> 0 | J35: =MID(Лист1!$B$23,13,1) -> 1 | K35: =J35-L35 -> 0 | L35: =MID(Лист1!$B$23,14,1) -> 1 | M35: =IF((LEN($BB15)=0),"0",IF(AND(J35=$BB15,L35=$BD15),"5",IF(AND(K35=$BB15-$BD15,K35=0),"3",IF(AND(K35=$BB15-$BD15,OR(K35>0,K35<0)),"3",IF(AND(K35>0,$BB15-$BD15>0),"2",IF(AND(K35<0,$BB15-$BD15<0),"2","0")))))) -> 0 | N35: =MID(Лист1!$B$30,13,1) -> 1 | O35: =N35-P35 -> 1 | P35: =MID(Лист1!$B$30,14,1) -> 0 | Q35: =IF((LEN($BB15)=0),"0",IF(AND(N35=$BB15,P35=$BD15),"5",IF(AND(O35=$BB15-$BD15,O35=0),"3",IF(AND(O35=$BB15-$BD15,OR(O35>0,O35<0)),"3",IF(AND(O35>0,$BB15-$BD15>0),"2",IF(AND(O35<0,$BB15-$BD15<0),"2","0")))))) -> 0 | R35: =MID(Лист1!$B$24,13,1) -> 0 | S35: =R35-T35 -> -1 | T35: =MID(Лист1!$B$24,14,1) -> 1 | U35: =IF((LEN($BB15)=0),"0",IF(AND(R35=$BB15,T35=$BD15),"5",IF(AND(S35=$BB15-$BD15,S35=0),"3",IF(AND(S35=$BB15-$BD15,OR(S35>0,S35<0)),"3",IF(AND(S35>0,$BB15-$BD15>0),"2",IF(AND(S35<0,$BB15-$BD15<0),"2","0")))))) -> 0 | V35: =MID(Лист1!$B$31,13,1) -> 1 | W35: =V35-X35 -> 0 | X35: =MID(Лист1!$B$31,14,1) -> 1 | Y35: =IF((LEN($BB15)=0),"0",IF(AND(V35=$BB15,X35=$BD15),"5",IF(AND(W35=$BB15-$BD15,W35=0),"3",IF(AND(W35=$BB15-$BD15,OR(W35>0,W35<0)),"3",IF(AND(W35>0,$BB15-$BD15>0),"2",IF(AND(W35<0,$BB15-$BD15<0),"2","0")))))) -> 0 | Z35: =MID(Лист1!$B$25,13,1) -> 2 | AA35: =Z35-AB35 -> 2 | AB35: =MID(Лист1!$B$25,14,1) -> 0 | AC35: =IF((LEN($BB15)=0),"0",IF(AND(Z35=$BB15,AB35=$BD15),"5",IF(AND(AA35=$BB15-$BD15,AA35=0),"3",IF(AND(AA35=$BB15-$BD15,OR(AA35>0,AA35<0)),"3",IF(AND(AA35>0,$BB15-$BD15>0),"2",IF(AND(AA35<0,$BB15-$BD15<0),"2","0")))))) -> 0 | AD35: =MID(Лист1!$B$32,13,1) -> 1 | AE35: =AD35-AF35 -> 0 | AF35: =MID(Лист1!$B$32,14,1) -> 1 | AG35: =IF((LEN($BB15)=0),"0",IF(AND(AD35=$BB15,AF35=$BD15),"5",IF(AND(AE35=$BB15-$BD15,AE35=0),"3",IF(AND(AE35=$BB15-$BD15,OR(AE35>0,AE35<0)),"3",IF(AND(AE35>0,$BB15-$BD15>0),"2",IF(AND(AE35<0,$BB15-$BD15<0),"2","0")))))) -> 0 | AH35: =MID(Лист1!$B$26,13,1) -> 1 | AI35: =AH35-AJ35 -> -1 | AJ35: =MID(Лист1!$B$26,14,1) -> 2 | AK35: =IF((LEN($BB15)=0),"0",IF(AND(AH35=$BB15,AJ35=$BD15),"5",IF(AND(AI35=$BB15-$BD15,AI35=0),"3",IF(AND(AI35=$BB15-$BD15,OR(AI35>0,AI35<0)),"3",IF(AND(AI35>0,$BB15-$BD15>0),"2",IF(AND(AI35<0,$BB15-$BD15<0),"2","0")))))) -> 0 | AL35: =MID(Лист1!$B$33,13,1) -> 1 | AM35: =AL35-AN35 -> -1 | AN35: =MID(Лист1!$B$33,14,1) -> 2 | AO35: =IF((LEN($BB15)=0),"0",IF(AND(AL35=$BB15,AN35=$BD15),"5",IF(AND(AM35=$BB15-$BD15,AM35=0),"3",IF(AND(AM35=$BB15-$BD15,OR(AM35>0,AM35<0)),"3",IF(AND(AM35>0,$BB15-$BD15>0),"2",IF(AND(AM35<0,$BB15-$BD15<0),"2","0")))))) -> 0 | AP35: =MID(Лист1!$B$27,13,1) | AQ35: =AP35-AR35 -> #VALUE! | AR35: =MID(Лист1!$B$27,14,1) | AS35: =IF((LEN($BB15)=0),"0",IF(AND(AP35=$BB15,AR35=$BD15),"5",IF(AND(AQ35=$BB15-$BD15,AQ35=0),"3",IF(AND(AQ35=$BB15-$BD15,OR(AQ35>0,AQ35<0)),"3",IF(AND(AQ35>0,$BB15-$BD15>0),"2",IF(AND(AQ35<0,$BB15-$BD15<0),"2","0")))))) -> 0 | AT35: =MID(Лист1!$B$34,13,1) -> 2 | AU35: =AT35-AV35 -> 1 | AV35: =MID(Лист1!$B$34,14,1) -> 1 | AW35: =IF((LEN($BB15)=0),"0",IF(AND(AT35=$BB15,AV35=$BD15),"5",IF(AND(AU35=$BB15-$BD15,AU35=0),"3",IF(AND(AU35=$BB15-$BD15,OR(AU35>0,AU35<0)),"3",IF(AND(AU35>0,$BB15-$BD15>0),"2",IF(AND(AU35<0,$BB15-$BD15<0),"2","0")))))) -> 0 | AX35: =AX15 -> Бастия - Марсель | BB35: =IF((LEN(BB15)=0)," ",BB15) | BC35: =BB35-BD35 -> #VALUE! | BD35: =IF((LEN(BD15)=0)," ",BD15)
B36: =MID(Лист1!$B$22,15,1) -> 1 | C36: =B36-D36 -> 1 | D36: =MID(Лист1!$B$22,16,1) -> 0 | E36: =IF((LEN($BB16)=0),"0",IF(AND(B36=$BB16,D36=$BD16),"5",IF(AND(C36=$BB16-$BD16,C36=0),"3",IF(AND(C36=$BB16-$BD16,OR(C36>0,C36<0)),"3",IF(AND(C36>0,$BB16-$BD16>0),"2",IF(AND(C36<0,$BB16-$BD16<0),"2","0")))))) -> 0 | F36: =MID(Лист1!$B$29,15,1) -> 2 | G36: =F36-H36 -> 1 | H36: =MID(Лист1!$B$29,16,1) -> 1 | I36: =IF((LEN($BB16)=0),"0",IF(AND(F36=$BB16,H36=$BD16),"5",IF(AND(G36=$BB16-$BD16,G36=0),"3",IF(AND(G36=$BB16-$BD16,OR(G36>0,G36<0)),"3",IF(AND(G36>0,$BB16-$BD16>0),"2",IF(AND(G36<0,$BB16-$BD16<0),"2","0")))))) -> 0 | J36: =MID(Лист1!$B$23,15,1) -> 1 | K36: =J36-L36 -> 0 | L36: =MID(Лист1!$B$23,16,1) -> 1 | M36: =IF((LEN($BB16)=0),"0",IF(AND(J36=$BB16,L36=$BD16),"5",IF(AND(K36=$BB16-$BD16,K36=0),"3",IF(AND(K36=$BB16-$BD16,OR(K36>0,K36<0)),"3",IF(AND(K36>0,$BB16-$BD16>0),"2",IF(AND(K36<0,$BB16-$BD16<0),"2","0")))))) -> 0 | N36: =MID(Лист1!$B$30,15,1) -> 2 | O36: =N36-P36 -> 1 | P36: =MID(Лист1!$B$30,16,1) -> 1 | Q36: =IF((LEN($BB16)=0),"0",IF(AND(N36=$BB16,P36=$BD16),"5",IF(AND(O36=$BB16-$BD16,O36=0),"3",IF(AND(O36=$BB16-$BD16,OR(O36>0,O36<0)),"3",IF(AND(O36>0,$BB16-$BD16>0),"2",IF(AND(O36<0,$BB16-$BD16<0),"2","0")))))) -> 0 | R36: =MID(Лист1!$B$24,15,1) -> 2 | S36: =R36-T36 -> 1 | T36: =MID(Лист1!$B$24,16,1) -> 1 | U36: =IF((LEN($BB16)=0),"0",IF(AND(R36=$BB16,T36=$BD16),"5",IF(AND(S36=$BB16-$BD16,S36=0),"3",IF(AND(S36=$BB16-$BD16,OR(S36>0,S36<0)),"3",IF(AND(S36>0,$BB16-$BD16>0),"2",IF(AND(S36<0,$BB16-$BD16<0),"2","0")))))) -> 0 | V36: =MID(Лист1!$B$31,15,1) -> 2 | W36: =V36-X36 -> 1 | X36: =MID(Лист1!$B$31,16,1) -> 1 | Y36: =IF((LEN($BB16)=0),"0",IF(AND(V36=$BB16,X36=$BD16),"5",IF(AND(W36=$BB16-$BD16,W36=0),"3",IF(AND(W36=$BB16-$BD16,OR(W36>0,W36<0)),"3",IF(AND(W36>0,$BB16-$BD16>0),"2",IF(AND(W36<0,$BB16-$BD16<0),"2","0")))))) -> 0 | Z36: =MID(Лист1!$B$25,15,1) -> 1 | AA36: =Z36-AB36 -> 0 | AB36: =MID(Лист1!$B$25,16,1) -> 1 | AC36: =IF((LEN($BB16)=0),"0",IF(AND(Z36=$BB16,AB36=$BD16),"5",IF(AND(AA36=$BB16-$BD16,AA36=0),"3",IF(AND(AA36=$BB16-$BD16,OR(AA36>0,AA36<0)),"3",IF(AND(AA36>0,$BB16-$BD16>0),"2",IF(AND(AA36<0,$BB16-$BD16<0),"2","0")))))) -> 0 | AD36: =MID(Лист1!$B$32,15,1) -> 1 | AE36: =AD36-AF36 -> 1 | AF36: =MID(Лист1!$B$32,16,1) -> 0 | AG36: =IF((LEN($BB16)=0),"0",IF(AND(AD36=$BB16,AF36=$BD16),"5",IF(AND(AE36=$BB16-$BD16,AE36=0),"3",IF(AND(AE36=$BB16-$BD16,OR(AE36>0,AE36<0)),"3",IF(AND(AE36>0,$BB16-$BD16>0),"2",IF(AND(AE36<0,$BB16-$BD16<0),"2","0")))))) -> 0 | AH36: =MID(Лист1!$B$26,15,1) -> 2 | AI36: =AH36-AJ36 -> 1 | AJ36: =MID(Лист1!$B$26,16,1) -> 1 | AK36: =IF((LEN($BB16)=0),"0",IF(AND(AH36=$BB16,AJ36=$BD16),"5",IF(AND(AI36=$BB16-$BD16,AI36=0),"3",IF(AND(AI36=$BB16-$BD16,OR(AI36>0,AI36<0)),"3",IF(AND(AI36>0,$BB16-$BD16>0),"2",IF(AND(AI36<0,$BB16-$BD16<0),"2","0")))))) -> 0 | AL36: =MID(Лист1!$B$33,15,1) -> 2 | AM36: =AL36-AN36 -> 2 | AN36: =MID(Лист1!$B$33,16,1) -> 0 | AO36: =IF((LEN($BB16)=0),"0",IF(AND(AL36=$BB16,AN36=$BD16),"5",IF(AND(AM36=$BB16-$BD16,AM36=0),"3",IF(AND(AM36=$BB16-$BD16,OR(AM36>0,AM36<0)),"3",IF(AND(AM36>0,$BB16-$BD16>0),"2",IF(AND(AM36<0,$BB16-$BD16<0),"2","0")))))) -> 0 | AP36: =MID(Лист1!$B$27,15,1) | AQ36: =AP36-AR36 -> #VALUE! | AR36: =MID(Лист1!$B$27,16,1) | AS36: =IF((LEN($BB16)=0),"0",IF(AND(AP36=$BB16,AR36=$BD16),"5",IF(AND(AQ36=$BB16-$BD16,AQ36=0),"3",IF(AND(AQ36=$BB16-$BD16,OR(AQ36>0,AQ36<0)),"3",IF(AND(AQ36>0,$BB16-$BD16>0),"2",IF(AND(AQ36<0,$BB16-$BD16<0),"2","0")))))) -> 0 | AT36: =MID(Лист1!$B$34,15,1) -> 2 | AU36: =AT36-AV36 -> 1 | AV36: =MID(Лист1!$B$34,16,1) -> 1 | AW36: =IF((LEN($BB16)=0),"0",IF(AND(AT36=$BB16,AV36=$BD16),"5",IF(AND(AU36=$BB16-$BD16,AU36=0),"3",IF(AND(AU36=$BB16-$BD16,OR(AU36>0,AU36<0)),"3",IF(AND(AU36>0,$BB16-$BD16>0),"2",IF(AND(AU36<0,$BB16-$BD16<0),"2","0")))))) -> 0 | AX36: =AX16 -> Зенит - ЦСКА | BB36: =IF((LEN(BB16)=0)," ",BB16) | BC36: =BB36-BD36 -> #VALUE! | BD36: =IF((LEN(BD16)=0)," ",BD16)
B37: 1 | C37: =B37-D37 -> 1 | D37: 0 | E37: =IF((LEN(BB37)=0),"0",IF(AND(B37=BB37,D37=BD37),"5",IF(AND(C37=BC37,C37=0),"2",IF(AND(C37=BC37,OR(C37>0,C37<0)),"3",IF(AND(C37>0,BC37>0),"2",IF(AND(C37<0,BC37<0),"2","0")))))) -> 0 | F37: 0 | G37: =F37-H37 -> -2 | H37: 2 | I37: =IF((LEN(BB37)=0),"0",IF(AND(F37=BB37,H37=BD37),"5",IF(AND(G37=BC37,G37=0),"2",IF(AND(G37=BC37,OR(G37>0,G37<0)),"3",IF(AND(G37>0,BC37>0),"2",IF(AND(G37<0,BC37<0),"2","0")))))) -> 0 | J37: 0 | K37: =J37-L37 -> -2 | L37: 2 | M37: =IF((LEN(BB37)=0),"0",IF(AND(J37=BB37,L37=BD37),"5",IF(AND(K37=BC37,K37=0),"2",IF(AND(K37=BC37,OR(K37>0,K37<0)),"3",IF(AND(K37>0,BC37>0),"2",IF(AND(K37<0,BC37<0),"2","0")))))) -> 0 | N37: 1 | O37: =N37-P37 -> -1 | P37: 2 | Q37: =IF((LEN(BB37)=0),"0",IF(AND(N37=BB37,P37=BD37),"5",IF(AND(O37=BC37,O37=0),"2",IF(AND(O37=BC37,OR(O37>0,O37<0)),"3",IF(AND(O37>0,BC37>0),"2",IF(AND(O37<0,BC37<0),"2","0")))))) -> 0 | R37: 1 | S37: =R37-T37 -> -1 | T37: 2 | U37: =IF((LEN(BB37)=0),"0",IF(AND(R37=BB37,T37=BD37),"5",IF(AND(S37=BC37,S37=0),"2",IF(AND(S37=BC37,OR(S37>0,S37<0)),"3",IF(AND(S37>0,BC37>0),"2",IF(AND(S37<0,BC37<0),"2","0")))))) -> 0 | V37: 2 | W37: =V37-X37 -> 1 | X37: 1 | Y37: =IF((LEN(BB37)=0),"0",IF(AND(V37=BB37,X37=BD37),"5",IF(AND(W37=BC37,W37=0),"2",IF(AND(W37=BC37,OR(W37>0,W37<0)),"3",IF(AND(W37>0,BC37>0),"2",IF(AND(W37<0,BC37<0),"2","0")))))) -> 0 | Z37: 1 | AA37: =Z37-AB37 -> 0 | AB37: 1 | AC37: =IF((LEN(BB37)=0),"0",IF(AND(Z37=BB37,AB37=BD37),"5",IF(AND(AA37=BC37,AA37=0),"2",IF(AND(AA37=BC37,OR(AA37>0,AA37<0)),"3",IF(AND(AA37>0,BC37>0),"2",IF(AND(AA37<0,BC37<0),"2","0")))))) -> 0 | AD37: 1 | AE37: =AD37-AF37 -> -1 | AF37: 2 | AG37: =IF((LEN(BB37)=0),"0",IF(AND(AD37=BB37,AF37=BD37),"5",IF(AND(AE37=BC37,AE37=0),"2",IF(AND(AE37=BC37,OR(AE37>0,AE37<0)),"3",IF(AND(AE37>0,BC37>0),"2",IF(AND(AE37<0,BC37<0),"2","0")))))) -> 0 | AH37: 1 | AI37: =AH37-AJ37 -> 0 | AJ37: 1 | AK37: =IF((LEN(BB37)=0),"0",IF(AND(AH37=BB37,AJ37=BD37),"5",IF(AND(AI37=BC37,AI37=0),"2",IF(AND(AI37=BC37,OR(AI37>0,AI37<0)),"3",IF(AND(AI37>0,BC37>0),"2",IF(AND(AI37<0,BC37<0),"2","0")))))) -> 0 | AL37: 1 | AM37: =AL37-AN37 -> -1 | AN37: 2 | AO37: =IF((LEN(BB37)=0),"0",IF(AND(AL37=BB37,AN37=BD37),"5",IF(AND(AM37=BC37,AM37=0),"2",IF(AND(AM37=BC37,OR(AM37>0,AM37<0)),"3",IF(AND(AM37>0,BC37>0),"2",IF(AND(AM37<0,BC37<0),"2","0")))))) -> 0 | AP37: 1 | AQ37: =AP37-AR37 -> -2 | AR37: 3 | AS37: =IF((LEN(BB37)=0),"0",IF(AND(AP37=BB37,AR37=BD37),"5",IF(AND(AQ37=BC37,AQ37=0),"2",IF(AND(AQ37=BC37,OR(AQ37>0,AQ37<0)),"3",IF(AND(AQ37>0,BC37>0),"2",IF(AND(AQ37<0,BC37<0),"2","0")))))) -> 0 | AT37: 1 | AU37: =AT37-AV37 -> -1 | AV37: 2 | AW37: =IF((LEN(BB37)=0),"0",IF(AND(AT37=BB37,AV37=BD37),"5",IF(AND(AU37=BC37,AU37=0),"2",IF(AND(AU37=BC37,OR(AU37>0,AU37<0)),"3",IF(AND(AU37>0,BC37>0),"2",IF(AND(AU37<0,BC37<0),"2","0")))))) -> 0 | BC37: =BB37-BD37 -> 0
B38: 0 | C38: =B38-D38 -> -1 | D38: 1 | E38: =IF((LEN(BB38)=0),"0",IF(AND(B38=BB38,D38=BD38),"5",IF(AND(C38=BC38,C38=0),"2",IF(AND(C38=BC38,OR(C38>0,C38<0)),"3",IF(AND(C38>0,BC38>0),"2",IF(AND(C38<0,BC38<0),"2","0")))))) -> 0 | F38: 0 | G38: =F38-H38 -> -2 | H38: 2 | I38: =IF((LEN(BB38)=0),"0",IF(AND(F38=BB38,H38=BD38),"5",IF(AND(G38=BC38,G38=0),"2",IF(AND(G38=BC38,OR(G38>0,G38<0)),"3",IF(AND(G38>0,BC38>0),"2",IF(AND(G38<0,BC38<0),"2","0")))))) -> 0 | J38: 1 | K38: =J38-L38 -> 1 | L38: 0 | M38: =IF((LEN(BB38)=0),"0",IF(AND(J38=BB38,L38=BD38),"5",IF(AND(K38=BC38,K38=0),"2",IF(AND(K38=BC38,OR(K38>0,K38<0)),"3",IF(AND(K38>0,BC38>0),"2",IF(AND(K38<0,BC38<0),"2","0")))))) -> 0 | N38: 1 | O38: =N38-P38 -> 0 | P38: 1 | Q38: =IF((LEN(BB38)=0),"0",IF(AND(N38=BB38,P38=BD38),"5",IF(AND(O38=BC38,O38=0),"2",IF(AND(O38=BC38,OR(O38>0,O38<0)),"3",IF(AND(O38>0,BC38>0),"2",IF(AND(O38<0,BC38<0),"2","0")))))) -> 0 | R38: 1 | S38: =R38-T38 -> -1 | T38: 2 | U38: =IF((LEN(BB38)=0),"0",IF(AND(R38=BB38,T38=BD38),"5",IF(AND(S38=BC38,S38=0),"2",IF(AND(S38=BC38,OR(S38>0,S38<0)),"3",IF(AND(S38>0,BC38>0),"2",IF(AND(S38<0,BC38<0),"2","0")))))) -> 0 | V38: 1 | W38: =V38-X38 -> -1 | X38: 2 | Y38: =IF((LEN(BB38)=0),"0",IF(AND(V38=BB38,X38=BD38),"5",IF(AND(W38=BC38,W38=0),"2",IF(AND(W38=BC38,OR(W38>0,W38<0)),"3",IF(AND(W38>0,BC38>0),"2",IF(AND(W38<0,BC38<0),"2","0")))))) -> 0 | Z38: 1 | AA38: =Z38-AB38 -> 0 | AB38: 1 | AC38: =IF((LEN(BB38)=0),"0",IF(AND(Z38=BB38,AB38=BD38),"5",IF(AND(AA38=BC38,AA38=0),"2",IF(AND(AA38=BC38,OR(AA38>0,AA38<0)),"3",IF(AND(AA38>0,BC38>0),"2",IF(AND(AA38<0,BC38<0),"2","0")))))) -> 0 | AD38: 2 | AE38: =AD38-AF38 -> 1 | AF38: 1 | AG38: =IF((LEN(BB38)=0),"0",IF(AND(AD38=BB38,AF38=BD38),"5",IF(AND(AE38=BC38,AE38=0),"2",IF(AND(AE38=BC38,OR(AE38>0,AE38<0)),"3",IF(AND(AE38>0,BC38>0),"2",IF(AND(AE38<0,BC38<0),"2","0")))))) -> 0 | AH38: 2 | AI38: =AH38-AJ38 -> -1 | AJ38: 3 | AK38: =IF((LEN(BB38)=0),"0",IF(AND(AH38=BB38,AJ38=BD38),"5",IF(AND(AI38=BC38,AI38=0),"2",IF(AND(AI38=BC38,OR(AI38>0,AI38<0)),"3",IF(AND(AI38>0,BC38>0),"2",IF(AND(AI38<0,BC38<0),"2","0")))))) -> 0 | AL38: 1 | AM38: =AL38-AN38 -> -1 | AN38: 2 | AO38: =IF((LEN(BB38)=0),"0",IF(AND(AL38=BB38,AN38=BD38),"5",IF(AND(AM38=BC38,AM38=0),"2",IF(AND(AM38=BC38,OR(AM38>0,AM38<0)),"3",IF(AND(AM38>0,BC38>0),"2",IF(AND(AM38<0,BC38<0),"2","0")))))) -> 0 | AP38: 1 | AQ38: =AP38-AR38 -> -2 | AR38: 3 | AS38: =IF((LEN(BB38)=0),"0",IF(AND(AP38=BB38,AR38=BD38),"5",IF(AND(AQ38=BC38,AQ38=0),"2",IF(AND(AQ38=BC38,OR(AQ38>0,AQ38<0)),"3",IF(AND(AQ38>0,BC38>0),"2",IF(AND(AQ38<0,BC38<0),"2","0")))))) -> 0 | AT38: 1 | AU38: =AT38-AV38 -> -2 | AV38: 3 | AW38: =IF((LEN(BB38)=0),"0",IF(AND(AT38=BB38,AV38=BD38),"5",IF(AND(AU38=BC38,AU38=0),"2",IF(AND(AU38=BC38,OR(AU38>0,AU38<0)),"3",IF(AND(AU38>0,BC38>0),"2",IF(AND(AU38<0,BC38<0),"2","0")))))) -> 0 | BC38: =BB38-BD38 -> 0
B39: =E29+E30+E31+E32+E33+E34+E35+E36+E37+E38 -> 0 | F39: =I29+I30+I31+I32+I33+I34+I35+I36+I37+I38 -> 2 | J39: =M29+M30+M31+M32+M33+M34+M35+M36+M37+M38 -> 5 | N39: =Q29+Q30+Q31+Q32+Q33+Q34+Q35+Q36+Q37+Q38 -> 6 | R39: =U29+U30+U31+U32+U33+U34+U35+U36+U37+U38 -> 7 | V39: =Y29+Y30+Y31+Y32+Y33+Y34+Y35+Y36+Y37+Y38 -> 8 | Z39: =AC29+AC30+AC31+AC32+AC33+AC34+AC35+AC36+AC37+AC38 -> 5 | AD39: =AG29+AG30+AG31+AG32+AG33+AG34+AG35+AG36+AG37+AG38 -> 0 | AH39: =AK29+AK30+AK31+AK32+AK33+AK34+AK35+AK36+AK37+AK38 -> 5 | AL39: =AO29+AO30+AO31+AO32+AO33+AO34+AO35+AO36+AO37+AO38 -> 0 | AP39: =AS29+AS30+AS31+AS32+AS33+AS34+AS35+AS36+AS37+AS38 -> #VALUE! | AT39: =AW29+AW30+AW31+AW32+AW33+AW34+AW35+AW36+AW37+AW38 -> 8
B40: =IF(B39>F39,"1",IF(B39=F39,"0", IF(B39<F39,"0"))) -> 0 | F40: =IF(F39>B39,"1",IF(F39=B39,"0", IF(F39<B39,"0"))) -> 1 | J40: =IF(J39>N39,"1",IF(J39=N39,"0", IF(J39<N39,"0"))) -> 0 | N40: =IF(N39>J39,"1",IF(N39=J39,"0", IF(N39<J39,"0"))) -> 1 | R40: =IF(R39>V39,"1",IF(R39=V39,"0", IF(R39<V39,"0"))) -> 0 | V40: =IF(V39>R39,"1",IF(V39=R39,"0", IF(V39<R39,"0"))) -> 1 | Z40: =IF(Z39>AD39,"1",IF(Z39=AD39,"0", IF(Z39<AD39,"0"))) -> 1 | AD40: =IF(AD39>Z39,"1",IF(AD39=Z39,"0", IF(AD39<Z39,"0"))) -> 0 | AH40: =IF(AH39>AL39,"1",IF(AH39=AL39,"0", IF(AH39<AL39,"0"))) -> 1 | AL40: =IF(AL39>AH39,"1",IF(AL39=AH39,"0", IF(AL39<AH39,"0"))) -> 0 | AP40: =IF(AP39>AT39,"1",IF(AP39=AT39,"0", IF(AP39<AT39,"0"))) -> #VALUE! | AT40: =IF(AT39>AP39,"1",IF(AT39=AP39,"0", IF(AT39<AP39,"0"))) -> #VALUE!
B42: Тур 2
B44: =Лист1!A41 -> Спартакфорум | H44: =B60+J60+R60+Z60+AH60+AP60 -> 0
B45: =Лист1!A48 -> ЗенитЗоне | H45: =F60+N60+V60+AD60+AL60+AT60 -> 0
B47: =Лист1!A42 -> Игрок 13 | F47: =Лист1!A49 -> Игрок 13 | J47: =Лист1!A43 -> Игрок 14 | N47: =Лист1!A50 -> Игрок 14 | R47: =Лист1!A44 -> Игрок 15 | V47: =Лист1!A51 -> Игрок 15 | Z47: =Лист1!A45 -> Игрок 16 | AD47: =Лист1!A52 -> Игрок 16 | AH47: =Лист1!A46 -> Игрок 17 | AL47: =Лист1!A53 -> Игрок 17 | AP47: =Лист1!A47 -> Игрок 18 | AT47: =Лист1!A54 -> Игрок 18 | BB47: Итог
B48: прогноз | E48: очки | F48: прогноз | I48: очки | J48: прогноз | M48: очки | N48: прогноз | Q48: очки | R48: прогноз | U48: очки | V48: прогноз | Y48: очки | Z48: прогноз | AC48: очки | AD48: прогноз | AG48: очки | AH48: прогноз | AK48: очки | AL48: прогноз | AO48: очки | AP48: прогноз | AS48: очки | AT48: прогноз | AW48: очки
B49: =MID(Лист1!$B$42,1,1) -> 1 | C49: =B49-D49 -> 1 | D49: =MID(Лист1!$B$42,2,1) -> 0 | E49: =IF((LEN($BB9)=0),"0",IF(AND(B49=$BB9,D49=$BD9),"5",IF(AND(C49=$BB9-$BD9,C49=0),"3",IF(AND(C49=$BB9-$BD9,OR(C49>0,C49<0)),"3",IF(AND(C49>0,$BB9-$BD9>0),"2",IF(AND(C49<0,$BB9-$BD9<0),"2","0")))))) -> 0 | F49: =MID(Лист1!$B$49,1,1) -> 1 | G49: =F49-H49 -> 1 | H49: =MID(Лист1!$B$49,2,1) -> 0 | I49: =IF((LEN($BB9)=0),"0",IF(AND(F49=$BB9,H49=$BD9),"5",IF(AND(G49=$BB9-$BD9,G49=0),"3",IF(AND(G49=$BB9-$BD9,OR(G49>0,G49<0)),"3",IF(AND(G49>0,$BB9-$BD9>0),"2",IF(AND(G49<0,$BB9-$BD9<0),"2","0")))))) -> 0 | J49: =MID(Лист1!$B$43,1,1) -> 1 | K49: =J49-L49 -> 1 | L49: =MID(Лист1!$B$43,2,1) -> 0 | M49: =IF((LEN($BB9)=0),"0",IF(AND(J49=$BB9,L49=$BD9),"5",IF(AND(K49=$BB9-$BD9,K49=0),"3",IF(AND(K49=$BB9-$BD9,OR(K49>0,K49<0)),"3",IF(AND(K49>0,$BB9-$BD9>0),"2",IF(AND(K49<0,$BB9-$BD9<0),"2","0")))))) -> 0 | N49: =MID(Лист1!$B$50,1,1) -> 1 | O49: =N49-P49 -> 1 | P49: =MID(Лист1!$B$50,2,1) -> 0 | Q49: =IF((LEN($BB9)=0),"0",IF(AND(N49=$BB9,P49=$BD9),"5",IF(AND(O49=$BB9-$BD9,O49=0),"3",IF(AND(O49=$BB9-$BD9,OR(O49>0,O49<0)),"3",IF(AND(O49>0,$BB9-$BD9>0),"2",IF(AND(O49<0,$BB9-$BD9<0),"2","0")))))) -> 0 | R49: =MID(Лист1!$B$44,1,1) -> 1 | S49: =R49-T49 -> 1 | T49: =MID(Лист1!$B$44,2,1) -> 0 | U49: =IF((LEN($BB9)=0),"0",IF(AND(R49=$BB9,T49=$BD9),"5",IF(AND(S49=$BB9-$BD9,S49=0),"3",IF(AND(S49=$BB9-$BD9,OR(S49>0,S49<0)),"3",IF(AND(S49>0,$BB9-$BD9>0),"2",IF(AND(S49<0,$BB9-$BD9<0),"2","0")))))) -> 0 | V49: =MID(Лист1!$B$51,1,1) -> 1 | W49: =V49-X49 -> 1 | X49: =MID(Лист1!$B$51,2,1) -> 0 | Y49: =IF((LEN($BB9)=0),"0",IF(AND(V49=$BB9,X49=$BD9),"5",IF(AND(W49=$BB9-$BD9,W49=0),"3",IF(AND(W49=$BB9-$BD9,OR(W49>0,W49<0)),"3",IF(AND(W49>0,$BB9-$BD9>0),"2",IF(AND(W49<0,$BB9-$BD9<0),"2","0")))))) -> 0 | Z49: =MID(Лист1!$B$45,1,1) -> 1 | AA49: =Z49-AB49 -> 1 | AB49: =MID(Лист1!$B$45,2,1) -> 0 | AC49: =IF((LEN($BB9)=0),"0",IF(AND(Z49=$BB9,AB49=$BD9),"5",IF(AND(AA49=$BB9-$BD9,AA49=0),"3",IF(AND(AA49=$BB9-$BD9,OR(AA49>0,AA49<0)),"3",IF(AND(AA49>0,$BB9-$BD9>0),"2",IF(AND(AA49<0,$BB9-$BD9<0),"2","0")))))) -> 0 | AD49: =MID(Лист1!$B$52,1,1) -> 1 | AE49: =AD49-AF49 -> 1 | AF49: =MID(Лист1!$B$52,2,1) -> 0 | AG49: =IF((LEN($BB9)=0),"0",IF(AND(AD49=$BB9,AF49=$BD9),"5",IF(AND(AE49=$BB9-$BD9,AE49=0),"3",IF(AND(AE49=$BB9-$BD9,OR(AE49>0,AE49<0)),"3",IF(AND(AE49>0,$BB9-$BD9>0),"2",IF(AND(AE49<0,$BB9-$BD9<0),"2","0")))))) -> 0 | AH49: =MID(Лист1!$B$46,1,1) -> 1 | AI49: =AH49-AJ49 -> 1 | AJ49: =MID(Лист1!$B$46,2,1) -> 0 | AK49: =IF((LEN($BB9)=0),"0",IF(AND(AH49=$BB9,AJ49=$BD9),"5",IF(AND(AI49=$BB9-$BD9,AI49=0),"3",IF(AND(AI49=$BB9-$BD9,OR(AI49>0,AI49<0)),"3",IF(AND(AI49>0,$BB9-$BD9>0),"2",IF(AND(AI49<0,$BB9-$BD9<0),"2","0")))))) -> 0 | AL49: =MID(Лист1!$B$53,1,1) -> 1 | AM49: =AL49-AN49 -> 1 | AN49: =MID(Лист1!$B$53,2,1) -> 0 | AO49: =IF((LEN($BB9)=0),"0",IF(AND(AL49=$BB9,AN49=$BD9),"5",IF(AND(AM49=$BB9-$BD9,AM49=0),"3",IF(AND(AM49=$BB9-$BD9,OR(AM49>0,AM49<0)),"3",IF(AND(AM49>0,$BB9-$BD9>0),"2",IF(AND(AM49<0,$BB9-$BD9<0),"2","0")))))) -> 0 | AP49: =MID(Лист1!$B$47,1,1) -> 1 | AQ49: =AP49-AR49 -> 1 | AR49: =MID(Лист1!$B$47,2,1) -> 0 | AS49: =IF((LEN($BB9)=0),"0",IF(AND(AP49=$BB9,AR49=$BD9),"5",IF(AND(AQ49=$BB9-$BD9,AQ49=0),"3",IF(AND(AQ49=$BB9-$BD9,OR(AQ49>0,AQ49<0)),"3",IF(AND(AQ49>0,$BB9-$BD9>0),"2",IF(AND(AQ49<0,$BB9-$BD9<0),"2","0")))))) -> 0 | AT49: =MID(Лист1!$B$54,1,1) -> 1 | AU49: =AT49-AV49 -> 1 | AV49: =MID(Лист1!$B$54,2,1) -> 0 | AW49: =IF((LEN($BB9)=0),"0",IF(AND(AT49=$BB9,AV49=$BD9),"5",IF(AND(AU49=$BB9-$BD9,AU49=0),"3",IF(AND(AU49=$BB9-$BD9,OR(AU49>0,AU49<0)),"3",IF(AND(AU49>0,$BB9-$BD9>0),"2",IF(AND(AU49<0,$BB9-$BD9<0),"2","0")))))) -> 0 | AX49: =AX29 -> Дармштадт - Штутгарт | BB49: =IF((LEN(BB9)=0)," ",BB9) -> 2 | BC49: =BB49-BD49 -> 0 | BD49: =IF((LEN(BD9)=0)," ",BD9) -> 2
B50: =MID(Лист1!$B$42,3,1) -> 2 | C50: =B50-D50 -> 1 | D50: =MID(Лист1!$B$42,4,1) -> 1 | E50: =IF((LEN($BB10)=0),"0",IF(AND(B50=$BB10,D50=$BD10),"5",IF(AND(C50=$BB10-$BD10,C50=0),"3",IF(AND(C50=$BB10-$BD10,OR(C50>0,C50<0)),"3",IF(AND(C50>0,$BB10-$BD10>0),"2",IF(AND(C50<0,$BB10-$BD10<0),"2","0")))))) -> 0 | F50: =MID(Лист1!$B$49,3,1) -> 2 | G50: =F50-H50 -> 1 | H50: =MID(Лист1!$B$49,4,1) -> 1 | I50: =IF((LEN($BB10)=0),"0",IF(AND(F50=$BB10,H50=$BD10),"5",IF(AND(G50=$BB10-$BD10,G50=0),"3",IF(AND(G50=$BB10-$BD10,OR(G50>0,G50<0)),"3",IF(AND(G50>0,$BB10-$BD10>0),"2",IF(AND(G50<0,$BB10-$BD10<0),"2","0")))))) -> 0 | J50: =MID(Лист1!$B$43,3,1) -> 2 | K50: =J50-L50 -> 1 | L50: =MID(Лист1!$B$43,4,1) -> 1 | M50: =IF((LEN($BB10)=0),"0",IF(AND(J50=$BB10,L50=$BD10),"5",IF(AND(K50=$BB10-$BD10,K50=0),"3",IF(AND(K50=$BB10-$BD10,OR(K50>0,K50<0)),"3",IF(AND(K50>0,$BB10-$BD10>0),"2",IF(AND(K50<0,$BB10-$BD10<0),"2","0")))))) -> 0 | N50: =MID(Лист1!$B$50,3,1) -> 2 | O50: =N50-P50 -> 1 | P50: =MID(Лист1!$B$50,4,1) -> 1 | Q50: =IF((LEN($BB10)=0),"0",IF(AND(N50=$BB10,P50=$BD10),"5",IF(AND(O50=$BB10-$BD10,O50=0),"3",IF(AND(O50=$BB10-$BD10,OR(O50>0,O50<0)),"3",IF(AND(O50>0,$BB10-$BD10>0),"2",IF(AND(O50<0,$BB10-$BD10<0),"2","0")))))) -> 0 | R50: =MID(Лист1!$B$44,3,1) -> 2 | S50: =R50-T50 -> 1 | T50: =MID(Лист1!$B$44,4,1) -> 1 | U50: =IF((LEN($BB10)=0),"0",IF(AND(R50=$BB10,T50=$BD10),"5",IF(AND(S50=$BB10-$BD10,S50=0),"3",IF(AND(S50=$BB10-$BD10,OR(S50>0,S50<0)),"3",IF(AND(S50>0,$BB10-$BD10>0),"2",IF(AND(S50<0,$BB10-$BD10<0),"2","0")))))) -> 0 | V50: =MID(Лист1!$B$51,3,1) -> 2 | W50: =V50-X50 -> 1 | X50: =MID(Лист1!$B$51,4,1) -> 1 | Y50: =IF((LEN($BB10)=0),"0",IF(AND(V50=$BB10,X50=$BD10),"5",IF(AND(W50=$BB10-$BD10,W50=0),"3",IF(AND(W50=$BB10-$BD10,OR(W50>0,W50<0)),"3",IF(AND(W50>0,$BB10-$BD10>0),"2",IF(AND(W50<0,$BB10-$BD10<0),"2","0")))))) -> 0 | Z50: =MID(Лист1!$B$45,3,1) -> 2 | AA50: =Z50-AB50 -> 1 | AB50: =MID(Лист1!$B$45,4,1) -> 1 | AC50: =IF((LEN($BB10)=0),"0",IF(AND(Z50=$BB10,AB50=$BD10),"5",IF(AND(AA50=$BB10-$BD10,AA50=0),"3",IF(AND(AA50=$BB10-$BD10,OR(AA50>0,AA50<0)),"3",IF(AND(AA50>0,$BB10-$BD10>0),"2",IF(AND(AA50<0,$BB10-$BD10<0),"2","0")))))) -> 0 | AD50: =MID(Лист1!$B$52,3,1) -> 2 | AE50: =AD50-AF50 -> 1 | AF50: =MID(Лист1!$B$52,4,1) -> 1 | AG50: =IF((LEN($BB10)=0),"0",IF(AND(AD50=$BB10,AF50=$BD10),"5",IF(AND(AE50=$BB10-$BD10,AE50=0),"3",IF(AND(AE50=$BB10-$BD10,OR(AE50>0,AE50<0)),"3",IF(AND(AE50>0,$BB10-$BD10>0),"2",IF(AND(AE50<0,$BB10-$BD10<0),"2","0")))))) -> 0 | AH50: =MID(Лист1!$B$46,3,1) -> 2 | AI50: =AH50-AJ50 -> 1 | AJ50: =MID(Лист1!$B$46,4,1) -> 1 | AK50: =IF((LEN($BB10)=0),"0",IF(AND(AH50=$BB10,AJ50=$BD10),"5",IF(AND(AI50=$BB10-$BD10,AI50=0),"3",IF(AND(AI50=$BB10-$BD10,OR(AI50>0,AI50<0)),"3",IF(AND(AI50>0,$BB10-$BD10>0),"2",IF(AND(AI50<0,$BB10-$BD10<0),"2","0")))))) -> 0 | AL50: =MID(Лист1!$B$53,3,1) -> 2 | AM50: =AL50-AN50 -> 1 | AN50: =MID(Лист1!$B$53,4,1) -> 1 | AO50: =IF((LEN($BB10)=0),"0",IF(AND(AL50=$BB10,AN50=$BD10),"5",IF(AND(AM50=$BB10-$BD10,AM50=0),"3",IF(AND(AM50=$BB10-$BD10,OR(AM50>0,AM50<0)),"3",IF(AND(AM50>0,$BB10-$BD10>0),"2",IF(AND(AM50<0,$BB10-$BD10<0),"2","0")))))) -> 0 | AP50: =MID(Лист1!$B$47,3,1) -> 2 | AQ50: =AP50-AR50 -> 1 | AR50: =MID(Лист1!$B$47,4,1) -> 1 | AS50: =IF((LEN($BB10)=0),"0",IF(AND(AP50=$BB10,AR50=$BD10),"5",IF(AND(AQ50=$BB10-$BD10,AQ50=0),"3",IF(AND(AQ50=$BB10-$BD10,OR(AQ50>0,AQ50<0)),"3",IF(AND(AQ50>0,$BB10-$BD10>0),"2",IF(AND(AQ50<0,$BB10-$BD10<0),"2","0")))))) -> 0 | AT50: =MID(Лист1!$B$54,3,1) -> 2 | AU50: =AT50-AV50 -> 1 | AV50: =MID(Лист1!$B$54,4,1) -> 1 | AW50: =IF((LEN($BB10)=0),"0",IF(AND(AT50=$BB10,AV50=$BD10),"5",IF(AND(AU50=$BB10-$BD10,AU50=0),"3",IF(AND(AU50=$BB10-$BD10,OR(AU50>0,AU50<0)),"3",IF(AND(AU50>0,$BB10-$BD10>0),"2",IF(AND(AU50<0,$BB10-$BD10<0),"2","0")))))) -> 0 | AX50: =AX30 -> Ливерпуль - Тоттенхэм | BB50: =IF((LEN(BB10)=0)," ",BB10) -> 1 | BC50: =BB50-BD50 -> 0 | BD50: =IF((LEN(BD10)=0)," ",BD10) -> 1
B51: =MID(Лист1!$B$42,5,1) -> 1 | C51: =B51-D51 -> -2 | D51: =MID(Лист1!$B$42,6,1) -> 3 | E51: =IF((LEN($BB11)=0),"0",IF(AND(B51=$BB11,D51=$BD11),"5",IF(AND(C51=$BB11-$BD11,C51=0),"3",IF(AND(C51=$BB11-$BD11,OR(C51>0,C51<0)),"3",IF(AND(C51>0,$BB11-$BD11>0),"2",IF(AND(C51<0,$BB11-$BD11<0),"2","0")))))) -> 0 | F51: =MID(Лист1!$B$49,5,1) -> 1 | G51: =F51-H51 -> -2 | H51: =MID(Лист1!$B$49,6,1) -> 3 | I51: =IF((LEN($BB11)=0),"0",IF(AND(F51=$BB11,H51=$BD11),"5",IF(AND(G51=$BB11-$BD11,G51=0),"3",IF(AND(G51=$BB11-$BD11,OR(G51>0,G51<0)),"3",IF(AND(G51>0,$BB11-$BD11>0),"2",IF(AND(G51<0,$BB11-$BD11<0),"2","0")))))) -> 0 | J51: =MID(Лист1!$B$43,5,1) -> 1 | K51: =J51-L51 -> -2 | L51: =MID(Лист1!$B$43,6,1) -> 3 | M51: =IF((LEN($BB11)=0),"0",IF(AND(J51=$BB11,L51=$BD11),"5",IF(AND(K51=$BB11-$BD11,K51=0),"3",IF(AND(K51=$BB11-$BD11,OR(K51>0,K51<0)),"3",IF(AND(K51>0,$BB11-$BD11>0),"2",IF(AND(K51<0,$BB11-$BD11<0),"2","0")))))) -> 0 | N51: =MID(Лист1!$B$50,5,1) -> 1 | O51: =N51-P51 -> -2 | P51: =MID(Лист1!$B$50,6,1) -> 3 | Q51: =IF((LEN($BB11)=0),"0",IF(AND(N51=$BB11,P51=$BD11),"5",IF(AND(O51=$BB11-$BD11,O51=0),"3",IF(AND(O51=$BB11-$BD11,OR(O51>0,O51<0)),"3",IF(AND(O51>0,$BB11-$BD11>0),"2",IF(AND(O51<0,$BB11-$BD11<0),"2","0")))))) -> 0 | R51: =MID(Лист1!$B$44,5,1) -> 1 | S51: =R51-T51 -> -2 | T51: =MID(Лист1!$B$44,6,1) -> 3 | U51: =IF((LEN($BB11)=0),"0",IF(AND(R51=$BB11,T51=$BD11),"5",IF(AND(S51=$BB11-$BD11,S51=0),"3",IF(AND(S51=$BB11-$BD11,OR(S51>0,S51<0)),"3",IF(AND(S51>0,$BB11-$BD11>0),"2",IF(AND(S51<0,$BB11-$BD11<0),"2","0")))))) -> 0 | V51: =MID(Лист1!$B$51,5,1) -> 1 | W51: =V51-X51 -> -2 | X51: =MID(Лист1!$B$51,6,1) -> 3 | Y51: =IF((LEN($BB11)=0),"0",IF(AND(V51=$BB11,X51=$BD11),"5",IF(AND(W51=$BB11-$BD11,W51=0),"3",IF(AND(W51=$BB11-$BD11,OR(W51>0,W51<0)),"3",IF(AND(W51>0,$BB11-$BD11>0),"2",IF(AND(W51<0,$BB11-$BD11<0),"2","0")))))) -> 0 | Z51: =MID(Лист1!$B$45,5,1) -> 1 | AA51: =Z51-AB51 -> -2 | AB51: =MID(Лист1!$B$45,6,1) -> 3 | AC51: =IF((LEN($BB11)=0),"0",IF(AND(Z51=$BB11,AB51=$BD11),"5",IF(AND(AA51=$BB11-$BD11,AA51=0),"3",IF(AND(AA51=$BB11-$BD11,OR(AA51>0,AA51<0)),"3",IF(AND(AA51>0,$BB11-$BD11>0),"2",IF(AND(AA51<0,$BB11-$BD11<0),"2","0")))))) -> 0 | AD51: =MID(Лист1!$B$52,5,1) -> 1 | AE51: =AD51-AF51 -> -2 | AF51: =MID(Лист1!$B$52,6,1) -> 3 | AG51: =IF((LEN($BB11)=0),"0",IF(AND(AD51=$BB11,AF51=$BD11),"5",IF(AND(AE51=$BB11-$BD11,AE51=0),"3",IF(AND(AE51=$BB11-$BD11,OR(AE51>0,AE51<0)),"3",IF(AND(AE51>0,$BB11-$BD11>0),"2",IF(AND(AE51<0,$BB11-$BD11<0),"2","0")))))) -> 0 | AH51: =MID(Лист1!$B$46,5,1) -> 1 | AI51: =AH51-AJ51 -> -2 | AJ51: =MID(Лист1!$B$46,6,1) -> 3 | AK51: =IF((LEN($BB11)=0),"0",IF(AND(AH51=$BB11,AJ51=$BD11),"5",IF(AND(AI51=$BB11-$BD11,AI51=0),"3",IF(AND(AI51=$BB11-$BD11,OR(AI51>0,AI51<0)),"3",IF(AND(AI51>0,$BB11-$BD11>0),"2",IF(AND(AI51<0,$BB11-$BD11<0),"2","0")))))) -> 0 | AL51: =MID(Лист1!$B$53,5,1) -> 1 | AM51: =AL51-AN51 -> -2 | AN51: =MID(Лист1!$B$53,6,1) -> 3 | AO51: =IF((LEN($BB11)=0),"0",IF(AND(AL51=$BB11,AN51=$BD11),"5",IF(AND(AM51=$BB11-$BD11,AM51=0),"3",IF(AND(AM51=$BB11-$BD11,OR(AM51>0,AM51<0)),"3",IF(AND(AM51>0,$BB11-$BD11>0),"2",IF(AND(AM51<0,$BB11-$BD11<0),"2","0")))))) -> 0 | AP51: =MID(Лист1!$B$47,5,1) -> 1 | AQ51: =AP51-AR51 -> -2 | AR51: =MID(Лист1!$B$47,6,1) -> 3 | AS51: =IF((LEN($BB11)=0),"0",IF(AND(AP51=$BB11,AR51=$BD11),"5",IF(AND(AQ51=$BB11-$BD11,AQ51=0),"3",IF(AND(AQ51=$BB11-$BD11,OR(AQ51>0,AQ51<0)),"3",IF(AND(AQ51>0,$BB11-$BD11>0),"2",IF(AND(AQ51<0,$BB11-$BD11<0),"2","0")))))) -> 0 | AT51: =MID(Лист1!$B$54,5,1) -> 1 | AU51: =AT51-AV51 -> -2 | AV51: =MID(Лист1!$B$54,6,1) -> 3 | AW51: =IF((LEN($BB11)=0),"0",IF(AND(AT51=$BB11,AV51=$BD11),"5",IF(AND(AU51=$BB11-$BD11,AU51=0),"3",IF(AND(AU51=$BB11-$BD11,OR(AU51>0,AU51<0)),"3",IF(AND(AU51>0,$BB11-$BD11>0),"2",IF(AND(AU51<0,$BB11-$BD11<0),"2","0")))))) -> 0 | AX51: =AX31 -> Ростов - Спартак | BB51: =IF((LEN(BB11)=0)," ",BB11) -> 2 | BC51: =BB51-BD51 -> 2 | BD51: =IF((LEN(BD11)=0)," ",BD11) -> 0
B52: =MID(Лист1!$B$42,7,1) -> 1 | C52: =B52-D52 -> 1 | D52: =MID(Лист1!$B$42,8,1) -> 0 | E52: =IF((LEN($BB12)=0),"0",IF(AND(B52=$BB12,D52=$BD12),"5",IF(AND(C52=$BB12-$BD12,C52=0),"3",IF(AND(C52=$BB12-$BD12,OR(C52>0,C52<0)),"3",IF(AND(C52>0,$BB12-$BD12>0),"2",IF(AND(C52<0,$BB12-$BD12<0),"2","0")))))) -> 0 | F52: =MID(Лист1!$B$49,7,1) -> 1 | G52: =F52-H52 -> 1 | H52: =MID(Лист1!$B$49,8,1) -> 0 | I52: =IF((LEN($BB12)=0),"0",IF(AND(F52=$BB12,H52=$BD12),"5",IF(AND(G52=$BB12-$BD12,G52=0),"3",IF(AND(G52=$BB12-$BD12,OR(G52>0,G52<0)),"3",IF(AND(G52>0,$BB12-$BD12>0),"2",IF(AND(G52<0,$BB12-$BD12<0),"2","0")))))) -> 0 | J52: =MID(Лист1!$B$43,7,1) -> 1 | K52: =J52-L52 -> 1 | L52: =MID(Лист1!$B$43,8,1) -> 0 | M52: =IF((LEN($BB12)=0),"0",IF(AND(J52=$BB12,L52=$BD12),"5",IF(AND(K52=$BB12-$BD12,K52=0),"3",IF(AND(K52=$BB12-$BD12,OR(K52>0,K52<0)),"3",IF(AND(K52>0,$BB12-$BD12>0),"2",IF(AND(K52<0,$BB12-$BD12<0),"2","0")))))) -> 0 | N52: =MID(Лист1!$B$50,7,1) -> 1 | O52: =N52-P52 -> 1 | P52: =MID(Лист1!$B$50,8,1) -> 0 | Q52: =IF((LEN($BB12)=0),"0",IF(AND(N52=$BB12,P52=$BD12),"5",IF(AND(O52=$BB12-$BD12,O52=0),"3",IF(AND(O52=$BB12-$BD12,OR(O52>0,O52<0)),"3",IF(AND(O52>0,$BB12-$BD12>0),"2",IF(AND(O52<0,$BB12-$BD12<0),"2","0")))))) -> 0 | R52: =MID(Лист1!$B$44,7,1) -> 1 | S52: =R52-T52 -> 1 | T52: =MID(Лист1!$B$44,8,1) -> 0 | U52: =IF((LEN($BB12)=0),"0",IF(AND(R52=$BB12,T52=$BD12),"5",IF(AND(S52=$BB12-$BD12,S52=0),"3",IF(AND(S52=$BB12-$BD12,OR(S52>0,S52<0)),"3",IF(AND(S52>0,$BB12-$BD12>0),"2",IF(AND(S52<0,$BB12-$BD12<0),"2","0")))))) -> 0 | V52: =MID(Лист1!$B$51,7,1) -> 1 | W52: =V52-X52 -> 1 | X52: =MID(Лист1!$B$51,8,1) -> 0 | Y52: =IF((LEN($BB12)=0),"0",IF(AND(V52=$BB12,X52=$BD12),"5",IF(AND(W52=$BB12-$BD12,W52=0),"3",IF(AND(W52=$BB12-$BD12,OR(W52>0,W52<0)),"3",IF(AND(W52>0,$BB12-$BD12>0),"2",IF(AND(W52<0,$BB12-$BD12<0),"2","0")))))) -> 0 | Z52: =MID(Лист1!$B$45,7,1) -> 1 | AA52: =Z52-AB52 -> 1 | AB52: =MID(Лист1!$B$45,8,1) -> 0 | AC52: =IF((LEN($BB12)=0),"0",IF(AND(Z52=$BB12,AB52=$BD12),"5",IF(AND(AA52=$BB12-$BD12,AA52=0),"3",IF(AND(AA52=$BB12-$BD12,OR(AA52>0,AA52<0)),"3",IF(AND(AA52>0,$BB12-$BD12>0),"2",IF(AND(AA52<0,$BB12-$BD12<0),"2","0")))))) -> 0 | AD52: =MID(Лист1!$B$52,7,1) -> 1 | AE52: =AD52-AF52 -> 1 | AF52: =MID(Лист1!$B$52,8,1) -> 0 | AG52: =IF((LEN($BB12)=0),"0",IF(AND(AD52=$BB12,AF52=$BD12),"5",IF(AND(AE52=$BB12-$BD12,AE52=0),"3",IF(AND(AE52=$BB12-$BD12,OR(AE52>0,AE52<0)),"3",IF(AND(AE52>0,$BB12-$BD12>0),"2",IF(AND(AE52<0,$BB12-$BD12<0),"2","0")))))) -> 0 | AH52: =MID(Лист1!$B$46,7,1) -> 1 | AI52: =AH52-AJ52 -> 1 | AJ52: =MID(Лист1!$B$46,8,1) -> 0 | AK52: =IF((LEN($BB12)=0),"0",IF(AND(AH52=$BB12,AJ52=$BD12),"5",IF(AND(AI52=$BB12-$BD12,AI52=0),"3",IF(AND(AI52=$BB12-$BD12,OR(AI52>0,AI52<0)),"3",IF(AND(AI52>0,$BB12-$BD12>0),"2",IF(AND(AI52<0,$BB12-$BD12<0),"2","0")))))) -> 0 | AL52: =MID(Лист1!$B$53,7,1) -> 1 | AM52: =AL52-AN52 -> 1 | AN52: =MID(Лист1!$B$53,8,1) -> 0 | AO52: =IF((LEN($BB12)=0),"0",IF(AND(AL52=$BB12,AN52=$BD12),"5",IF(AND(AM52=$BB12-$BD12,AM52=0),"3",IF(AND(AM52=$BB12-$BD12,OR(AM52>0,AM52<0)),"3",IF(AND(AM52>0,$BB12-$BD12>0),"2",IF(AND(AM52<0,$BB12-$BD12<0),"2","0")))))) -> 0 | AP52: =MID(Лист1!$B$47,7,1) -> 1 | AQ52: =AP52-AR52 -> 1 | AR52: =MID(Лист1!$B$47,8,1) -> 0 | AS52: =IF((LEN($BB12)=0),"0",IF(AND(AP52=$BB12,AR52=$BD12),"5",IF(AND(AQ52=$BB12-$BD12,AQ52=0),"3",IF(AND(AQ52=$BB12-$BD12,OR(AQ52>0,AQ52<0)),"3",IF(AND(AQ52>0,$BB12-$BD12>0),"2",IF(AND(AQ52<0,$BB12-$BD12<0),"2","0")))))) -> 0 | AT52: =MID(Лист1!$B$54,7,1) -> 1 | AU52: =AT52-AV52 -> 1 | AV52: =MID(Лист1!$B$54,8,1) -> 0 | AW52: =IF((LEN($BB12)=0),"0",IF(AND(AT52=$BB12,AV52=$BD12),"5",IF(AND(AU52=$BB12-$BD12,AU52=0),"3",IF(AND(AU52=$BB12-$BD12,OR(AU52>0,AU52<0)),"3",IF(AND(AU52>0,$BB12-$BD12>0),"2",IF(AND(AU52<0,$BB12-$BD12<0),"2","0")))))) -> 0 | AX52: =AX32 -> Барселона - Реал | BB52: =IF((LEN(BB12)=0)," ",BB12) | BC52: =BB52-BD52 -> #VALUE! | BD52: =IF((LEN(BD12)=0)," ",BD12)
B53: =MID(Лист1!$B$42,9,1) -> 1 | C53: =B53-D53 -> 1 | D53: =MID(Лист1!$B$42,10,1) -> 0 | E53: =IF((LEN($BB13)=0),"0",IF(AND(B53=$BB13,D53=$BD13),"5",IF(AND(C53=$BB13-$BD13,C53=0),"3",IF(AND(C53=$BB13-$BD13,OR(C53>0,C53<0)),"3",IF(AND(C53>0,$BB13-$BD13>0),"2",IF(AND(C53<0,$BB13-$BD13<0),"2","0")))))) -> 0 | F53: =MID(Лист1!$B$49,9,1) -> 1 | G53: =F53-H53 -> 1 | H53: =MID(Лист1!$B$49,10,1) -> 0 | I53: =IF((LEN($BB13)=0),"0",IF(AND(F53=$BB13,H53=$BD13),"5",IF(AND(G53=$BB13-$BD13,G53=0),"3",IF(AND(G53=$BB13-$BD13,OR(G53>0,G53<0)),"3",IF(AND(G53>0,$BB13-$BD13>0),"2",IF(AND(G53<0,$BB13-$BD13<0),"2","0")))))) -> 0 | J53: =MID(Лист1!$B$43,9,1) -> 1 | K53: =J53-L53 -> 1 | L53: =MID(Лист1!$B$43,10,1) -> 0 | M53: =IF((LEN($BB13)=0),"0",IF(AND(J53=$BB13,L53=$BD13),"5",IF(AND(K53=$BB13-$BD13,K53=0),"3",IF(AND(K53=$BB13-$BD13,OR(K53>0,K53<0)),"3",IF(AND(K53>0,$BB13-$BD13>0),"2",IF(AND(K53<0,$BB13-$BD13<0),"2","0")))))) -> 0 | N53: =MID(Лист1!$B$50,9,1) -> 1 | O53: =N53-P53 -> 1 | P53: =MID(Лист1!$B$50,10,1) -> 0 | Q53: =IF((LEN($BB13)=0),"0",IF(AND(N53=$BB13,P53=$BD13),"5",IF(AND(O53=$BB13-$BD13,O53=0),"3",IF(AND(O53=$BB13-$BD13,OR(O53>0,O53<0)),"3",IF(AND(O53>0,$BB13-$BD13>0),"2",IF(AND(O53<0,$BB13-$BD13<0),"2","0")))))) -> 0 | R53: =MID(Лист1!$B$44,9,1) -> 1 | S53: =R53-T53 -> 1 | T53: =MID(Лист1!$B$44,10,1) -> 0 | U53: =IF((LEN($BB13)=0),"0",IF(AND(R53=$BB13,T53=$BD13),"5",IF(AND(S53=$BB13-$BD13,S53=0),"3",IF(AND(S53=$BB13-$BD13,OR(S53>0,S53<0)),"3",IF(AND(S53>0,$BB13-$BD13>0),"2",IF(AND(S53<0,$BB13-$BD13<0),"2","0")))))) -> 0 | V53: =MID(Лист1!$B$51,9,1) -> 1 | W53: =V53-X53 -> 1 | X53: =MID(Лист1!$B$51,10,1) -> 0 | Y53: =IF((LEN($BB13)=0),"0",IF(AND(V53=$BB13,X53=$BD13),"5",IF(AND(W53=$BB13-$BD13,W53=0),"3",IF(AND(W53=$BB13-$BD13,OR(W53>0,W53<0)),"3",IF(AND(W53>0,$BB13-$BD13>0),"2",IF(AND(W53<0,$BB13-$BD13<0),"2","0")))))) -> 0 | Z53: =MID(Лист1!$B$45,9,1) -> 1 | AA53: =Z53-AB53 -> 1 | AB53: =MID(Лист1!$B$45,10,1) -> 0 | AC53: =IF((LEN($BB13)=0),"0",IF(AND(Z53=$BB13,AB53=$BD13),"5",IF(AND(AA53=$BB13-$BD13,AA53=0),"3",IF(AND(AA53=$BB13-$BD13,OR(AA53>0,AA53<0)),"3",IF(AND(AA53>0,$BB13-$BD13>0),"2",IF(AND(AA53<0,$BB13-$BD13<0),"2","0")))))) -> 0 | AD53: =MID(Лист1!$B$52,9,1) -> 1 | AE53: =AD53-AF53 -> 1 | AF53: =MID(Лист1!$B$52,10,1) -> 0 | AG53: =IF((LEN($BB13)=0),"0",IF(AND(AD53=$BB13,AF53=$BD13),"5",IF(AND(AE53=$BB13-$BD13,AE53=0),"3",IF(AND(AE53=$BB13-$BD13,OR(AE53>0,AE53<0)),"3",IF(AND(AE53>0,$BB13-$BD13>0),"2",IF(AND(AE53<0,$BB13-$BD13<0),"2","0")))))) -> 0 | AH53: =MID(Лист1!$B$46,9,1) -> 1 | AI53: =AH53-AJ53 -> 1 | AJ53: =MID(Лист1!$B$46,10,1) -> 0 | AK53: =IF((LEN($BB13)=0),"0",IF(AND(AH53=$BB13,AJ53=$BD13),"5",IF(AND(AI53=$BB13-$BD13,AI53=0),"3",IF(AND(AI53=$BB13-$BD13,OR(AI53>0,AI53<0)),"3",IF(AND(AI53>0,$BB13-$BD13>0),"2",IF(AND(AI53<0,$BB13-$BD13<0),"2","0")))))) -> 0 | AL53: =MID(Лист1!$B$53,9,1) -> 1 | AM53: =AL53-AN53 -> 1 | AN53: =MID(Лист1!$B$53,10,1) -> 0 | AO53: =IF((LEN($BB13)=0),"0",IF(AND(AL53=$BB13,AN53=$BD13),"5",IF(AND(AM53=$BB13-$BD13,AM53=0),"3",IF(AND(AM53=$BB13-$BD13,OR(AM53>0,AM53<0)),"3",IF(AND(AM53>0,$BB13-$BD13>0),"2",IF(AND(AM53<0,$BB13-$BD13<0),"2","0")))))) -> 0 | AP53: =MID(Лист1!$B$47,9,1) -> 1 | AQ53: =AP53-AR53 -> 1 | AR53: =MID(Лист1!$B$47,10,1) -> 0 | AS53: =IF((LEN($BB13)=0),"0",IF(AND(AP53=$BB13,AR53=$BD13),"5",IF(AND(AQ53=$BB13-$BD13,AQ53=0),"3",IF(AND(AQ53=$BB13-$BD13,OR(AQ53>0,AQ53<0)),"3",IF(AND(AQ53>0,$BB13-$BD13>0),"2",IF(AND(AQ53<0,$BB13-$BD13<0),"2","0")))))) -> 0 | AT53: =MID(Лист1!$B$54,9,1) -> 1 | AU53: =AT53-AV53 -> 1 | AV53: =MID(Лист1!$B$54,10,1) -> 0 | AW53: =IF((LEN($BB13)=0),"0",IF(AND(AT53=$BB13,AV53=$BD13),"5",IF(AND(AU53=$BB13-$BD13,AU53=0),"3",IF(AND(AU53=$BB13-$BD13,OR(AU53>0,AU53<0)),"3",IF(AND(AU53>0,$BB13-$BD13>0),"2",IF(AND(AU53<0,$BB13-$BD13<0),"2","0")))))) -> 0 | AX53: =AX33 -> Лацио - Рома | BB53: =IF((LEN(BB13)=0)," ",BB13) | BC53: =BB53-BD53 -> #VALUE! | BD53: =IF((LEN(BD13)=0)," ",BD13)
B54: =MID(Лист1!$B$42,11,1) -> 1 | C54: =B54-D54 -> 0 | D54: =MID(Лист1!$B$42,12,1) -> 1 | E54: =IF((LEN($BB14)=0),"0",IF(AND(B54=$BB14,D54=$BD14),"5",IF(AND(C54=$BB14-$BD14,C54=0),"3",IF(AND(C54=$BB14-$BD14,OR(C54>0,C54<0)),"3",IF(AND(C54>0,$BB14-$BD14>0),"2",IF(AND(C54<0,$BB14-$BD14<0),"2","0")))))) -> 0 | F54: =MID(Лист1!$B$49,11,1) -> 1 | G54: =F54-H54 -> 0 | H54: =MID(Лист1!$B$49,12,1) -> 1 | I54: =IF((LEN($BB14)=0),"0",IF(AND(F54=$BB14,H54=$BD14),"5",IF(AND(G54=$BB14-$BD14,G54=0),"3",IF(AND(G54=$BB14-$BD14,OR(G54>0,G54<0)),"3",IF(AND(G54>0,$BB14-$BD14>0),"2",IF(AND(G54<0,$BB14-$BD14<0),"2","0")))))) -> 0 | J54: =MID(Лист1!$B$43,11,1) -> 1 | K54: =J54-L54 -> 0 | L54: =MID(Лист1!$B$43,12,1) -> 1 | M54: =IF((LEN($BB14)=0),"0",IF(AND(J54=$BB14,L54=$BD14),"5",IF(AND(K54=$BB14-$BD14,K54=0),"3",IF(AND(K54=$BB14-$BD14,OR(K54>0,K54<0)),"3",IF(AND(K54>0,$BB14-$BD14>0),"2",IF(AND(K54<0,$BB14-$BD14<0),"2","0")))))) -> 0 | N54: =MID(Лист1!$B$50,11,1) -> 1 | O54: =N54-P54 -> 0 | P54: =MID(Лист1!$B$50,12,1) -> 1 | Q54: =IF((LEN($BB14)=0),"0",IF(AND(N54=$BB14,P54=$BD14),"5",IF(AND(O54=$BB14-$BD14,O54=0),"3",IF(AND(O54=$BB14-$BD14,OR(O54>0,O54<0)),"3",IF(AND(O54>0,$BB14-$BD14>0),"2",IF(AND(O54<0,$BB14-$BD14<0),"2","0")))))) -> 0 | R54: =MID(Лист1!$B$44,11,1) -> 1 | S54: =R54-T54 -> 0 | T54: =MID(Лист1!$B$44,12,1) -> 1 | U54: =IF((LEN($BB14)=0),"0",IF(AND(R54=$BB14,T54=$BD14),"5",IF(AND(S54=$BB14-$BD14,S54=0),"3",IF(AND(S54=$BB14-$BD14,OR(S54>0,S54<0)),"3",IF(AND(S54>0,$BB14-$BD14>0),"2",IF(AND(S54<0,$BB14-$BD14<0),"2","0")))))) -> 0 | V54: =MID(Лист1!$B$51,11,1) -> 1 | W54: =V54-X54 -> 0 | X54: =MID(Лист1!$B$51,12,1) -> 1 | Y54: =IF((LEN($BB14)=0),"0",IF(AND(V54=$BB14,X54=$BD14),"5",IF(AND(W54=$BB14-$BD14,W54=0),"3",IF(AND(W54=$BB14-$BD14,OR(W54>0,W54<0)),"3",IF(AND(W54>0,$BB14-$BD14>0),"2",IF(AND(W54<0,$BB14-$BD14<0),"2","0")))))) -> 0 | Z54: =MID(Лист1!$B$45,11,1) -> 1 | AA54: =Z54-AB54 -> 0 | AB54: =MID(Лист1!$B$45,12,1) -> 1 | AC54: =IF((LEN($BB14)=0),"0",IF(AND(Z54=$BB14,AB54=$BD14),"5",IF(AND(AA54=$BB14-$BD14,AA54=0),"3",IF(AND(AA54=$BB14-$BD14,OR(AA54>0,AA54<0)),"3",IF(AND(AA54>0,$BB14-$BD14>0),"2",IF(AND(AA54<0,$BB14-$BD14<0),"2","0")))))) -> 0 | AD54: =MID(Лист1!$B$52,11,1) -> 1 | AE54: =AD54-AF54 -> 0 | AF54: =MID(Лист1!$B$52,12,1) -> 1 | AG54: =IF((LEN($BB14)=0),"0",IF(AND(AD54=$BB14,AF54=$BD14),"5",IF(AND(AE54=$BB14-$BD14,AE54=0),"3",IF(AND(AE54=$BB14-$BD14,OR(AE54>0,AE54<0)),"3",IF(AND(AE54>0,$BB14-$BD14>0),"2",IF(AND(AE54<0,$BB14-$BD14<0),"2","0")))))) -> 0 | AH54: =MID(Лист1!$B$46,11,1) -> 1 | AI54: =AH54-AJ54 -> 0 | AJ54: =MID(Лист1!$B$46,12,1) -> 1 | AK54: =IF((LEN($BB14)=0),"0",IF(AND(AH54=$BB14,AJ54=$BD14),"5",IF(AND(AI54=$BB14-$BD14,AI54=0),"3",IF(AND(AI54=$BB14-$BD14,OR(AI54>0,AI54<0)),"3",IF(AND(AI54>0,$BB14-$BD14>0),"2",IF(AND(AI54<0,$BB14-$BD14<0),"2","0")))))) -> 0 | AL54: =MID(Лист1!$B$53,11,1) -> 1 | AM54: =AL54-AN54 -> 0 | AN54: =MID(Лист1!$B$53,12,1) -> 1 | AO54: =IF((LEN($BB14)=0),"0",IF(AND(AL54=$BB14,AN54=$BD14),"5",IF(AND(AM54=$BB14-$BD14,AM54=0),"3",IF(AND(AM54=$BB14-$BD14,OR(AM54>0,AM54<0)),"3",IF(AND(AM54>0,$BB14-$BD14>0),"2",IF(AND(AM54<0,$BB14-$BD14<0),"2","0")))))) -> 0 | AP54: =MID(Лист1!$B$47,11,1) -> 1 | AQ54: =AP54-AR54 -> 0 | AR54: =MID(Лист1!$B$47,12,1) -> 1 | AS54: =IF((LEN($BB14)=0),"0",IF(AND(AP54=$BB14,AR54=$BD14),"5",IF(AND(AQ54=$BB14-$BD14,AQ54=0),"3",IF(AND(AQ54=$BB14-$BD14,OR(AQ54>0,AQ54<0)),"3",IF(AND(AQ54>0,$BB14-$BD14>0),"2",IF(AND(AQ54<0,$BB14-$BD14<0),"2","0")))))) -> 0 | AT54: =MID(Лист1!$B$54,11,1) -> 1 | AU54: =AT54-AV54 -> 0 | AV54: =MID(Лист1!$B$54,12,1) -> 1 | AW54: =IF((LEN($BB14)=0),"0",IF(AND(AT54=$BB14,AV54=$BD14),"5",IF(AND(AU54=$BB14-$BD14,AU54=0),"3",IF(AND(AU54=$BB14-$BD14,OR(AU54>0,AU54<0)),"3",IF(AND(AU54>0,$BB14-$BD14>0),"2",IF(AND(AU54<0,$BB14-$BD14<0),"2","0")))))) -> 0 | AX54: =AX34 -> Боруссия М - Герта | BB54: =IF((LEN(BB14)=0)," ",BB14) | BC54: =BB54-BD54 -> #VALUE! | BD54: =IF((LEN(BD14)=0)," ",BD14)
B55: =MID(Лист1!$B$42,13,1) -> 2 | C55: =B55-D55 -> 0 | D55: =MID(Лист1!$B$42,14,1) -> 2 | E55: =IF((LEN($BB15)=0),"0",IF(AND(B55=$BB15,D55=$BD15),"5",IF(AND(C55=$BB15-$BD15,C55=0),"3",IF(AND(C55=$BB15-$BD15,OR(C55>0,C55<0)),"3",IF(AND(C55>0,$BB15-$BD15>0),"2",IF(AND(C55<0,$BB15-$BD15<0),"2","0")))))) -> 0 | F55: =MID(Лист1!$B$49,13,1) -> 2 | G55: =F55-H55 -> 0 | H55: =MID(Лист1!$B$49,14,1) -> 2 | I55: =IF((LEN($BB15)=0),"0",IF(AND(F55=$BB15,H55=$BD15),"5",IF(AND(G55=$BB15-$BD15,G55=0),"3",IF(AND(G55=$BB15-$BD15,OR(G55>0,G55<0)),"3",IF(AND(G55>0,$BB15-$BD15>0),"2",IF(AND(G55<0,$BB15-$BD15<0),"2","0")))))) -> 0 | J55: =MID(Лист1!$B$43,13,1) -> 2 | K55: =J55-L55 -> 0 | L55: =MID(Лист1!$B$43,14,1) -> 2 | M55: =IF((LEN($BB15)=0),"0",IF(AND(J55=$BB15,L55=$BD15),"5",IF(AND(K55=$BB15-$BD15,K55=0),"3",IF(AND(K55=$BB15-$BD15,OR(K55>0,K55<0)),"3",IF(AND(K55>0,$BB15-$BD15>0),"2",IF(AND(K55<0,$BB15-$BD15<0),"2","0")))))) -> 0 | N55: =MID(Лист1!$B$50,13,1) -> 2 | O55: =N55-P55 -> 0 | P55: =MID(Лист1!$B$50,14,1) -> 2 | Q55: =IF((LEN($BB15)=0),"0",IF(AND(N55=$BB15,P55=$BD15),"5",IF(AND(O55=$BB15-$BD15,O55=0),"3",IF(AND(O55=$BB15-$BD15,OR(O55>0,O55<0)),"3",IF(AND(O55>0,$BB15-$BD15>0),"2",IF(AND(O55<0,$BB15-$BD15<0),"2","0")))))) -> 0 | R55: =MID(Лист1!$B$44,13,1) -> 2 | S55: =R55-T55 -> 0 | T55: =MID(Лист1!$B$44,14,1) -> 2 | U55: =IF((LEN($BB15)=0),"0",IF(AND(R55=$BB15,T55=$BD15),"5",IF(AND(S55=$BB15-$BD15,S55=0),"3",IF(AND(S55=$BB15-$BD15,OR(S55>0,S55<0)),"3",IF(AND(S55>0,$BB15-$BD15>0),"2",IF(AND(S55<0,$BB15-$BD15<0),"2","0")))))) -> 0 | V55: =MID(Лист1!$B$51,13,1) -> 2 | W55: =V55-X55 -> 0 | X55: =MID(Лист1!$B$51,14,1) -> 2 | Y55: =IF((LEN($BB15)=0),"0",IF(AND(V55=$BB15,X55=$BD15),"5",IF(AND(W55=$BB15-$BD15,W55=0),"3",IF(AND(W55=$BB15-$BD15,OR(W55>0,W55<0)),"3",IF(AND(W55>0,$BB15-$BD15>0),"2",IF(AND(W55<0,$BB15-$BD15<0),"2","0")))))) -> 0 | Z55: =MID(Лист1!$B$45,13,1) -> 2 | AA55: =Z55-AB55 -> 0 | AB55: =MID(Лист1!$B$45,14,1) -> 2 | AC55: =IF((LEN($BB15)=0),"0",IF(AND(Z55=$BB15,AB55=$BD15),"5",IF(AND(AA55=$BB15-$BD15,AA55=0),"3",IF(AND(AA55=$BB15-$BD15,OR(AA55>0,AA55<0)),"3",IF(AND(AA55>0,$BB15-$BD15>0),"2",IF(AND(AA55<0,$BB15-$BD15<0),"2","0")))))) -> 0 | AD55: =MID(Лист1!$B$52,13,1) -> 2 | AE55: =AD55-AF55 -> 0 | AF55: =MID(Лист1!$B$52,14,1) -> 2 | AG55: =IF((LEN($BB15)=0),"0",IF(AND(AD55=$BB15,AF55=$BD15),"5",IF(AND(AE55=$BB15-$BD15,AE55=0),"3",IF(AND(AE55=$BB15-$BD15,OR(AE55>0,AE55<0)),"3",IF(AND(AE55>0,$BB15-$BD15>0),"2",IF(AND(AE55<0,$BB15-$BD15<0),"2","0")))))) -> 0 | AH55: =MID(Лист1!$B$46,13,1) -> 2 | AI55: =AH55-AJ55 -> 0 | AJ55: =MID(Лист1!$B$46,14,1) -> 2 | AK55: =IF((LEN($BB15)=0),"0",IF(AND(AH55=$BB15,AJ55=$BD15),"5",IF(AND(AI55=$BB15-$BD15,AI55=0),"3",IF(AND(AI55=$BB15-$BD15,OR(AI55>0,AI55<0)),"3",IF(AND(AI55>0,$BB15-$BD15>0),"2",IF(AND(AI55<0,$BB15-$BD15<0),"2","0")))))) -> 0 | AL55: =MID(Лист1!$B$53,13,1) -> 2 | AM55: =AL55-AN55 -> 0 | AN55: =MID(Лист1!$B$53,14,1) -> 2 | AO55: =IF((LEN($BB15)=0),"0",IF(AND(AL55=$BB15,AN55=$BD15),"5",IF(AND(AM55=$BB15-$BD15,AM55=0),"3",IF(AND(AM55=$BB15-$BD15,OR(AM55>0,AM55<0)),"3",IF(AND(AM55>0,$BB15-$BD15>0),"2",IF(AND(AM55<0,$BB15-$BD15<0),"2","0")))))) -> 0 | AP55: =MID(Лист1!$B$47,13,1) -> 2 | AQ55: =AP55-AR55 -> 0 | AR55: =MID(Лист1!$B$47,14,1) -> 2 | AS55: =IF((LEN($BB15)=0),"0",IF(AND(AP55=$BB15,AR55=$BD15),"5",IF(AND(AQ55=$BB15-$BD15,AQ55=0),"3",IF(AND(AQ55=$BB15-$BD15,OR(AQ55>0,AQ55<0)),"3",IF(AND(AQ55>0,$BB15-$BD15>0),"2",IF(AND(AQ55<0,$BB15-$BD15<0),"2","0")))))) -> 0 | AT55: =MID(Лист1!$B$54,13,1) -> 2 | AU55: =AT55-AV55 -> 0 | AV55: =MID(Лист1!$B$54,14,1) -> 2 | AW55: =IF((LEN($BB15)=0),"0",IF(AND(AT55=$BB15,AV55=$BD15),"5",IF(AND(AU55=$BB15-$BD15,AU55=0),"3",IF(AND(AU55=$BB15-$BD15,OR(AU55>0,AU55<0)),"3",IF(AND(AU55>0,$BB15-$BD15>0),"2",IF(AND(AU55<0,$BB15-$BD15<0),"2","0")))))) -> 0 | AX55: =AX35 -> Бастия - Марсель | BB55: =IF((LEN(BB15)=0)," ",BB15) | BC55: =BB55-BD55 -> #VALUE! | BD55: =IF((LEN(BD15)=0)," ",BD15)
B56: =MID(Лист1!$B$42,15,1) -> 1 | C56: =B56-D56 -> 1 | D56: =MID(Лист1!$B$42,16,1) -> 0 | E56: =IF((LEN($BB16)=0),"0",IF(AND(B56=$BB16,D56=$BD16),"5",IF(AND(C56=$BB16-$BD16,C56=0),"3",IF(AND(C56=$BB16-$BD16,OR(C56>0,C56<0)),"3",IF(AND(C56>0,$BB16-$BD16>0),"2",IF(AND(C56<0,$BB16-$BD16<0),"2","0")))))) -> 0 | F56: =MID(Лист1!$B$49,15,1) -> 1 | G56: =F56-H56 -> 1 | H56: =MID(Лист1!$B$49,16,1) -> 0 | I56: =IF((LEN($BB16)=0),"0",IF(AND(F56=$BB16,H56=$BD16),"5",IF(AND(G56=$BB16-$BD16,G56=0),"3",IF(AND(G56=$BB16-$BD16,OR(G56>0,G56<0)),"3",IF(AND(G56>0,$BB16-$BD16>0),"2",IF(AND(G56<0,$BB16-$BD16<0),"2","0")))))) -> 0 | J56: =MID(Лист1!$B$43,15,1) -> 1 | K56: =J56-L56 -> 1 | L56: =MID(Лист1!$B$43,16,1) -> 0 | M56: =IF((LEN($BB16)=0),"0",IF(AND(J56=$BB16,L56=$BD16),"5",IF(AND(K56=$BB16-$BD16,K56=0),"3",IF(AND(K56=$BB16-$BD16,OR(K56>0,K56<0)),"3",IF(AND(K56>0,$BB16-$BD16>0),"2",IF(AND(K56<0,$BB16-$BD16<0),"2","0")))))) -> 0 | N56: =MID(Лист1!$B$50,15,1) -> 1 | O56: =N56-P56 -> 1 | P56: =MID(Лист1!$B$50,16,1) -> 0 | Q56: =IF((LEN($BB16)=0),"0",IF(AND(N56=$BB16,P56=$BD16),"5",IF(AND(O56=$BB16-$BD16,O56=0),"3",IF(AND(O56=$BB16-$BD16,OR(O56>0,O56<0)),"3",IF(AND(O56>0,$BB16-$BD16>0),"2",IF(AND(O56<0,$BB16-$BD16<0),"2","0")))))) -> 0 | R56: =MID(Лист1!$B$44,15,1) -> 1 | S56: =R56-T56 -> 1 | T56: =MID(Лист1!$B$44,16,1) -> 0 | U56: =IF((LEN($BB16)=0),"0",IF(AND(R56=$BB16,T56=$BD16),"5",IF(AND(S56=$BB16-$BD16,S56=0),"3",IF(AND(S56=$BB16-$BD16,OR(S56>0,S56<0)),"3",IF(AND(S56>0,$BB16-$BD16>0),"2",IF(AND(S56<0,$BB16-$BD16<0),"2","0")))))) -> 0 | V56: =MID(Лист1!$B$51,15,1) -> 1 | W56: =V56-X56 -> 1 | X56: =MID(Лист1!$B$51,16,1) -> 0 | Y56: =IF((LEN($BB16)=0),"0",IF(AND(V56=$BB16,X56=$BD16),"5",IF(AND(W56=$BB16-$BD16,W56=0),"3",IF(AND(W56=$BB16-$BD16,OR(W56>0,W56<0)),"3",IF(AND(W56>0,$BB16-$BD16>0),"2",IF(AND(W56<0,$BB16-$BD16<0),"2","0")))))) -> 0 | Z56: =MID(Лист1!$B$45,15,1) -> 1 | AA56: =Z56-AB56 -> 1 | AB56: =MID(Лист1!$B$45,16,1) -> 0 | AC56: =IF((LEN($BB16)=0),"0",IF(AND(Z56=$BB16,AB56=$BD16),"5",IF(AND(AA56=$BB16-$BD16,AA56=0),"3",IF(AND(AA56=$BB16-$BD16,OR(AA56>0,AA56<0)),"3",IF(AND(AA56>0,$BB16-$BD16>0),"2",IF(AND(AA56<0,$BB16-$BD16<0),"2","0")))))) -> 0 | AD56: =MID(Лист1!$B$52,15,1) -> 1 | AE56: =AD56-AF56 -> 1 | AF56: =MID(Лист1!$B$52,16,1) -> 0 | AG56: =IF((LEN($BB16)=0),"0",IF(AND(AD56=$BB16,AF56=$BD16),"5",IF(AND(AE56=$BB16-$BD16,AE56=0),"3",IF(AND(AE56=$BB16-$BD16,OR(AE56>0,AE56<0)),"3",IF(AND(AE56>0,$BB16-$BD16>0),"2",IF(AND(AE56<0,$BB16-$BD16<0),"2","0")))))) -> 0 | AH56: =MID(Лист1!$B$46,15,1) -> 1 | AI56: =AH56-AJ56 -> 1 | AJ56: =MID(Лист1!$B$46,16,1) -> 0 | AK56: =IF((LEN($BB16)=0),"0",IF(AND(AH56=$BB16,AJ56=$BD16),"5",IF(AND(AI56=$BB16-$BD16,AI56=0),"3",IF(AND(AI56=$BB16-$BD16,OR(AI56>0,AI56<0)),"3",IF(AND(AI56>0,$BB16-$BD16>0),"2",IF(AND(AI56<0,$BB16-$BD16<0),"2","0")))))) -> 0 | AL56: =MID(Лист1!$B$53,15,1) -> 1 | AM56: =AL56-AN56 -> 1 | AN56: =MID(Лист1!$B$53,16,1) -> 0 | AO56: =IF((LEN($BB16)=0),"0",IF(AND(AL56=$BB16,AN56=$BD16),"5",IF(AND(AM56=$BB16-$BD16,AM56=0),"3",IF(AND(AM56=$BB16-$BD16,OR(AM56>0,AM56<0)),"3",IF(AND(AM56>0,$BB16-$BD16>0),"2",IF(AND(AM56<0,$BB16-$BD16<0),"2","0")))))) -> 0 | AP56: =MID(Лист1!$B$47,15,1) -> 1 | AQ56: =AP56-AR56 -> 1 | AR56: =MID(Лист1!$B$47,16,1) -> 0 | AS56: =IF((LEN($BB16)=0),"0",IF(AND(AP56=$BB16,AR56=$BD16),"5",IF(AND(AQ56=$BB16-$BD16,AQ56=0),"3",IF(AND(AQ56=$BB16-$BD16,OR(AQ56>0,AQ56<0)),"3",IF(AND(AQ56>0,$BB16-$BD16>0),"2",IF(AND(AQ56<0,$BB16-$BD16<0),"2","0")))))) -> 0 | AT56: =MID(Лист1!$B$54,15,1) -> 1 | AU56: =AT56-AV56 -> 1 | AV56: =MID(Лист1!$B$54,16,1) -> 0 | AW56: =IF((LEN($BB16)=0),"0",IF(AND(AT56=$BB16,AV56=$BD16),"5",IF(AND(AU56=$BB16-$BD16,AU56=0),"3",IF(AND(AU56=$BB16-$BD16,OR(AU56>0,AU56<0)),"3",IF(AND(AU56>0,$BB16-$BD16>0),"2",IF(AND(AU56<0,$BB16-$BD16<0),"2","0")))))) -> 0 | AX56: =AX36 -> Зенит - ЦСКА | BB56: =IF((LEN(BB16)=0)," ",BB16) | BC56: =BB56-BD56 -> #VALUE! | BD56: =IF((LEN(BD16)=0)," ",BD16)
B57: 1 | C57: =B57-D57 -> -1 | D57: 2 | E57: =IF((LEN(BB57)=0),"0",IF(AND(B57=BB57,D57=BD57),"5",IF(AND(C57=BC57,C57=0),"2",IF(AND(C57=BC57,OR(C57>0,C57<0)),"3",IF(AND(C57>0,BC57>0),"2",IF(AND(C57<0,BC57<0),"2","0")))))) -> 0 | F57: 1 | G57: =F57-H57 -> -1 | H57: 2 | I57: =IF((LEN(BB57)=0),"0",IF(AND(F57=BB57,H57=BD57),"5",IF(AND(G57=BC57,G57=0),"2",IF(AND(G57=BC57,OR(G57>0,G57<0)),"3",IF(AND(G57>0,BC57>0),"2",IF(AND(G57<0,BC57<0),"2","0")))))) -> 0 | J57: 1 | K57: =J57-L57 -> 1 | L57: 0 | M57: =IF((LEN(BB57)=0),"0",IF(AND(J57=BB57,L57=BD57),"5",IF(AND(K57=BC57,K57=0),"2",IF(AND(K57=BC57,OR(K57>0,K57<0)),"3",IF(AND(K57>0,BC57>0),"2",IF(AND(K57<0,BC57<0),"2","0")))))) -> 0 | N57: 2 | O57: =N57-P57 -> 0 | P57: 2 | Q57: =IF((LEN(BB57)=0),"0",IF(AND(N57=BB57,P57=BD57),"5",IF(AND(O57=BC57,O57=0),"2",IF(AND(O57=BC57,OR(O57>0,O57<0)),"3",IF(AND(O57>0,BC57>0),"2",IF(AND(O57<0,BC57<0),"2","0")))))) -> 0 | R57: 0 | S57: =R57-T57 -> -1 | T57: 1 | U57: =IF((LEN(BB57)=0),"0",IF(AND(R57=BB57,T57=BD57),"5",IF(AND(S57=BC57,S57=0),"2",IF(AND(S57=BC57,OR(S57>0,S57<0)),"3",IF(AND(S57>0,BC57>0),"2",IF(AND(S57<0,BC57<0),"2","0")))))) -> 0 | V57: 0 | W57: =V57-X57 -> -1 | X57: 1 | Y57: =IF((LEN(BB57)=0),"0",IF(AND(V57=BB57,X57=BD57),"5",IF(AND(W57=BC57,W57=0),"2",IF(AND(W57=BC57,OR(W57>0,W57<0)),"3",IF(AND(W57>0,BC57>0),"2",IF(AND(W57<0,BC57<0),"2","0")))))) -> 0 | Z57: 0 | AA57: =Z57-AB57 -> -1 | AB57: 1 | AC57: =IF((LEN(BB57)=0),"0",IF(AND(Z57=BB57,AB57=BD57),"5",IF(AND(AA57=BC57,AA57=0),"2",IF(AND(AA57=BC57,OR(AA57>0,AA57<0)),"3",IF(AND(AA57>0,BC57>0),"2",IF(AND(AA57<0,BC57<0),"2","0")))))) -> 0 | AD57: 1 | AE57: =AD57-AF57 -> -1 | AF57: 2 | AG57: =IF((LEN(BB57)=0),"0",IF(AND(AD57=BB57,AF57=BD57),"5",IF(AND(AE57=BC57,AE57=0),"2",IF(AND(AE57=BC57,OR(AE57>0,AE57<0)),"3",IF(AND(AE57>0,BC57>0),"2",IF(AND(AE57<0,BC57<0),"2","0")))))) -> 0 | AH57: 1 | AI57: =AH57-AJ57 -> 0 | AJ57: 1 | AK57: =IF((LEN(BB57)=0),"0",IF(AND(AH57=BB57,AJ57=BD57),"5",IF(AND(AI57=BC57,AI57=0),"2",IF(AND(AI57=BC57,OR(AI57>0,AI57<0)),"3",IF(AND(AI57>0,BC57>0),"2",IF(AND(AI57<0,BC57<0),"2","0")))))) -> 0 | AL57: 0 | AM57: =AL57-AN57 -> 0 | AN57: 0 | AO57: =IF((LEN(BB57)=0),"0",IF(AND(AL57=BB57,AN57=BD57),"5",IF(AND(AM57=BC57,AM57=0),"2",IF(AND(AM57=BC57,OR(AM57>0,AM57<0)),"3",IF(AND(AM57>0,BC57>0),"2",IF(AND(AM57<0,BC57<0),"2","0")))))) -> 0 | AP57: 0 | AQ57: =AP57-AR57 -> 0 | AR57: 0 | AS57: =IF((LEN(BB57)=0),"0",IF(AND(AP57=BB57,AR57=BD57),"5",IF(AND(AQ57=BC57,AQ57=0),"2",IF(AND(AQ57=BC57,OR(AQ57>0,AQ57<0)),"3",IF(AND(AQ57>0,BC57>0),"2",IF(AND(AQ57<0,BC57<0),"2","0")))))) -> 0 | AT57: 2 | AU57: =AT57-AV57 -> 1 | AV57: 1 | AW57: =IF((LEN(BB57)=0),"0",IF(AND(AT57=BB57,AV57=BD57),"5",IF(AND(AU57=BC57,AU57=0),"2",IF(AND(AU57=BC57,OR(AU57>0,AU57<0)),"3",IF(AND(AU57>0,BC57>0),"2",IF(AND(AU57<0,BC57<0),"2","0")))))) -> 0 | BC57: =BB57-BD57 -> 0
B58: 1 | C58: =B58-D58 -> 1 | D58: 0 | E58: =IF((LEN(BB58)=0),"0",IF(AND(B58=BB58,D58=BD58),"5",IF(AND(C58=BC58,C58=0),"2",IF(AND(C58=BC58,OR(C58>0,C58<0)),"3",IF(AND(C58>0,BC58>0),"2",IF(AND(C58<0,BC58<0),"2","0")))))) -> 0 | F58: 1 | G58: =F58-H58 -> -1 | H58: 2 | I58: =IF((LEN(BB58)=0),"0",IF(AND(F58=BB58,H58=BD58),"5",IF(AND(G58=BC58,G58=0),"2",IF(AND(G58=BC58,OR(G58>0,G58<0)),"3",IF(AND(G58>0,BC58>0),"2",IF(AND(G58<0,BC58<0),"2","0")))))) -> 0 | J58: 1 | K58: =J58-L58 -> -1 | L58: 2 | M58: =IF((LEN(BB58)=0),"0",IF(AND(J58=BB58,L58=BD58),"5",IF(AND(K58=BC58,K58=0),"2",IF(AND(K58=BC58,OR(K58>0,K58<0)),"3",IF(AND(K58>0,BC58>0),"2",IF(AND(K58<0,BC58<0),"2","0")))))) -> 0 | N58: 1 | O58: =N58-P58 -> -1 | P58: 2 | Q58: =IF((LEN(BB58)=0),"0",IF(AND(N58=BB58,P58=BD58),"5",IF(AND(O58=BC58,O58=0),"2",IF(AND(O58=BC58,OR(O58>0,O58<0)),"3",IF(AND(O58>0,BC58>0),"2",IF(AND(O58<0,BC58<0),"2","0")))))) -> 0 | R58: 0 | S58: =R58-T58 -> -2 | T58: 2 | U58: =IF((LEN(BB58)=0),"0",IF(AND(R58=BB58,T58=BD58),"5",IF(AND(S58=BC58,S58=0),"2",IF(AND(S58=BC58,OR(S58>0,S58<0)),"3",IF(AND(S58>0,BC58>0),"2",IF(AND(S58<0,BC58<0),"2","0")))))) -> 0 | V58: 1 | W58: =V58-X58 -> -1 | X58: 2 | Y58: =IF((LEN(BB58)=0),"0",IF(AND(V58=BB58,X58=BD58),"5",IF(AND(W58=BC58,W58=0),"2",IF(AND(W58=BC58,OR(W58>0,W58<0)),"3",IF(AND(W58>0,BC58>0),"2",IF(AND(W58<0,BC58<0),"2","0")))))) -> 0 | Z58: 0 | AA58: =Z58-AB58 -> -2 | AB58: 2 | AC58: =IF((LEN(BB58)=0),"0",IF(AND(Z58=BB58,AB58=BD58),"5",IF(AND(AA58=BC58,AA58=0),"2",IF(AND(AA58=BC58,OR(AA58>0,AA58<0)),"3",IF(AND(AA58>0,BC58>0),"2",IF(AND(AA58<0,BC58<0),"2","0")))))) -> 0 | AD58: 1 | AE58: =AD58-AF58 -> -1 | AF58: 2 | AG58: =IF((LEN(BB58)=0),"0",IF(AND(AD58=BB58,AF58=BD58),"5",IF(AND(AE58=BC58,AE58=0),"2",IF(AND(AE58=BC58,OR(AE58>0,AE58<0)),"3",IF(AND(AE58>0,BC58>0),"2",IF(AND(AE58<0,BC58<0),"2","0")))))) -> 0 | AH58: 2 | AI58: =AH58-AJ58 -> 1 | AJ58: 1 | AK58: =IF((LEN(BB58)=0),"0",IF(AND(AH58=BB58,AJ58=BD58),"5",IF(AND(AI58=BC58,AI58=0),"2",IF(AND(AI58=BC58,OR(AI58>0,AI58<0)),"3",IF(AND(AI58>0,BC58>0),"2",IF(AND(AI58<0,BC58<0),"2","0")))))) -> 0 | AL58: 0 | AM58: =AL58-AN58 -> -1 | AN58: 1 | AO58: =IF((LEN(BB58)=0),"0",IF(AND(AL58=BB58,AN58=BD58),"5",IF(AND(AM58=BC58,AM58=0),"2",IF(AND(AM58=BC58,OR(AM58>0,AM58<0)),"3",IF(AND(AM58>0,BC58>0),"2",IF(AND(AM58<0,BC58<0),"2","0")))))) -> 0 | AP58: 1 | AQ58: =AP58-AR58 -> 0 | AR58: 1 | AS58: =IF((LEN(BB58)=0),"0",IF(AND(AP58=BB58,AR58=BD58),"5",IF(AND(AQ58=BC58,AQ58=0),"2",IF(AND(AQ58=BC58,OR(AQ58>0,AQ58<0)),"3",IF(AND(AQ58>0,BC58>0),"2",IF(AND(AQ58<0,BC58<0),"2","0")))))) -> 0 | AT58: 2 | AU58: =AT58-AV58 -> 2 | AV58: 0 | AW58: =IF((LEN(BB58)=0),"0",IF(AND(AT58=BB58,AV58=BD58),"5",IF(AND(AU58=BC58,AU58=0),"2",IF(AND(AU58=BC58,OR(AU58>0,AU58<0)),"3",IF(AND(AU58>0,BC58>0),"2",IF(AND(AU58<0,BC58<0),"2","0")))))) -> 0 | BC58: =BB58-BD58 -> 0
B59: =E49+E50+E51+E52+E53+E54+E55+E56+E57+E58 -> 0 | F59: =I49+I50+I51+I52+I53+I54+I55+I56+I57+I58 -> 0 | J59: =M49+M50+M51+M52+M53+M54+M55+M56+M57+M58 -> 0 | N59: =Q49+Q50+Q51+Q52+Q53+Q54+Q55+Q56+Q57+Q58 -> 0 | R59: =U49+U50+U51+U52+U53+U54+U55+U56+U57+U58 -> 0 | V59: =Y49+Y50+Y51+Y52+Y53+Y54+Y55+Y56+Y57+Y58 -> 0 | Z59: =AC49+AC50+AC51+AC52+AC53+AC54+AC55+AC56+AC57+AC58 -> 0 | AD59: =AG49+AG50+AG51+AG52+AG53+AG54+AG55+AG56+AG57+AG58 -> 0 | AH59: =AK49+AK50+AK51+AK52+AK53+AK54+AK55+AK56+AK57+AK58 -> 0 | AL59: =AO49+AO50+AO51+AO52+AO53+AO54+AO55+AO56+AO57+AO58 -> 0 | AP59: =AS49+AS50+AS51+AS52+AS53+AS54+AS55+AS56+AS57+AS58 -> 0 | AT59: =AW49+AW50+AW51+AW52+AW53+AW54+AW55+AW56+AW57+AW58 -> 0
B60: =IF(B59>F59,"1",IF(B59=F59,"0", IF(B59<F59,"0"))) -> 0 | F60: =IF(F59>B59,"1",IF(F59=B59,"0", IF(F59<B59,"0"))) -> 0 | J60: =IF(J59>N59,"1",IF(J59=N59,"0", IF(J59<N59,"0"))) -> 0 | N60: =IF(N59>J59,"1",IF(N59=J59,"0", IF(N59<J59,"0"))) -> 0 | R60: =IF(R59>V59,"1",IF(R59=V59,"0", IF(R59<V59,"0"))) -> 0 | V60: =IF(V59>R59,"1",IF(V59=R59,"0", IF(V59<R59,"0"))) -> 0 | Z60: =IF(Z59>AD59,"1",IF(Z59=AD59,"0", IF(Z59<AD59,"0"))) -> 0 | AD60: =IF(AD59>Z59,"1",IF(AD59=Z59,"0", IF(AD59<Z59,"0"))) -> 0 | AH60: =IF(AH59>AL59,"1",IF(AH59=AL59,"0", IF(AH59<AL59,"0"))) -> 0 | AL60: =IF(AL59>AH59,"1",IF(AL59=AH59,"0", IF(AL59<AH59,"0"))) -> 0 | AP60: =IF(AP59>AT59,"1",IF(AP59=AT59,"0", IF(AP59<AT59,"0"))) -> 0 | AT60: =IF(AT59>AP59,"1",IF(AT59=AP59,"0", IF(AT59<AP59,"0"))) -> 0
B64: =Лист1!A61 -> Проф.прогноза | H64: =B80+J80+R80+Z80+AH80+AP80 -> 0
B65: =Лист1!A68 -> Команда 8 | H65: =F80+N80+V80+AD80+AL80+AT80 -> 0
B67: =Лист1!A62 -> Игрок 19 | F67: =Лист1!A69 -> Игрок 19 | J67: =Лист1!A63 -> Игрок 20 | N67: =Лист1!A70 -> Игрок 20 | R67: =Лист1!A64 -> Игрок 21 | V67: =Лист1!A71 -> Игрок 21 | Z67: =Лист1!A65 -> Игрок 22 | AD67: =Лист1!A72 -> Игрок 22 | AH67: =Лист1!A66 -> Игрок 23 | AL67: =Лист1!A73 -> Игрок 23 | AP67: =Лист1!A67 -> Игрок 24 | AT67: =Лист1!A74 -> Игрок 24 | BB67: Итог
B68: прогноз | E68: очки | F68: прогноз | I68: очки | J68: прогноз | M68: очки | N68: прогноз | Q68: очки | R68: прогноз | U68: очки | V68: прогноз | Y68: очки | Z68: прогноз | AC68: очки | AD68: прогноз | AG68: очки | AH68: прогноз | AK68: очки | AL68: прогноз | AO68: очки | AP68: прогноз | AS68: очки | AT68: прогноз | AW68: очки
B69: =MID(Лист1!$B$62,1,1) -> 1 | C69: =B69-D69 -> 1 | D69: =MID(Лист1!$B$62,2,1) -> 0 | E69: =IF((LEN($BB9)=0),"0",IF(AND(B69=$BB9,D69=$BD9),"5",IF(AND(C69=$BB9-$BD9,C69=0),"3",IF(AND(C69=$BB9-$BD9,OR(C69>0,C69<0)),"3",IF(AND(C69>0,$BB9-$BD9>0),"2",IF(AND(C69<0,$BB9-$BD9<0),"2","0")))))) -> 0 | F69: =MID(Лист1!$B$69,1,1) -> 1 | G69: =F69-H69 -> 1 | H69: =MID(Лист1!$B$69,2,1) -> 0 | I69: =IF((LEN($BB9)=0),"0",IF(AND(F69=$BB9,H69=$BD9),"5",IF(AND(G69=$BB9-$BD9,G69=0),"3",IF(AND(G69=$BB9-$BD9,OR(G69>0,G69<0)),"3",IF(AND(G69>0,$BB9-$BD9>0),"2",IF(AND(G69<0,$BB9-$BD9<0),"2","0")))))) -> 0 | J69: =MID(Лист1!$B$63,1,1) -> 1 | K69: =J69-L69 -> 1 | L69: =MID(Лист1!$B$63,2,1) -> 0 | M69: =IF((LEN($BB9)=0),"0",IF(AND(J69=$BB9,L69=$BD9),"5",IF(AND(K69=$BB9-$BD9,K69=0),"3",IF(AND(K69=$BB9-$BD9,OR(K69>0,K69<0)),"3",IF(AND(K69>0,$BB9-$BD9>0),"2",IF(AND(K69<0,$BB9-$BD9<0),"2","0")))))) -> 0 | N69: =MID(Лист1!$B$70,1,1) -> 1 | O69: =N69-P69 -> 1 | P69: =MID(Лист1!$B$70,2,1) -> 0 | Q69: =IF((LEN($BB9)=0),"0",IF(AND(N69=$BB9,P69=$BD9),"5",IF(AND(O69=$BB9-$BD9,O69=0),"3",IF(AND(O69=$BB9-$BD9,OR(O69>0,O69<0)),"3",IF(AND(O69>0,$BB9-$BD9>0),"2",IF(AND(O69<0,$BB9-$BD9<0),"2","0")))))) -> 0 | R69: =MID(Лист1!$B$64,1,1) -> 1 | S69: =R69-T69 -> 1 | T69: =MID(Лист1!$B$64,2,1) -> 0 | U69: =IF((LEN($BB9)=0),"0",IF(AND(R69=$BB9,T69=$BD9),"5",IF(AND(S69=$BB9-$BD9,S69=0),"3",IF(AND(S69=$BB9-$BD9,OR(S69>0,S69<0)),"3",IF(AND(S69>0,$BB9-$BD9>0),"2",IF(AND(S69<0,$BB9-$BD9<0),"2","0")))))) -> 0 | V69: =MID(Лист1!$B$71,1,1) -> 1 | W69: =V69-X69 -> 1 | X69: =MID(Лист1!$B$71,2,1) -> 0 | Y69: =IF((LEN($BB9)=0),"0",IF(AND(V69=$BB9,X69=$BD9),"5",IF(AND(W69=$BB9-$BD9,W69=0),"3",IF(AND(W69=$BB9-$BD9,OR(W69>0,W69<0)),"3",IF(AND(W69>0,$BB9-$BD9>0),"2",IF(AND(W69<0,$BB9-$BD9<0),"2","0")))))) -> 0 | Z69: =MID(Лист1!$B$65,1,1) -> 1 | AA69: =Z69-AB69 -> 1 | AB69: =MID(Лист1!$B$65,2,1) -> 0 | AC69: =IF((LEN($BB9)=0),"0",IF(AND(Z69=$BB9,AB69=$BD9),"5",IF(AND(AA69=$BB9-$BD9,AA69=0),"3",IF(AND(AA69=$BB9-$BD9,OR(AA69>0,AA69<0)),"3",IF(AND(AA69>0,$BB9-$BD9>0),"2",IF(AND(AA69<0,$BB9-$BD9<0),"2","0")))))) -> 0 | AD69: =MID(Лист1!$B$72,1,1) -> 1 | AE69: =AD69-AF69 -> 1 | AF69: =MID(Лист1!$B$72,2,1) -> 0 | AG69: =IF((LEN($BB9)=0),"0",IF(AND(AD69=$BB9,AF69=$BD9),"5",IF(AND(AE69=$BB9-$BD9,AE69=0),"3",IF(AND(AE69=$BB9-$BD9,OR(AE69>0,AE69<0)),"3",IF(AND(AE69>0,$BB9-$BD9>0),"2",IF(AND(AE69<0,$BB9-$BD9<0),"2","0")))))) -> 0 | AH69: =MID(Лист1!$B$66,1,1) -> 1 | AI69: =AH69-AJ69 -> 1 | AJ69: =MID(Лист1!$B$66,2,1) -> 0 | AK69: =IF((LEN($BB9)=0),"0",IF(AND(AH69=$BB9,AJ69=$BD9),"5",IF(AND(AI69=$BB9-$BD9,AI69=0),"3",IF(AND(AI69=$BB9-$BD9,OR(AI69>0,AI69<0)),"3",IF(AND(AI69>0,$BB9-$BD9>0),"2",IF(AND(AI69<0,$BB9-$BD9<0),"2","0")))))) -> 0 | AL69: =MID(Лист1!$B$73,1,1) -> 1 | AM69: =AL69-AN69 -> 1 | AN69: =MID(Лист1!$B$73,2,1) -> 0 | AO69: =IF((LEN($BB9)=0),"0",IF(AND(AL69=$BB9,AN69=$BD9),"5",IF(AND(AM69=$BB9-$BD9,AM69=0),"3",IF(AND(AM69=$BB9-$BD9,OR(AM69>0,AM69<0)),"3",IF(AND(AM69>0,$BB9-$BD9>0),"2",IF(AND(AM69<0,$BB9-$BD9<0),"2","0")))))) -> 0 | AP69: =MID(Лист1!$B$67,1,1) -> 1 | AQ69: =AP69-AR69 -> 1 | AR69: =MID(Лист1!$B$67,2,1) -> 0 | AS69: =IF((LEN($BB9)=0),"0",IF(AND(AP69=$BB9,AR69=$BD9),"5",IF(AND(AQ69=$BB9-$BD9,AQ69=0),"3",IF(AND(AQ69=$BB9-$BD9,OR(AQ69>0,AQ69<0)),"3",IF(AND(AQ69>0,$BB9-$BD9>0),"2",IF(AND(AQ69<0,$BB9-$BD9<0),"2","0")))))) -> 0 | AT69: =MID(Лист1!$B$74,1,1) -> 1 | AU69: =AT69-AV69 -> 1 | AV69: =MID(Лист1!$B$74,2,1) -> 0 | AW69: =IF((LEN($BB9)=0),"0",IF(AND(AT69=$BB9,AV69=$BD9),"5",IF(AND(AU69=$BB9-$BD9,AU69=0),"3",IF(AND(AU69=$BB9-$BD9,OR(AU69>0,AU69<0)),"3",IF(AND(AU69>0,$BB9-$BD9>0),"2",IF(AND(AU69<0,$BB9-$BD9<0),"2","0")))))) -> 0 | AX69: =AX49 -> Дармштадт - Штутгарт | BB69: =IF((LEN(BB29)=0)," ",BB29) -> 2 | BC69: =BB69-BD69 -> 0 | BD69: =IF((LEN(BD29)=0)," ",BD29) -> 2
B70: =MID(Лист1!$B$62,3,1) -> 2 | C70: =B70-D70 -> 1 | D70: =MID(Лист1!$B$62,4,1) -> 1 | E70: =IF((LEN($BB10)=0),"0",IF(AND(B70=$BB10,D70=$BD10),"5",IF(AND(C70=$BB10-$BD10,C70=0),"3",IF(AND(C70=$BB10-$BD10,OR(C70>0,C70<0)),"3",IF(AND(C70>0,$BB10-$BD10>0),"2",IF(AND(C70<0,$BB10-$BD10<0),"2","0")))))) -> 0 | F70: =MID(Лист1!$B$69,3,1) -> 2 | G70: =F70-H70 -> 1 | H70: =MID(Лист1!$B$69,4,1) -> 1 | I70: =IF((LEN($BB10)=0),"0",IF(AND(F70=$BB10,H70=$BD10),"5",IF(AND(G70=$BB10-$BD10,G70=0),"3",IF(AND(G70=$BB10-$BD10,OR(G70>0,G70<0)),"3",IF(AND(G70>0,$BB10-$BD10>0),"2",IF(AND(G70<0,$BB10-$BD10<0),"2","0")))))) -> 0 | J70: =MID(Лист1!$B$63,3,1) -> 2 | K70: =J70-L70 -> 1 | L70: =MID(Лист1!$B$63,4,1) -> 1 | M70: =IF((LEN($BB10)=0),"0",IF(AND(J70=$BB10,L70=$BD10),"5",IF(AND(K70=$BB10-$BD10,K70=0),"3",IF(AND(K70=$BB10-$BD10,OR(K70>0,K70<0)),"3",IF(AND(K70>0,$BB10-$BD10>0),"2",IF(AND(K70<0,$BB10-$BD10<0),"2","0")))))) -> 0 | N70: =MID(Лист1!$B$70,3,1) -> 2 | O70: =N70-P70 -> 1 | P70: =MID(Лист1!$B$70,4,1) -> 1 | Q70: =IF((LEN($BB10)=0),"0",IF(AND(N70=$BB10,P70=$BD10),"5",IF(AND(O70=$BB10-$BD10,O70=0),"3",IF(AND(O70=$BB10-$BD10,OR(O70>0,O70<0)),"3",IF(AND(O70>0,$BB10-$BD10>0),"2",IF(AND(O70<0,$BB10-$BD10<0),"2","0")))))) -> 0 | R70: =MID(Лист1!$B$64,3,1) -> 2 | S70: =R70-T70 -> 1 | T70: =MID(Лист1!$B$64,4,1) -> 1 | U70: =IF((LEN($BB10)=0),"0",IF(AND(R70=$BB10,T70=$BD10),"5",IF(AND(S70=$BB10-$BD10,S70=0),"3",IF(AND(S70=$BB10-$BD10,OR(S70>0,S70<0)),"3",IF(AND(S70>0,$BB10-$BD10>0),"2",IF(AND(S70<0,$BB10-$BD10<0),"2","0")))))) -> 0 | V70: =MID(Лист1!$B$71,3,1) -> 2 | W70: =V70-X70 -> 1 | X70: =MID(Лист1!$B$71,4,1) -> 1 | Y70: =IF((LEN($BB10)=0),"0",IF(AND(V70=$BB10,X70=$BD10),"5",IF(AND(W70=$BB10-$BD10,W70=0),"3",IF(AND(W70=$BB10-$BD10,OR(W70>0,W70<0)),"3",IF(AND(W70>0,$BB10-$BD10>0),"2",IF(AND(W70<0,$BB10-$BD10<0),"2","0")))))) -> 0 | Z70: =MID(Лист1!$B$65,3,1) -> 2 | AA70: =Z70-AB70 -> 1 | AB70: =MID(Лист1!$B$65,4,1) -> 1 | AC70: =IF((LEN($BB10)=0),"0",IF(AND(Z70=$BB10,AB70=$BD10),"5",IF(AND(AA70=$BB10-$BD10,AA70=0),"3",IF(AND(AA70=$BB10-$BD10,OR(AA70>0,AA70<0)),"3",IF(AND(AA70>0,$BB10-$BD10>0),"2",IF(AND(AA70<0,$BB10-$BD10<0),"2","0")))))) -> 0 | AD70: =MID(Лист1!$B$72,3,1) -> 2 | AE70: =AD70-AF70 -> 1 | AF70: =MID(Лист1!$B$72,4,1) -> 1 | AG70: =IF((LEN($BB10)=0),"0",IF(AND(AD70=$BB10,AF70=$BD10),"5",IF(AND(AE70=$BB10-$BD10,AE70=0),"3",IF(AND(AE70=$BB10-$BD10,OR(AE70>0,AE70<0)),"3",IF(AND(AE70>0,$BB10-$BD10>0),"2",IF(AND(AE70<0,$BB10-$BD10<0),"2","0")))))) -> 0 | AH70: =MID(Лист1!$B$66,3,1) -> 2 | AI70: =AH70-AJ70 -> 1 | AJ70: =MID(Лист1!$B$66,4,1) -> 1 | AK70: =IF((LEN($BB10)=0),"0",IF(AND(AH70=$BB10,AJ70=$BD10),"5",IF(AND(AI70=$BB10-$BD10,AI70=0),"3",IF(AND(AI70=$BB10-$BD10,OR(AI70>0,AI70<0)),"3",IF(AND(AI70>0,$BB10-$BD10>0),"2",IF(AND(AI70<0,$BB10-$BD10<0),"2","0")))))) -> 0 | AL70: =MID(Лист1!$B$73,3,1) -> 2 | AM70: =AL70-AN70 -> 1 | AN70: =MID(Лист1!$B$73,4,1) -> 1 | AO70: =IF((LEN($BB10)=0),"0",IF(AND(AL70=$BB10,AN70=$BD10),"5",IF(AND(AM70=$BB10-$BD10,AM70=0),"3",IF(AND(AM70=$BB10-$BD10,OR(AM70>0,AM70<0)),"3",IF(AND(AM70>0,$BB10-$BD10>0),"2",IF(AND(AM70<0,$BB10-$BD10<0),"2","0")))))) -> 0 | AP70: =MID(Лист1!$B$67,3,1) -> 2 | AQ70: =AP70-AR70 -> 1 | AR70: =MID(Лист1!$B$67,4,1) -> 1 | AS70: =IF((LEN($BB10)=0),"0",IF(AND(AP70=$BB10,AR70=$BD10),"5",IF(AND(AQ70=$BB10-$BD10,AQ70=0),"3",IF(AND(AQ70=$BB10-$BD10,OR(AQ70>0,AQ70<0)),"3",IF(AND(AQ70>0,$BB10-$BD10>0),"2",IF(AND(AQ70<0,$BB10-$BD10<0),"2","0")))))) -> 0 | AT70: =MID(Лист1!$B$74,3,1) -> 2 | AU70: =AT70-AV70 -> 1 | AV70: =MID(Лист1!$B$74,4,1) -> 1 | AW70: =IF((LEN($BB10)=0),"0",IF(AND(AT70=$BB10,AV70=$BD10),"5",IF(AND(AU70=$BB10-$BD10,AU70=0),"3",IF(AND(AU70=$BB10-$BD10,OR(AU70>0,AU70<0)),"3",IF(AND(AU70>0,$BB10-$BD10>0),"2",IF(AND(AU70<0,$BB10-$BD10<0),"2","0")))))) -> 0 | AX70: =AX50 -> Ливерпуль - Тоттенхэм | BB70: =BB50 -> 1 | BC70: =BB70-BD70 -> 0 | BD70: =BD50 -> 1
B71: =MID(Лист1!$B$62,5,1) -> 1 | C71: =B71-D71 -> -2 | D71: =MID(Лист1!$B$62,6,1) -> 3 | E71: =IF((LEN($BB11)=0),"0",IF(AND(B71=$BB11,D71=$BD11),"5",IF(AND(C71=$BB11-$BD11,C71=0),"3",IF(AND(C71=$BB11-$BD11,OR(C71>0,C71<0)),"3",IF(AND(C71>0,$BB11-$BD11>0),"2",IF(AND(C71<0,$BB11-$BD11<0),"2","0")))))) -> 0 | F71: =MID(Лист1!$B$69,5,1) -> 1 | G71: =F71-H71 -> -2 | H71: =MID(Лист1!$B$69,6,1) -> 3 | I71: =IF((LEN($BB11)=0),"0",IF(AND(F71=$BB11,H71=$BD11),"5",IF(AND(G71=$BB11-$BD11,G71=0),"3",IF(AND(G71=$BB11-$BD11,OR(G71>0,G71<0)),"3",IF(AND(G71>0,$BB11-$BD11>0),"2",IF(AND(G71<0,$BB11-$BD11<0),"2","0")))))) -> 0 | J71: =MID(Лист1!$B$63,5,1) -> 1 | K71: =J71-L71 -> -2 | L71: =MID(Лист1!$B$63,6,1) -> 3 | M71: =IF((LEN($BB11)=0),"0",IF(AND(J71=$BB11,L71=$BD11),"5",IF(AND(K71=$BB11-$BD11,K71=0),"3",IF(AND(K71=$BB11-$BD11,OR(K71>0,K71<0)),"3",IF(AND(K71>0,$BB11-$BD11>0),"2",IF(AND(K71<0,$BB11-$BD11<0),"2","0")))))) -> 0 | N71: =MID(Лист1!$B$70,5,1) -> 1 | O71: =N71-P71 -> -2 | P71: =MID(Лист1!$B$70,6,1) -> 3 | Q71: =IF((LEN($BB11)=0),"0",IF(AND(N71=$BB11,P71=$BD11),"5",IF(AND(O71=$BB11-$BD11,O71=0),"3",IF(AND(O71=$BB11-$BD11,OR(O71>0,O71<0)),"3",IF(AND(O71>0,$BB11-$BD11>0),"2",IF(AND(O71<0,$BB11-$BD11<0),"2","0")))))) -> 0 | R71: =MID(Лист1!$B$64,5,1) -> 1 | S71: =R71-T71 -> -2 | T71: =MID(Лист1!$B$64,6,1) -> 3 | U71: =IF((LEN($BB11)=0),"0",IF(AND(R71=$BB11,T71=$BD11),"5",IF(AND(S71=$BB11-$BD11,S71=0),"3",IF(AND(S71=$BB11-$BD11,OR(S71>0,S71<0)),"3",IF(AND(S71>0,$BB11-$BD11>0),"2",IF(AND(S71<0,$BB11-$BD11<0),"2","0")))))) -> 0 | V71: =MID(Лист1!$B$71,5,1) -> 1 | W71: =V71-X71 -> -2 | X71: =MID(Лист1!$B$71,6,1) -> 3 | Y71: =IF((LEN($BB11)=0),"0",IF(AND(V71=$BB11,X71=$BD11),"5",IF(AND(W71=$BB11-$BD11,W71=0),"3",IF(AND(W71=$BB11-$BD11,OR(W71>0,W71<0)),"3",IF(AND(W71>0,$BB11-$BD11>0),"2",IF(AND(W71<0,$BB11-$BD11<0),"2","0")))))) -> 0 | Z71: =MID(Лист1!$B$65,5,1) -> 1 | AA71: =Z71-AB71 -> -2 | AB71: =MID(Лист1!$B$65,6,1) -> 3 | AC71: =IF((LEN($BB11)=0),"0",IF(AND(Z71=$BB11,AB71=$BD11),"5",IF(AND(AA71=$BB11-$BD11,AA71=0),"3",IF(AND(AA71=$BB11-$BD11,OR(AA71>0,AA71<0)),"3",IF(AND(AA71>0,$BB11-$BD11>0),"2",IF(AND(AA71<0,$BB11-$BD11<0),"2","0")))))) -> 0 | AD71: =MID(Лист1!$B$72,5,1) -> 1 | AE71: =AD71-AF71 -> -2 | AF71: =MID(Лист1!$B$72,6,1) -> 3 | AG71: =IF((LEN($BB11)=0),"0",IF(AND(AD71=$BB11,AF71=$BD11),"5",IF(AND(AE71=$BB11-$BD11,AE71=0),"3",IF(AND(AE71=$BB11-$BD11,OR(AE71>0,AE71<0)),"3",IF(AND(AE71>0,$BB11-$BD11>0),"2",IF(AND(AE71<0,$BB11-$BD11<0),"2","0")))))) -> 0 | AH71: =MID(Лист1!$B$66,5,1) -> 1 | AI71: =AH71-AJ71 -> -2 | AJ71: =MID(Лист1!$B$66,6,1) -> 3 | AK71: =IF((LEN($BB11)=0),"0",IF(AND(AH71=$BB11,AJ71=$BD11),"5",IF(AND(AI71=$BB11-$BD11,AI71=0),"3",IF(AND(AI71=$BB11-$BD11,OR(AI71>0,AI71<0)),"3",IF(AND(AI71>0,$BB11-$BD11>0),"2",IF(AND(AI71<0,$BB11-$BD11<0),"2","0")))))) -> 0 | AL71: =MID(Лист1!$B$73,5,1) -> 1 | AM71: =AL71-AN71 -> -2 | AN71: =MID(Лист1!$B$73,6,1) -> 3 | AO71: =IF((LEN($BB11)=0),"0",IF(AND(AL71=$BB11,AN71=$BD11),"5",IF(AND(AM71=$BB11-$BD11,AM71=0),"3",IF(AND(AM71=$BB11-$BD11,OR(AM71>0,AM71<0)),"3",IF(AND(AM71>0,$BB11-$BD11>0),"2",IF(AND(AM71<0,$BB11-$BD11<0),"2","0")))))) -> 0 | AP71: =MID(Лист1!$B$67,5,1) -> 1 | AQ71: =AP71-AR71 -> -2 | AR71: =MID(Лист1!$B$67,6,1) -> 3 | AS71: =IF((LEN($BB11)=0),"0",IF(AND(AP71=$BB11,AR71=$BD11),"5",IF(AND(AQ71=$BB11-$BD11,AQ71=0),"3",IF(AND(AQ71=$BB11-$BD11,OR(AQ71>0,AQ71<0)),"3",IF(AND(AQ71>0,$BB11-$BD11>0),"2",IF(AND(AQ71<0,$BB11-$BD11<0),"2","0")))))) -> 0 | AT71: =MID(Лист1!$B$74,5,1) -> 1 | AU71: =AT71-AV71 -> -2 | AV71: =MID(Лист1!$B$74,6,1) -> 3 | AW71: =IF((LEN($BB11)=0),"0",IF(AND(AT71=$BB11,AV71=$BD11),"5",IF(AND(AU71=$BB11-$BD11,AU71=0),"3",IF(AND(AU71=$BB11-$BD11,OR(AU71>0,AU71<0)),"3",IF(AND(AU71>0,$BB11-$BD11>0),"2",IF(AND(AU71<0,$BB11-$BD11<0),"2","0")))))) -> 0 | AX71: =AX51 -> Ростов - Спартак | BB71: =BB51 -> 2 | BC71: =BB71-BD71 -> 2 | BD71: =BD51 -> 0
B72: =MID(Лист1!$B$62,7,1) -> 1 | C72: =B72-D72 -> 1 | D72: =MID(Лист1!$B$62,8,1) -> 0 | E72: =IF((LEN($BB12)=0),"0",IF(AND(B72=$BB12,D72=$BD12),"5",IF(AND(C72=$BB12-$BD12,C72=0),"3",IF(AND(C72=$BB12-$BD12,OR(C72>0,C72<0)),"3",IF(AND(C72>0,$BB12-$BD12>0),"2",IF(AND(C72<0,$BB12-$BD12<0),"2","0")))))) -> 0 | F72: =MID(Лист1!$B$69,7,1) -> 1 | G72: =F72-H72 -> 1 | H72: =MID(Лист1!$B$69,8,1) -> 0 | I72: =IF((LEN($BB12)=0),"0",IF(AND(F72=$BB12,H72=$BD12),"5",IF(AND(G72=$BB12-$BD12,G72=0),"3",IF(AND(G72=$BB12-$BD12,OR(G72>0,G72<0)),"3",IF(AND(G72>0,$BB12-$BD12>0),"2",IF(AND(G72<0,$BB12-$BD12<0),"2","0")))))) -> 0 | J72: =MID(Лист1!$B$63,7,1) -> 1 | K72: =J72-L72 -> 1 | L72: =MID(Лист1!$B$63,8,1) -> 0 | M72: =IF((LEN($BB12)=0),"0",IF(AND(J72=$BB12,L72=$BD12),"5",IF(AND(K72=$BB12-$BD12,K72=0),"3",IF(AND(K72=$BB12-$BD12,OR(K72>0,K72<0)),"3",IF(AND(K72>0,$BB12-$BD12>0),"2",IF(AND(K72<0,$BB12-$BD12<0),"2","0")))))) -> 0 | N72: =MID(Лист1!$B$70,7,1) -> 1 | O72: =N72-P72 -> 1 | P72: =MID(Лист1!$B$70,8,1) -> 0 | Q72: =IF((LEN($BB12)=0),"0",IF(AND(N72=$BB12,P72=$BD12),"5",IF(AND(O72=$BB12-$BD12,O72=0),"3",IF(AND(O72=$BB12-$BD12,OR(O72>0,O72<0)),"3",IF(AND(O72>0,$BB12-$BD12>0),"2",IF(AND(O72<0,$BB12-$BD12<0),"2","0")))))) -> 0 | R72: =MID(Лист1!$B$64,7,1) -> 1 | S72: =R72-T72 -> 1 | T72: =MID(Лист1!$B$64,8,1) -> 0 | U72: =IF((LEN($BB12)=0),"0",IF(AND(R72=$BB12,T72=$BD12),"5",IF(AND(S72=$BB12-$BD12,S72=0),"3",IF(AND(S72=$BB12-$BD12,OR(S72>0,S72<0)),"3",IF(AND(S72>0,$BB12-$BD12>0),"2",IF(AND(S72<0,$BB12-$BD12<0),"2","0")))))) -> 0 | V72: =MID(Лист1!$B$71,7,1) -> 1 | W72: =V72-X72 -> 1 | X72: =MID(Лист1!$B$71,8,1) -> 0 | Y72: =IF((LEN($BB12)=0),"0",IF(AND(V72=$BB12,X72=$BD12),"5",IF(AND(W72=$BB12-$BD12,W72=0),"3",IF(AND(W72=$BB12-$BD12,OR(W72>0,W72<0)),"3",IF(AND(W72>0,$BB12-$BD12>0),"2",IF(AND(W72<0,$BB12-$BD12<0),"2","0")))))) -> 0 | Z72: =MID(Лист1!$B$65,7,1) -> 1 | AA72: =Z72-AB72 -> 1 | AB72: =MID(Лист1!$B$65,8,1) -> 0 | AC72: =IF((LEN($BB12)=0),"0",IF(AND(Z72=$BB12,AB72=$BD12),"5",IF(AND(AA72=$BB12-$BD12,AA72=0),"3",IF(AND(AA72=$BB12-$BD12,OR(AA72>0,AA72<0)),"3",IF(AND(AA72>0,$BB12-$BD12>0),"2",IF(AND(AA72<0,$BB12-$BD12<0),"2","0")))))) -> 0 | AD72: =MID(Лист1!$B$72,7,1) -> 1 | AE72: =AD72-AF72 -> 1 | AF72: =MID(Лист1!$B$72,8,1) -> 0 | AG72: =IF((LEN($BB12)=0),"0",IF(AND(AD72=$BB12,AF72=$BD12),"5",IF(AND(AE72=$BB12-$BD12,AE72=0),"3",IF(AND(AE72=$BB12-$BD12,OR(AE72>0,AE72<0)),"3",IF(AND(AE72>0,$BB12-$BD12>0),"2",IF(AND(AE72<0,$BB12-$BD12<0),"2","0")))))) -> 0 | AH72: =MID(Лист1!$B$66,7,1) -> 1 | AI72: =AH72-AJ72 -> 1 | AJ72: =MID(Лист1!$B$66,8,1) -> 0 | AK72: =IF((LEN($BB12)=0),"0",IF(AND(AH72=$BB12,AJ72=$BD12),"5",IF(AND(AI72=$BB12-$BD12,AI72=0),"3",IF(AND(AI72=$BB12-$BD12,OR(AI72>0,AI72<0)),"3",IF(AND(AI72>0,$BB12-$BD12>0),"2",IF(AND(AI72<0,$BB12-$BD12<0),"2","0")))))) -> 0 | AL72: =MID(Лист1!$B$73,7,1) -> 1 | AM72: =AL72-AN72 -> 1 | AN72: =MID(Лист1!$B$73,8,1) -> 0 | AO72: =IF((LEN($BB12)=0),"0",IF(AND(AL72=$BB12,AN72=$BD12),"5",IF(AND(AM72=$BB12-$BD12,AM72=0),"3",IF(AND(AM72=$BB12-$BD12,OR(AM72>0,AM72<0)),"3",IF(AND(AM72>0,$BB12-$BD12>0),"2",IF(AND(AM72<0,$BB12-$BD12<0),"2","0")))))) -> 0 | AP72: =MID(Лист1!$B$67,7,1) -> 1 | AQ72: =AP72-AR72 -> 1 | AR72: =MID(Лист1!$B$67,8,1) -> 0 | AS72: =IF((LEN($BB12)=0),"0",IF(AND(AP72=$BB12,AR72=$BD12),"5",IF(AND(AQ72=$BB12-$BD12,AQ72=0),"3",IF(AND(AQ72=$BB12-$BD12,OR(AQ72>0,AQ72<0)),"3",IF(AND(AQ72>0,$BB12-$BD12>0),"2",IF(AND(AQ72<0,$BB12-$BD12<0),"2","0")))))) -> 0 | AT72: =MID(Лист1!$B$74,7,1) -> 1 | AU72: =AT72-AV72 -> 1 | AV72: =MID(Лист1!$B$74,8,1) -> 0 | AW72: =IF((LEN($BB12)=0),"0",IF(AND(AT72=$BB12,AV72=$BD12),"5",IF(AND(AU72=$BB12-$BD12,AU72=0),"3",IF(AND(AU72=$BB12-$BD12,OR(AU72>0,AU72<0)),"3",IF(AND(AU72>0,$BB12-$BD12>0),"2",IF(AND(AU72<0,$BB12-$BD12<0),"2","0")))))) -> 0 | AX72: =AX52 -> Барселона - Реал | BB72: =BB52 | BC72: =BB72-BD72 -> #VALUE! | BD72: =BD52
B73: =MID(Лист1!$B$62,9,1) -> 1 | C73: =B73-D73 -> 1 | D73: =MID(Лист1!$B$62,10,1) -> 0 | E73: =IF((LEN($BB13)=0),"0",IF(AND(B73=$BB13,D73=$BD13),"5",IF(AND(C73=$BB13-$BD13,C73=0),"3",IF(AND(C73=$BB13-$BD13,OR(C73>0,C73<0)),"3",IF(AND(C73>0,$BB13-$BD13>0),"2",IF(AND(C73<0,$BB13-$BD13<0),"2","0")))))) -> 0 | F73: =MID(Лист1!$B$69,9,1) -> 1 | G73: =F73-H73 -> 1 | H73: =MID(Лист1!$B$69,10,1) -> 0 | I73: =IF((LEN($BB13)=0),"0",IF(AND(F73=$BB13,H73=$BD13),"5",IF(AND(G73=$BB13-$BD13,G73=0),"3",IF(AND(G73=$BB13-$BD13,OR(G73>0,G73<0)),"3",IF(AND(G73>0,$BB13-$BD13>0),"2",IF(AND(G73<0,$BB13-$BD13<0),"2","0")))))) -> 0 | J73: =MID(Лист1!$B$63,9,1) -> 1 | K73: =J73-L73 -> 1 | L73: =MID(Лист1!$B$63,10,1) -> 0 | M73: =IF((LEN($BB13)=0),"0",IF(AND(J73=$BB13,L73=$BD13),"5",IF(AND(K73=$BB13-$BD13,K73=0),"3",IF(AND(K73=$BB13-$BD13,OR(K73>0,K73<0)),"3",IF(AND(K73>0,$BB13-$BD13>0),"2",IF(AND(K73<0,$BB13-$BD13<0),"2","0")))))) -> 0 | N73: =MID(Лист1!$B$70,9,1) -> 1 | O73: =N73-P73 -> 1 | P73: =MID(Лист1!$B$70,10,1) -> 0 | Q73: =IF((LEN($BB13)=0),"0",IF(AND(N73=$BB13,P73=$BD13),"5",IF(AND(O73=$BB13-$BD13,O73=0),"3",IF(AND(O73=$BB13-$BD13,OR(O73>0,O73<0)),"3",IF(AND(O73>0,$BB13-$BD13>0),"2",IF(AND(O73<0,$BB13-$BD13<0),"2","0")))))) -> 0 | R73: =MID(Лист1!$B$64,9,1) -> 1 | S73: =R73-T73 -> 1 | T73: =MID(Лист1!$B$64,10,1) -> 0 | U73: =IF((LEN($BB13)=0),"0",IF(AND(R73=$BB13,T73=$BD13),"5",IF(AND(S73=$BB13-$BD13,S73=0),"3",IF(AND(S73=$BB13-$BD13,OR(S73>0,S73<0)),"3",IF(AND(S73>0,$BB13-$BD13>0),"2",IF(AND(S73<0,$BB13-$BD13<0),"2","0")))))) -> 0 | V73: =MID(Лист1!$B$71,9,1) -> 1 | W73: =V73-X73 -> 1 | X73: =MID(Лист1!$B$71,10,1) -> 0 | Y73: =IF((LEN($BB13)=0),"0",IF(AND(V73=$BB13,X73=$BD13),"5",IF(AND(W73=$BB13-$BD13,W73=0),"3",IF(AND(W73=$BB13-$BD13,OR(W73>0,W73<0)),"3",IF(AND(W73>0,$BB13-$BD13>0),"2",IF(AND(W73<0,$BB13-$BD13<0),"2","0")))))) -> 0 | Z73: =MID(Лист1!$B$65,9,1) -> 1 | AA73: =Z73-AB73 -> 1 | AB73: =MID(Лист1!$B$65,10,1) -> 0 | AC73: =IF((LEN($BB13)=0),"0",IF(AND(Z73=$BB13,AB73=$BD13),"5",IF(AND(AA73=$BB13-$BD13,AA73=0),"3",IF(AND(AA73=$BB13-$BD13,OR(AA73>0,AA73<0)),"3",IF(AND(AA73>0,$BB13-$BD13>0),"2",IF(AND(AA73<0,$BB13-$BD13<0),"2","0")))))) -> 0 | AD73: =MID(Лист1!$B$72,9,1) -> 1 | AE73: =AD73-AF73 -> 1 | AF73: =MID(Лист1!$B$72,10,1) -> 0 | AG73: =IF((LEN($BB13)=0),"0",IF(AND(AD73=$BB13,AF73=$BD13),"5",IF(AND(AE73=$BB13-$BD13,AE73=0),"3",IF(AND(AE73=$BB13-$BD13,OR(AE73>0,AE73<0)),"3",IF(AND(AE73>0,$BB13-$BD13>0),"2",IF(AND(AE73<0,$BB13-$BD13<0),"2","0")))))) -> 0 | AH73: =MID(Лист1!$B$66,9,1) -> 1 | AI73: =AH73-AJ73 -> 1 | AJ73: =MID(Лист1!$B$66,10,1) -> 0 | AK73: =IF((LEN($BB13)=0),"0",IF(AND(AH73=$BB13,AJ73=$BD13),"5",IF(AND(AI73=$BB13-$BD13,AI73=0),"3",IF(AND(AI73=$BB13-$BD13,OR(AI73>0,AI73<0)),"3",IF(AND(AI73>0,$BB13-$BD13>0),"2",IF(AND(AI73<0,$BB13-$BD13<0),"2","0")))))) -> 0 | AL73: =MID(Лист1!$B$73,9,1) -> 1 | AM73: =AL73-AN73 -> 1 | AN73: =MID(Лист1!$B$73,10,1) -> 0 | AO73: =IF((LEN($BB13)=0),"0",IF(AND(AL73=$BB13,AN73=$BD13),"5",IF(AND(AM73=$BB13-$BD13,AM73=0),"3",IF(AND(AM73=$BB13-$BD13,OR(AM73>0,AM73<0)),"3",IF(AND(AM73>0,$BB13-$BD13>0),"2",IF(AND(AM73<0,$BB13-$BD13<0),"2","0")))))) -> 0 | AP73: =MID(Лист1!$B$67,9,1) -> 1 | AQ73: =AP73-AR73 -> 1 | AR73: =MID(Лист1!$B$67,10,1) -> 0 | AS73: =IF((LEN($BB13)=0),"0",IF(AND(AP73=$BB13,AR73=$BD13),"5",IF(AND(AQ73=$BB13-$BD13,AQ73=0),"3",IF(AND(AQ73=$BB13-$BD13,OR(AQ73>0,AQ73<0)),"3",IF(AND(AQ73>0,$BB13-$BD13>0),"2",IF(AND(AQ73<0,$BB13-$BD13<0),"2","0")))))) -> 0 | AT73: =MID(Лист1!$B$74,9,1) -> 1 | AU73: =AT73-AV73 -> 1 | AV73: =MID(Лист1!$B$74,10,1) -> 0 | AW73: =IF((LEN($BB13)=0),"0",IF(AND(AT73=$BB13,AV73=$BD13),"5",IF(AND(AU73=$BB13-$BD13,AU73=0),"3",IF(AND(AU73=$BB13-$BD13,OR(AU73>0,AU73<0)),"3",IF(AND(AU73>0,$BB13-$BD13>0),"2",IF(AND(AU73<0,$BB13-$BD13<0),"2","0")))))) -> 0 | AX73: =AX53 -> Лацио - Рома | BB73: =BB53 | BC73: =BB73-BD73 -> #VALUE! | BD73: =BD53
B74: =MID(Лист1!$B$62,11,1) -> 1 | C74: =B74-D74 -> 0 | D74: =MID(Лист1!$B$62,12,1) -> 1 | E74: =IF((LEN($BB14)=0),"0",IF(AND(B74=$BB14,D74=$BD14),"5",IF(AND(C74=$BB14-$BD14,C74=0),"3",IF(AND(C74=$BB14-$BD14,OR(C74>0,C74<0)),"3",IF(AND(C74>0,$BB14-$BD14>0),"2",IF(AND(C74<0,$BB14-$BD14<0),"2","0")))))) -> 0 | F74: =MID(Лист1!$B$69,11,1) -> 1 | G74: =F74-H74 -> 0 | H74: =MID(Лист1!$B$69,12,1) -> 1 | I74: =IF((LEN($BB14)=0),"0",IF(AND(F74=$BB14,H74=$BD14),"5",IF(AND(G74=$BB14-$BD14,G74=0),"3",IF(AND(G74=$BB14-$BD14,OR(G74>0,G74<0)),"3",IF(AND(G74>0,$BB14-$BD14>0),"2",IF(AND(G74<0,$BB14-$BD14<0),"2","0")))))) -> 0 | J74: =MID(Лист1!$B$63,11,1) -> 1 | K74: =J74-L74 -> 0 | L74: =MID(Лист1!$B$63,12,1) -> 1 | M74: =IF((LEN($BB14)=0),"0",IF(AND(J74=$BB14,L74=$BD14),"5",IF(AND(K74=$BB14-$BD14,K74=0),"3",IF(AND(K74=$BB14-$BD14,OR(K74>0,K74<0)),"3",IF(AND(K74>0,$BB14-$BD14>0),"2",IF(AND(K74<0,$BB14-$BD14<0),"2","0")))))) -> 0 | N74: =MID(Лист1!$B$70,11,1) -> 1 | O74: =N74-P74 -> 0 | P74: =MID(Лист1!$B$70,12,1) -> 1 | Q74: =IF((LEN($BB14)=0),"0",IF(AND(N74=$BB14,P74=$BD14),"5",IF(AND(O74=$BB14-$BD14,O74=0),"3",IF(AND(O74=$BB14-$BD14,OR(O74>0,O74<0)),"3",IF(AND(O74>0,$BB14-$BD14>0),"2",IF(AND(O74<0,$BB14-$BD14<0),"2","0")))))) -> 0 | R74: =MID(Лист1!$B$64,11,1) -> 1 | S74: =R74-T74 -> 0 | T74: =MID(Лист1!$B$64,12,1) -> 1 | U74: =IF((LEN($BB14)=0),"0",IF(AND(R74=$BB14,T74=$BD14),"5",IF(AND(S74=$BB14-$BD14,S74=0),"3",IF(AND(S74=$BB14-$BD14,OR(S74>0,S74<0)),"3",IF(AND(S74>0,$BB14-$BD14>0),"2",IF(AND(S74<0,$BB14-$BD14<0),"2","0")))))) -> 0 | V74: =MID(Лист1!$B$71,11,1) -> 1 | W74: =V74-X74 -> 0 | X74: =MID(Лист1!$B$71,12,1) -> 1 | Y74: =IF((LEN($BB14)=0),"0",IF(AND(V74=$BB14,X74=$BD14),"5",IF(AND(W74=$BB14-$BD14,W74=0),"3",IF(AND(W74=$BB14-$BD14,OR(W74>0,W74<0)),"3",IF(AND(W74>0,$BB14-$BD14>0),"2",IF(AND(W74<0,$BB14-$BD14<0),"2","0")))))) -> 0 | Z74: =MID(Лист1!$B$65,11,1) -> 1 | AA74: =Z74-AB74 -> 0 | AB74: =MID(Лист1!$B$65,12,1) -> 1 | AC74: =IF((LEN($BB14)=0),"0",IF(AND(Z74=$BB14,AB74=$BD14),"5",IF(AND(AA74=$BB14-$BD14,AA74=0),"3",IF(AND(AA74=$BB14-$BD14,OR(AA74>0,AA74<0)),"3",IF(AND(AA74>0,$BB14-$BD14>0),"2",IF(AND(AA74<0,$BB14-$BD14<0),"2","0")))))) -> 0 | AD74: =MID(Лист1!$B$72,11,1) -> 1 | AE74: =AD74-AF74 -> 0 | AF74: =MID(Лист1!$B$72,12,1) -> 1 | AG74: =IF((LEN($BB14)=0),"0",IF(AND(AD74=$BB14,AF74=$BD14),"5",IF(AND(AE74=$BB14-$BD14,AE74=0),"3",IF(AND(AE74=$BB14-$BD14,OR(AE74>0,AE74<0)),"3",IF(AND(AE74>0,$BB14-$BD14>0),"2",IF(AND(AE74<0,$BB14-$BD14<0),"2","0")))))) -> 0 | AH74: =MID(Лист1!$B$66,11,1) -> 1 | AI74: =AH74-AJ74 -> 0 | AJ74: =MID(Лист1!$B$66,12,1) -> 1 | AK74: =IF((LEN($BB14)=0),"0",IF(AND(AH74=$BB14,AJ74=$BD14),"5",IF(AND(AI74=$BB14-$BD14,AI74=0),"3",IF(AND(AI74=$BB14-$BD14,OR(AI74>0,AI74<0)),"3",IF(AND(AI74>0,$BB14-$BD14>0),"2",IF(AND(AI74<0,$BB14-$BD14<0),"2","0")))))) -> 0 | AL74: =MID(Лист1!$B$73,11,1) -> 1 | AM74: =AL74-AN74 -> 0 | AN74: =MID(Лист1!$B$73,12,1) -> 1 | AO74: =IF((LEN($BB14)=0),"0",IF(AND(AL74=$BB14,AN74=$BD14),"5",IF(AND(AM74=$BB14-$BD14,AM74=0),"3",IF(AND(AM74=$BB14-$BD14,OR(AM74>0,AM74<0)),"3",IF(AND(AM74>0,$BB14-$BD14>0),"2",IF(AND(AM74<0,$BB14-$BD14<0),"2","0")))))) -> 0 | AP74: =MID(Лист1!$B$67,11,1) -> 1 | AQ74: =AP74-AR74 -> 0 | AR74: =MID(Лист1!$B$67,12,1) -> 1 | AS74: =IF((LEN($BB14)=0),"0",IF(AND(AP74=$BB14,AR74=$BD14),"5",IF(AND(AQ74=$BB14-$BD14,AQ74=0),"3",IF(AND(AQ74=$BB14-$BD14,OR(AQ74>0,AQ74<0)),"3",IF(AND(AQ74>0,$BB14-$BD14>0),"2",IF(AND(AQ74<0,$BB14-$BD14<0),"2","0")))))) -> 0 | AT74: =MID(Лист1!$B$74,11,1) -> 1 | AU74: =AT74-AV74 -> 0 | AV74: =MID(Лист1!$B$74,12,1) -> 1 | AW74: =IF((LEN($BB14)=0),"0",IF(AND(AT74=$BB14,AV74=$BD14),"5",IF(AND(AU74=$BB14-$BD14,AU74=0),"3",IF(AND(AU74=$BB14-$BD14,OR(AU74>0,AU74<0)),"3",IF(AND(AU74>0,$BB14-$BD14>0),"2",IF(AND(AU74<0,$BB14-$BD14<0),"2","0")))))) -> 0 | AX74: =AX54 -> Боруссия М - Герта | BB74: =BB54 | BC74: =BB74-BD74 -> #VALUE! | BD74: =BD54
B75: =MID(Лист1!$B$62,13,1) -> 2 | C75: =B75-D75 -> 0 | D75: =MID(Лист1!$B$62,14,1) -> 2 | E75: =IF((LEN($BB15)=0),"0",IF(AND(B75=$BB15,D75=$BD15),"5",IF(AND(C75=$BB15-$BD15,C75=0),"3",IF(AND(C75=$BB15-$BD15,OR(C75>0,C75<0)),"3",IF(AND(C75>0,$BB15-$BD15>0),"2",IF(AND(C75<0,$BB15-$BD15<0),"2","0")))))) -> 0 | F75: =MID(Лист1!$B$69,13,1) -> 2 | G75: =F75-H75 -> 0 | H75: =MID(Лист1!$B$69,14,1) -> 2 | I75: =IF((LEN($BB15)=0),"0",IF(AND(F75=$BB15,H75=$BD15),"5",IF(AND(G75=$BB15-$BD15,G75=0),"3",IF(AND(G75=$BB15-$BD15,OR(G75>0,G75<0)),"3",IF(AND(G75>0,$BB15-$BD15>0),"2",IF(AND(G75<0,$BB15-$BD15<0),"2","0")))))) -> 0 | J75: =MID(Лист1!$B$63,13,1) -> 2 | K75: =J75-L75 -> 0 | L75: =MID(Лист1!$B$63,14,1) -> 2 | M75: =IF((LEN($BB15)=0),"0",IF(AND(J75=$BB15,L75=$BD15),"5",IF(AND(K75=$BB15-$BD15,K75=0),"3",IF(AND(K75=$BB15-$BD15,OR(K75>0,K75<0)),"3",IF(AND(K75>0,$BB15-$BD15>0),"2",IF(AND(K75<0,$BB15-$BD15<0),"2","0")))))) -> 0 | N75: =MID(Лист1!$B$70,13,1) -> 2 | O75: =N75-P75 -> 0 | P75: =MID(Лист1!$B$70,14,1) -> 2 | Q75: =IF((LEN($BB15)=0),"0",IF(AND(N75=$BB15,P75=$BD15),"5",IF(AND(O75=$BB15-$BD15,O75=0),"3",IF(AND(O75=$BB15-$BD15,OR(O75>0,O75<0)),"3",IF(AND(O75>0,$BB15-$BD15>0),"2",IF(AND(O75<0,$BB15-$BD15<0),"2","0")))))) -> 0 | R75: =MID(Лист1!$B$64,13,1) -> 2 | S75: =R75-T75 -> 0 | T75: =MID(Лист1!$B$64,14,1) -> 2 | U75: =IF((LEN($BB15)=0),"0",IF(AND(R75=$BB15,T75=$BD15),"5",IF(AND(S75=$BB15-$BD15,S75=0),"3",IF(AND(S75=$BB15-$BD15,OR(S75>0,S75<0)),"3",IF(AND(S75>0,$BB15-$BD15>0),"2",IF(AND(S75<0,$BB15-$BD15<0),"2","0")))))) -> 0 | V75: =MID(Лист1!$B$71,13,1) -> 2 | W75: =V75-X75 -> 0 | X75: =MID(Лист1!$B$71,14,1) -> 2 | Y75: =IF((LEN($BB15)=0),"0",IF(AND(V75=$BB15,X75=$BD15),"5",IF(AND(W75=$BB15-$BD15,W75=0),"3",IF(AND(W75=$BB15-$BD15,OR(W75>0,W75<0)),"3",IF(AND(W75>0,$BB15-$BD15>0),"2",IF(AND(W75<0,$BB15-$BD15<0),"2","0")))))) -> 0 | Z75: =MID(Лист1!$B$65,13,1) -> 2 | AA75: =Z75-AB75 -> 0 | AB75: =MID(Лист1!$B$65,14,1) -> 2 | AC75: =IF((LEN($BB15)=0),"0",IF(AND(Z75=$BB15,AB75=$BD15),"5",IF(AND(AA75=$BB15-$BD15,AA75=0),"3",IF(AND(AA75=$BB15-$BD15,OR(AA75>0,AA75<0)),"3",IF(AND(AA75>0,$BB15-$BD15>0),"2",IF(AND(AA75<0,$BB15-$BD15<0),"2","0")))))) -> 0 | AD75: =MID(Лист1!$B$72,13,1) -> 2 | AE75: =AD75-AF75 -> 0 | AF75: =MID(Лист1!$B$72,14,1) -> 2 | AG75: =IF((LEN($BB15)=0),"0",IF(AND(AD75=$BB15,AF75=$BD15),"5",IF(AND(AE75=$BB15-$BD15,AE75=0),"3",IF(AND(AE75=$BB15-$BD15,OR(AE75>0,AE75<0)),"3",IF(AND(AE75>0,$BB15-$BD15>0),"2",IF(AND(AE75<0,$BB15-$BD15<0),"2","0")))))) -> 0 | AH75: =MID(Лист1!$B$66,13,1) -> 2 | AI75: =AH75-AJ75 -> 0 | AJ75: =MID(Лист1!$B$66,14,1) -> 2 | AK75: =IF((LEN($BB15)=0),"0",IF(AND(AH75=$BB15,AJ75=$BD15),"5",IF(AND(AI75=$BB15-$BD15,AI75=0),"3",IF(AND(AI75=$BB15-$BD15,OR(AI75>0,AI75<0)),"3",IF(AND(AI75>0,$BB15-$BD15>0),"2",IF(AND(AI75<0,$BB15-$BD15<0),"2","0")))))) -> 0 | AL75: =MID(Лист1!$B$73,13,1) -> 2 | AM75: =AL75-AN75 -> 0 | AN75: =MID(Лист1!$B$73,14,1) -> 2 | AO75: =IF((LEN($BB15)=0),"0",IF(AND(AL75=$BB15,AN75=$BD15),"5",IF(AND(AM75=$BB15-$BD15,AM75=0),"3",IF(AND(AM75=$BB15-$BD15,OR(AM75>0,AM75<0)),"3",IF(AND(AM75>0,$BB15-$BD15>0),"2",IF(AND(AM75<0,$BB15-$BD15<0),"2","0")))))) -> 0 | AP75: =MID(Лист1!$B$67,13,1) -> 2 | AQ75: =AP75-AR75 -> 0 | AR75: =MID(Лист1!$B$67,14,1) -> 2 | AS75: =IF((LEN($BB15)=0),"0",IF(AND(AP75=$BB15,AR75=$BD15),"5",IF(AND(AQ75=$BB15-$BD15,AQ75=0),"3",IF(AND(AQ75=$BB15-$BD15,OR(AQ75>0,AQ75<0)),"3",IF(AND(AQ75>0,$BB15-$BD15>0),"2",IF(AND(AQ75<0,$BB15-$BD15<0),"2","0")))))) -> 0 | AT75: =MID(Лист1!$B$74,13,1) -> 2 | AU75: =AT75-AV75 -> 0 | AV75: =MID(Лист1!$B$74,14,1) -> 2 | AW75: =IF((LEN($BB15)=0),"0",IF(AND(AT75=$BB15,AV75=$BD15),"5",IF(AND(AU75=$BB15-$BD15,AU75=0),"3",IF(AND(AU75=$BB15-$BD15,OR(AU75>0,AU75<0)),"3",IF(AND(AU75>0,$BB15-$BD15>0),"2",IF(AND(AU75<0,$BB15-$BD15<0),"2","0")))))) -> 0 | AX75: =AX55 -> Бастия - Марсель | BB75: =BB55 | BC75: =BB75-BD75 -> #VALUE! | BD75: =BD55
B76: =MID(Лист1!$B$62,15,1) -> 1 | C76: =B76-D76 -> 1 | D76: =MID(Лист1!$B$62,16,1) -> 0 | E76: =IF((LEN($BB16)=0),"0",IF(AND(B76=$BB16,D76=$BD16),"5",IF(AND(C76=$BB16-$BD16,C76=0),"3",IF(AND(C76=$BB16-$BD16,OR(C76>0,C76<0)),"3",IF(AND(C76>0,$BB16-$BD16>0),"2",IF(AND(C76<0,$BB16-$BD16<0),"2","0")))))) -> 0 | F76: =MID(Лист1!$B$69,15,1) -> 1 | G76: =F76-H76 -> 1 | H76: =MID(Лист1!$B$69,16,1) -> 0 | I76: =IF((LEN($BB16)=0),"0",IF(AND(F76=$BB16,H76=$BD16),"5",IF(AND(G76=$BB16-$BD16,G76=0),"3",IF(AND(G76=$BB16-$BD16,OR(G76>0,G76<0)),"3",IF(AND(G76>0,$BB16-$BD16>0),"2",IF(AND(G76<0,$BB16-$BD16<0),"2","0")))))) -> 0 | J76: =MID(Лист1!$B$63,15,1) -> 1 | K76: =J76-L76 -> 1 | L76: =MID(Лист1!$B$63,16,1) -> 0 | M76: =IF((LEN($BB16)=0),"0",IF(AND(J76=$BB16,L76=$BD16),"5",IF(AND(K76=$BB16-$BD16,K76=0),"3",IF(AND(K76=$BB16-$BD16,OR(K76>0,K76<0)),"3",IF(AND(K76>0,$BB16-$BD16>0),"2",IF(AND(K76<0,$BB16-$BD16<0),"2","0")))))) -> 0 | N76: =MID(Лист1!$B$70,15,1) -> 1 | O76: =N76-P76 -> 1 | P76: =MID(Лист1!$B$70,16,1) -> 0 | Q76: =IF((LEN($BB16)=0),"0",IF(AND(N76=$BB16,P76=$BD16),"5",IF(AND(O76=$BB16-$BD16,O76=0),"3",IF(AND(O76=$BB16-$BD16,OR(O76>0,O76<0)),"3",IF(AND(O76>0,$BB16-$BD16>0),"2",IF(AND(O76<0,$BB16-$BD16<0),"2","0")))))) -> 0 | R76: =MID(Лист1!$B$64,15,1) -> 1 | S76: =R76-T76 -> 1 | T76: =MID(Лист1!$B$64,16,1) -> 0 | U76: =IF((LEN($BB16)=0),"0",IF(AND(R76=$BB16,T76=$BD16),"5",IF(AND(S76=$BB16-$BD16,S76=0),"3",IF(AND(S76=$BB16-$BD16,OR(S76>0,S76<0)),"3",IF(AND(S76>0,$BB16-$BD16>0),"2",IF(AND(S76<0,$BB16-$BD16<0),"2","0")))))) -> 0 | V76: =MID(Лист1!$B$71,15,1) -> 1 | W76: =V76-X76 -> 1 | X76: =MID(Лист1!$B$71,16,1) -> 0 | Y76: =IF((LEN($BB16)=0),"0",IF(AND(V76=$BB16,X76=$BD16),"5",IF(AND(W76=$BB16-$BD16,W76=0),"3",IF(AND(W76=$BB16-$BD16,OR(W76>0,W76<0)),"3",IF(AND(W76>0,$BB16-$BD16>0),"2",IF(AND(W76<0,$BB16-$BD16<0),"2","0")))))) -> 0 | Z76: =MID(Лист1!$B$65,15,1) -> 1 | AA76: =Z76-AB76 -> 1 | AB76: =MID(Лист1!$B$65,16,1) -> 0 | AC76: =IF((LEN($BB16)=0),"0",IF(AND(Z76=$BB16,AB76=$BD16),"5",IF(AND(AA76=$BB16-$BD16,AA76=0),"3",IF(AND(AA76=$BB16-$BD16,OR(AA76>0,AA76<0)),"3",IF(AND(AA76>0,$BB16-$BD16>0),"2",IF(AND(AA76<0,$BB16-$BD16<0),"2","0")))))) -> 0 | AD76: =MID(Лист1!$B$72,15,1) -> 1 | AE76: =AD76-AF76 -> 1 | AF76: =MID(Лист1!$B$72,16,1) -> 0 | AG76: =IF((LEN($BB16)=0),"0",IF(AND(AD76=$BB16,AF76=$BD16),"5",IF(AND(AE76=$BB16-$BD16,AE76=0),"3",IF(AND(AE76=$BB16-$BD16,OR(AE76>0,AE76<0)),"3",IF(AND(AE76>0,$BB16-$BD16>0),"2",IF(AND(AE76<0,$BB16-$BD16<0),"2","0")))))) -> 0 | AH76: =MID(Лист1!$B$66,15,1) -> 1 | AI76: =AH76-AJ76 -> 1 | AJ76: =MID(Лист1!$B$66,16,1) -> 0 | AK76: =IF((LEN($BB16)=0),"0",IF(AND(AH76=$BB16,AJ76=$BD16),"5",IF(AND(AI76=$BB16-$BD16,AI76=0),"3",IF(AND(AI76=$BB16-$BD16,OR(AI76>0,AI76<0)),"3",IF(AND(AI76>0,$BB16-$BD16>0),"2",IF(AND(AI76<0,$BB16-$BD16<0),"2","0")))))) -> 0 | AL76: =MID(Лист1!$B$73,15,1) -> 1 | AM76: =AL76-AN76 -> 1 | AN76: =MID(Лист1!$B$73,16,1) -> 0 | AO76: =IF((LEN($BB16)=0),"0",IF(AND(AL76=$BB16,AN76=$BD16),"5",IF(AND(AM76=$BB16-$BD16,AM76=0),"3",IF(AND(AM76=$BB16-$BD16,OR(AM76>0,AM76<0)),"3",IF(AND(AM76>0,$BB16-$BD16>0),"2",IF(AND(AM76<0,$BB16-$BD16<0),"2","0")))))) -> 0 | AP76: =MID(Лист1!$B$67,15,1) -> 1 | AQ76: =AP76-AR76 -> 1 | AR76: =MID(Лист1!$B$67,16,1) -> 0 | AS76: =IF((LEN($BB16)=0),"0",IF(AND(AP76=$BB16,AR76=$BD16),"5",IF(AND(AQ76=$BB16-$BD16,AQ76=0),"3",IF(AND(AQ76=$BB16-$BD16,OR(AQ76>0,AQ76<0)),"3",IF(AND(AQ76>0,$BB16-$BD16>0),"2",IF(AND(AQ76<0,$BB16-$BD16<0),"2","0")))))) -> 0 | AT76: =MID(Лист1!$B$74,15,1) -> 1 | AU76: =AT76-AV76 -> 1 | AV76: =MID(Лист1!$B$74,16,1) -> 0 | AW76: =IF((LEN($BB16)=0),"0",IF(AND(AT76=$BB16,AV76=$BD16),"5",IF(AND(AU76=$BB16-$BD16,AU76=0),"3",IF(AND(AU76=$BB16-$BD16,OR(AU76>0,AU76<0)),"3",IF(AND(AU76>0,$BB16-$BD16>0),"2",IF(AND(AU76<0,$BB16-$BD16<0),"2","0")))))) -> 0 | AX76: =AX56 -> Зенит - ЦСКА | BB76: =BB56 | BC76: =BB76-BD76 -> #VALUE! | BD76: =BD56
B77: 1 | C77: =B77-D77 -> -1 | D77: 2 | E77: =IF((LEN(BB77)=0),"0",IF(AND(B77=BB77,D77=BD77),"5",IF(AND(C77=BC77,C77=0),"2",IF(AND(C77=BC77,OR(C77>0,C77<0)),"3",IF(AND(C77>0,BC77>0),"2",IF(AND(C77<0,BC77<0),"2","0")))))) -> 0 | F77: 1 | G77: =F77-H77 -> -1 | H77: 2 | I77: =IF((LEN(BB77)=0),"0",IF(AND(F77=BB77,H77=BD77),"5",IF(AND(G77=BC77,G77=0),"2",IF(AND(G77=BC77,OR(G77>0,G77<0)),"3",IF(AND(G77>0,BC77>0),"2",IF(AND(G77<0,BC77<0),"2","0")))))) -> 0 | J77: 1 | K77: =J77-L77 -> 1 | L77: 0 | M77: =IF((LEN(BB77)=0),"0",IF(AND(J77=BB77,L77=BD77),"5",IF(AND(K77=BC77,K77=0),"2",IF(AND(K77=BC77,OR(K77>0,K77<0)),"3",IF(AND(K77>0,BC77>0),"2",IF(AND(K77<0,BC77<0),"2","0")))))) -> 0 | N77: 2 | O77: =N77-P77 -> 0 | P77: 2 | Q77: =IF((LEN(BB77)=0),"0",IF(AND(N77=BB77,P77=BD77),"5",IF(AND(O77=BC77,O77=0),"2",IF(AND(O77=BC77,OR(O77>0,O77<0)),"3",IF(AND(O77>0,BC77>0),"2",IF(AND(O77<0,BC77<0),"2","0")))))) -> 0 | R77: 0 | S77: =R77-T77 -> -1 | T77: 1 | U77: =IF((LEN(BB77)=0),"0",IF(AND(R77=BB77,T77=BD77),"5",IF(AND(S77=BC77,S77=0),"2",IF(AND(S77=BC77,OR(S77>0,S77<0)),"3",IF(AND(S77>0,BC77>0),"2",IF(AND(S77<0,BC77<0),"2","0")))))) -> 0 | V77: 0 | W77: =V77-X77 -> -1 | X77: 1 | Y77: =IF((LEN(BB77)=0),"0",IF(AND(V77=BB77,X77=BD77),"5",IF(AND(W77=BC77,W77=0),"2",IF(AND(W77=BC77,OR(W77>0,W77<0)),"3",IF(AND(W77>0,BC77>0),"2",IF(AND(W77<0,BC77<0),"2","0")))))) -> 0 | Z77: 0 | AA77: =Z77-AB77 -> -1 | AB77: 1 | AC77: =IF((LEN(BB77)=0),"0",IF(AND(Z77=BB77,AB77=BD77),"5",IF(AND(AA77=BC77,AA77=0),"2",IF(AND(AA77=BC77,OR(AA77>0,AA77<0)),"3",IF(AND(AA77>0,BC77>0),"2",IF(AND(AA77<0,BC77<0),"2","0")))))) -> 0 | AD77: 1 | AE77: =AD77-AF77 -> -1 | AF77: 2 | AG77: =IF((LEN(BB77)=0),"0",IF(AND(AD77=BB77,AF77=BD77),"5",IF(AND(AE77=BC77,AE77=0),"2",IF(AND(AE77=BC77,OR(AE77>0,AE77<0)),"3",IF(AND(AE77>0,BC77>0),"2",IF(AND(AE77<0,BC77<0),"2","0")))))) -> 0 | AH77: 1 | AI77: =AH77-AJ77 -> 0 | AJ77: 1 | AK77: =IF((LEN(BB77)=0),"0",IF(AND(AH77=BB77,AJ77=BD77),"5",IF(AND(AI77=BC77,AI77=0),"2",IF(AND(AI77=BC77,OR(AI77>0,AI77<0)),"3",IF(AND(AI77>0,BC77>0),"2",IF(AND(AI77<0,BC77<0),"2","0")))))) -> 0 | AL77: 0 | AM77: =AL77-AN77 -> 0 | AN77: 0 | AO77: =IF((LEN(BB77)=0),"0",IF(AND(AL77=BB77,AN77=BD77),"5",IF(AND(AM77=BC77,AM77=0),"2",IF(AND(AM77=BC77,OR(AM77>0,AM77<0)),"3",IF(AND(AM77>0,BC77>0),"2",IF(AND(AM77<0,BC77<0),"2","0")))))) -> 0 | AP77: 0 | AQ77: =AP77-AR77 -> 0 | AR77: 0 | AS77: =IF((LEN(BB77)=0),"0",IF(AND(AP77=BB77,AR77=BD77),"5",IF(AND(AQ77=BC77,AQ77=0),"2",IF(AND(AQ77=BC77,OR(AQ77>0,AQ77<0)),"3",IF(AND(AQ77>0,BC77>0),"2",IF(AND(AQ77<0,BC77<0),"2","0")))))) -> 0 | AT77: 2 | AU77: =AT77-AV77 -> 1 | AV77: 1 | AW77: =IF((LEN(BB77)=0),"0",IF(AND(AT77=BB77,AV77=BD77),"5",IF(AND(AU77=BC77,AU77=0),"2",IF(AND(AU77=BC77,OR(AU77>0,AU77<0)),"3",IF(AND(AU77>0,BC77>0),"2",IF(AND(AU77<0,BC77<0),"2","0")))))) -> 0 | BC77: =BB77-BD77 -> 0
B78: 1 | C78: =B78-D78 -> 1 | D78: 0 | E78: =IF((LEN(BB78)=0),"0",IF(AND(B78=BB78,D78=BD78),"5",IF(AND(C78=BC78,C78=0),"2",IF(AND(C78=BC78,OR(C78>0,C78<0)),"3",IF(AND(C78>0,BC78>0),"2",IF(AND(C78<0,BC78<0),"2","0")))))) -> 0 | F78: 1 | G78: =F78-H78 -> -1 | H78: 2 | I78: =IF((LEN(BB78)=0),"0",IF(AND(F78=BB78,H78=BD78),"5",IF(AND(G78=BC78,G78=0),"2",IF(AND(G78=BC78,OR(G78>0,G78<0)),"3",IF(AND(G78>0,BC78>0),"2",IF(AND(G78<0,BC78<0),"2","0")))))) -> 0 | J78: 1 | K78: =J78-L78 -> -1 | L78: 2 | M78: =IF((LEN(BB78)=0),"0",IF(AND(J78=BB78,L78=BD78),"5",IF(AND(K78=BC78,K78=0),"2",IF(AND(K78=BC78,OR(K78>0,K78<0)),"3",IF(AND(K78>0,BC78>0),"2",IF(AND(K78<0,BC78<0),"2","0")))))) -> 0 | N78: 1 | O78: =N78-P78 -> -1 | P78: 2 | Q78: =IF((LEN(BB78)=0),"0",IF(AND(N78=BB78,P78=BD78),"5",IF(AND(O78=BC78,O78=0),"2",IF(AND(O78=BC78,OR(O78>0,O78<0)),"3",IF(AND(O78>0,BC78>0),"2",IF(AND(O78<0,BC78<0),"2","0")))))) -> 0 | R78: 0 | S78: =R78-T78 -> -2 | T78: 2 | U78: =IF((LEN(BB78)=0),"0",IF(AND(R78=BB78,T78=BD78),"5",IF(AND(S78=BC78,S78=0),"2",IF(AND(S78=BC78,OR(S78>0,S78<0)),"3",IF(AND(S78>0,BC78>0),"2",IF(AND(S78<0,BC78<0),"2","0")))))) -> 0 | V78: 1 | W78: =V78-X78 -> -1 | X78: 2 | Y78: =IF((LEN(BB78)=0),"0",IF(AND(V78=BB78,X78=BD78),"5",IF(AND(W78=BC78,W78=0),"2",IF(AND(W78=BC78,OR(W78>0,W78<0)),"3",IF(AND(W78>0,BC78>0),"2",IF(AND(W78<0,BC78<0),"2","0")))))) -> 0 | Z78: 0 | AA78: =Z78-AB78 -> -2 | AB78: 2 | AC78: =IF((LEN(BB78)=0),"0",IF(AND(Z78=BB78,AB78=BD78),"5",IF(AND(AA78=BC78,AA78=0),"2",IF(AND(AA78=BC78,OR(AA78>0,AA78<0)),"3",IF(AND(AA78>0,BC78>0),"2",IF(AND(AA78<0,BC78<0),"2","0")))))) -> 0 | AD78: 1 | AE78: =AD78-AF78 -> -1 | AF78: 2 | AG78: =IF((LEN(BB78)=0),"0",IF(AND(AD78=BB78,AF78=BD78),"5",IF(AND(AE78=BC78,AE78=0),"2",IF(AND(AE78=BC78,OR(AE78>0,AE78<0)),"3",IF(AND(AE78>0,BC78>0),"2",IF(AND(AE78<0,BC78<0),"2","0")))))) -> 0 | AH78: 2 | AI78: =AH78-AJ78 -> 1 | AJ78: 1 | AK78: =IF((LEN(BB78)=0),"0",IF(AND(AH78=BB78,AJ78=BD78),"5",IF(AND(AI78=BC78,AI78=0),"2",IF(AND(AI78=BC78,OR(AI78>0,AI78<0)),"3",IF(AND(AI78>0,BC78>0),"2",IF(AND(AI78<0,BC78<0),"2","0")))))) -> 0 | AL78: 0 | AM78: =AL78-AN78 -> -1 | AN78: 1 | AO78: =IF((LEN(BB78)=0),"0",IF(AND(AL78=BB78,AN78=BD78),"5",IF(AND(AM78=BC78,AM78=0),"2",IF(AND(AM78=BC78,OR(AM78>0,AM78<0)),"3",IF(AND(AM78>0,BC78>0),"2",IF(AND(AM78<0,BC78<0),"2","0")))))) -> 0 | AP78: 1 | AQ78: =AP78-AR78 -> 0 | AR78: 1 | AS78: =IF((LEN(BB78)=0),"0",IF(AND(AP78=BB78,AR78=BD78),"5",IF(AND(AQ78=BC78,AQ78=0),"2",IF(AND(AQ78=BC78,OR(AQ78>0,AQ78<0)),"3",IF(AND(AQ78>0,BC78>0),"2",IF(AND(AQ78<0,BC78<0),"2","0")))))) -> 0 | AT78: 2 | AU78: =AT78-AV78 -> 2 | AV78: 0 | AW78: =IF((LEN(BB78)=0),"0",IF(AND(AT78=BB78,AV78=BD78),"5",IF(AND(AU78=BC78,AU78=0),"2",IF(AND(AU78=BC78,OR(AU78>0,AU78<0)),"3",IF(AND(AU78>0,BC78>0),"2",IF(AND(AU78<0,BC78<0),"2","0")))))) -> 0 | BC78: =BB78-BD78 -> 0
B79: =E69+E70+E71+E72+E73+E74+E75+E76+E77+E78 -> 0 | F79: =I69+I70+I71+I72+I73+I74+I75+I76+I77+I78 -> 0 | J79: =M69+M70+M71+M72+M73+M74+M75+M76+M77+M78 -> 0 | N79: =Q69+Q70+Q71+Q72+Q73+Q74+Q75+Q76+Q77+Q78 -> 0 | R79: =U69+U70+U71+U72+U73+U74+U75+U76+U77+U78 -> 0 | V79: =Y69+Y70+Y71+Y72+Y73+Y74+Y75+Y76+Y77+Y78 -> 0 | Z79: =AC69+AC70+AC71+AC72+AC73+AC74+AC75+AC76+AC77+AC78 -> 0 | AD79: =AG69+AG70+AG71+AG72+AG73+AG74+AG75+AG76+AG77+AG78 -> 0 | AH79: =AK69+AK70+AK71+AK72+AK73+AK74+AK75+AK76+AK77+AK78 -> 0 | AL79: =AO69+AO70+AO71+AO72+AO73+AO74+AO75+AO76+AO77+AO78 -> 0 | AP79: =AS69+AS70+AS71+AS72+AS73+AS74+AS75+AS76+AS77+AS78 -> 0 | AT79: =AW69+AW70+AW71+AW72+AW73+AW74+AW75+AW76+AW77+AW78 -> 0
B80: =IF(B79>F79,"1",IF(B79=F79,"0", IF(B79<F79,"0"))) -> 0 | F80: =IF(F79>B79,"1",IF(F79=B79,"0", IF(F79<B79,"0"))) -> 0 | J80: =IF(J79>N79,"1",IF(J79=N79,"0", IF(J79<N79,"0"))) -> 0 | N80: =IF(N79>J79,"1",IF(N79=J79,"0", IF(N79<J79,"0"))) -> 0 | R80: =IF(R79>V79,"1",IF(R79=V79,"0", IF(R79<V79,"0"))) -> 0 | V80: =IF(V79>R79,"1",IF(V79=R79,"0", IF(V79<R79,"0"))) -> 0 | Z80: =IF(Z79>AD79,"1",IF(Z79=AD79,"0", IF(Z79<AD79,"0"))) -> 0 | AD80: =IF(AD79>Z79,"1",IF(AD79=Z79,"0", IF(AD79<Z79,"0"))) -> 0 | AH80: =IF(AH79>AL79,"1",IF(AH79=AL79,"0", IF(AH79<AL79,"0"))) -> 0 | AL80: =IF(AL79>AH79,"1",IF(AL79=AH79,"0", IF(AL79<AH79,"0"))) -> 0 | AP80: =IF(AP79>AT79,"1",IF(AP79=AT79,"0", IF(AP79<AT79,"0"))) -> 0 | AT80: =IF(AT79>AP79,"1",IF(AT79=AP79,"0", IF(AT79<AP79,"0"))) -> 0
B84: =Лист1!A81 -> Команда 9 | H84: =B100+J100+R100+Z100+AH100+AP100 -> 0
B85: =Лист1!A88 -> Команда 10 | H85: =F100+N100+V100+AD100+AL100+AT100 -> 0
B87: =Лист1!A82 -> Игрок 13 | F87: =Лист1!A89 -> Игрок 13 | J87: =Лист1!A83 -> Игрок 14 | N87: =Лист1!A90 -> Игрок 14 | R87: =Лист1!A84 -> Игрок 15 | V87: =Лист1!A91 -> Игрок 15 | Z87: =Лист1!A85 -> Игрок 16 | AD87: =Лист1!A92 -> Игрок 16 | AH87: =Лист1!A86 -> Игрок 17 | AL87: =Лист1!A93 -> Игрок 17 | AP87: =Лист1!A87 -> Игрок 18 | AT87: =Лист1!A94 -> Игрок 18 | BB87: Итог
B88: прогноз | E88: очки | F88: прогноз | I88: очки | J88: прогноз | M88: очки | N88: прогноз | Q88: очки | R88: прогноз | U88: очки | V88: прогноз | Y88: очки | Z88: прогноз | AC88: очки | AD88: прогноз | AG88: очки | AH88: прогноз | AK88: очки | AL88: прогноз | AO88: очки | AP88: прогноз | AS88: очки | AT88: прогноз | AW88: очки
B89: =MID(Лист1!$B$82,1,1) -> 1 | C89: =B89-D89 -> 1 | D89: =MID(Лист1!$B$82,2,1) -> 0 | E89: =IF((LEN($BB9)=0),"0",IF(AND(B89=$BB9,D89=$BD9),"5",IF(AND(C89=$BB9-$BD9,C89=0),"3",IF(AND(C89=$BB9-$BD9,OR(C89>0,C89<0)),"3",IF(AND(C89>0,$BB9-$BD9>0),"2",IF(AND(C89<0,$BB9-$BD9<0),"2","0")))))) -> 0 | F89: =MID(Лист1!$B$89,1,1) -> 1 | G89: =F89-H89 -> 1 | H89: =MID(Лист1!$B$89,2,1) -> 0 | I89: =IF((LEN($BB9)=0),"0",IF(AND(F89=$BB9,H89=$BD9),"5",IF(AND(G89=$BB9-$BD9,G89=0),"3",IF(AND(G89=$BB9-$BD9,OR(G89>0,G89<0)),"3",IF(AND(G89>0,$BB9-$BD9>0),"2",IF(AND(G89<0,$BB9-$BD9<0),"2","0")))))) -> 0 | J89: =MID(Лист1!$B$83,1,1) -> 1 | K89: =J89-L89 -> 1 | L89: =MID(Лист1!$B$83,2,1) -> 0 | M89: =IF((LEN($BB9)=0),"0",IF(AND(J89=$BB9,L89=$BD9),"5",IF(AND(K89=$BB9-$BD9,K89=0),"3",IF(AND(K89=$BB9-$BD9,OR(K89>0,K89<0)),"3",IF(AND(K89>0,$BB9-$BD9>0),"2",IF(AND(K89<0,$BB9-$BD9<0),"2","0")))))) -> 0 | N89: =MID(Лист1!$B$90,1,1) -> 1 | O89: =N89-P89 -> 1 | P89: =MID(Лист1!$B$90,2,1) -> 0 | Q89: =IF((LEN($BB9)=0),"0",IF(AND(N89=$BB9,P89=$BD9),"5",IF(AND(O89=$BB9-$BD9,O89=0),"3",IF(AND(O89=$BB9-$BD9,OR(O89>0,O89<0)),"3",IF(AND(O89>0,$BB9-$BD9>0),"2",IF(AND(O89<0,$BB9-$BD9<0),"2","0")))))) -> 0 | R89: =MID(Лист1!$B$84,1,1) -> 1 | S89: =R89-T89 -> 1 | T89: =MID(Лист1!$B$84,2,1) -> 0 | U89: =IF((LEN($BB9)=0),"0",IF(AND(R89=$BB9,T89=$BD9),"5",IF(AND(S89=$BB9-$BD9,S89=0),"3",IF(AND(S89=$BB9-$BD9,OR(S89>0,S89<0)),"3",IF(AND(S89>0,$BB9-$BD9>0),"2",IF(AND(S89<0,$BB9-$BD9<0),"2","0")))))) -> 0 | V89: =MID(Лист1!$B$91,1,1) -> 1 | W89: =V89-X89 -> 1 | X89: =MID(Лист1!$B$91,2,1) -> 0 | Y89: =IF((LEN($BB9)=0),"0",IF(AND(V89=$BB9,X89=$BD9),"5",IF(AND(W89=$BB9-$BD9,W89=0),"3",IF(AND(W89=$BB9-$BD9,OR(W89>0,W89<0)),"3",IF(AND(W89>0,$BB9-$BD9>0),"2",IF(AND(W89<0,$BB9-$BD9<0),"2","0")))))) -> 0 | Z89: =MID(Лист1!$B$85,1,1) -> 1 | AA89: =Z89-AB89 -> 1 | AB89: =MID(Лист1!$B$85,2,1) -> 0 | AC89: =IF((LEN($BB9)=0),"0",IF(AND(Z89=$BB9,AB89=$BD9),"5",IF(AND(AA89=$BB9-$BD9,AA89=0),"3",IF(AND(AA89=$BB9-$BD9,OR(AA89>0,AA89<0)),"3",IF(AND(AA89>0,$BB9-$BD9>0),"2",IF(AND(AA89<0,$BB9-$BD9<0),"2","0")))))) -> 0 | AD89: =MID(Лист1!$B$92,1,1) -> 1 | AE89: =AD89-AF89 -> 1 | AF89: =MID(Лист1!$B$92,2,1) -> 0 | AG89: =IF((LEN($BB9)=0),"0",IF(AND(AD89=$BB9,AF89=$BD9),"5",IF(AND(AE89=$BB9-$BD9,AE89=0),"3",IF(AND(AE89=$BB9-$BD9,OR(AE89>0,AE89<0)),"3",IF(AND(AE89>0,$BB9-$BD9>0),"2",IF(AND(AE89<0,$BB9-$BD9<0),"2","0")))))) -> 0 | AH89: =MID(Лист1!$B$86,1,1) -> 1 | AI89: =AH89-AJ89 -> 1 | AJ89: =MID(Лист1!$B$86,2,1) -> 0 | AK89: =IF((LEN($BB9)=0),"0",IF(AND(AH89=$BB9,AJ89=$BD9),"5",IF(AND(AI89=$BB9-$BD9,AI89=0),"3",IF(AND(AI89=$BB9-$BD9,OR(AI89>0,AI89<0)),"3",IF(AND(AI89>0,$BB9-$BD9>0),"2",IF(AND(AI89<0,$BB9-$BD9<0),"2","0")))))) -> 0 | AL89: =MID(Лист1!$B$93,1,1) -> 1 | AM89: =AL89-AN89 -> 1 | AN89: =MID(Лист1!$B$93,2,1) -> 0 | AO89: =IF((LEN($BB9)=0),"0",IF(AND(AL89=$BB9,AN89=$BD9),"5",IF(AND(AM89=$BB9-$BD9,AM89=0),"3",IF(AND(AM89=$BB9-$BD9,OR(AM89>0,AM89<0)),"3",IF(AND(AM89>0,$BB9-$BD9>0),"2",IF(AND(AM89<0,$BB9-$BD9<0),"2","0")))))) -> 0 | AP89: =MID(Лист1!$B$87,1,1) -> 1 | AQ89: =AP89-AR89 -> 1 | AR89: =MID(Лист1!$B$87,2,1) -> 0 | AS89: =IF((LEN($BB9)=0),"0",IF(AND(AP89=$BB9,AR89=$BD9),"5",IF(AND(AQ89=$BB9-$BD9,AQ89=0),"3",IF(AND(AQ89=$BB9-$BD9,OR(AQ89>0,AQ89<0)),"3",IF(AND(AQ89>0,$BB9-$BD9>0),"2",IF(AND(AQ89<0,$BB9-$BD9<0),"2","0")))))) -> 0 | AT89: =MID(Лист1!$B$94,1,1) -> 1 | AU89: =AT89-AV89 -> 1 | AV89: =MID(Лист1!$B$94,2,1) -> 0 | AW89: =IF((LEN($BB9)=0),"0",IF(AND(AT89=$BB9,AV89=$BD9),"5",IF(AND(AU89=$BB9-$BD9,AU89=0),"3",IF(AND(AU89=$BB9-$BD9,OR(AU89>0,AU89<0)),"3",IF(AND(AU89>0,$BB9-$BD9>0),"2",IF(AND(AU89<0,$BB9-$BD9<0),"2","0")))))) -> 0 | AX89: =AX69 -> Дармштадт - Штутгарт | BB89: =BB69 -> 2 | BC89: =BB89-BD89 -> 0 | BD89: =BD69 -> 2
B90: =MID(Лист1!$B$82,3,1) -> 2 | C90: =B90-D90 -> 1 | D90: =MID(Лист1!$B$82,4,1) -> 1 | E90: =IF((LEN($BB10)=0),"0",IF(AND(B90=$BB10,D90=$BD10),"5",IF(AND(C90=$BB10-$BD10,C90=0),"3",IF(AND(C90=$BB10-$BD10,OR(C90>0,C90<0)),"3",IF(AND(C90>0,$BB10-$BD10>0),"2",IF(AND(C90<0,$BB10-$BD10<0),"2","0")))))) -> 0 | F90: =MID(Лист1!$B$89,3,1) -> 2 | G90: =F90-H90 -> 1 | H90: =MID(Лист1!$B$89,4,1) -> 1 | I90: =IF((LEN($BB10)=0),"0",IF(AND(F90=$BB10,H90=$BD10),"5",IF(AND(G90=$BB10-$BD10,G90=0),"3",IF(AND(G90=$BB10-$BD10,OR(G90>0,G90<0)),"3",IF(AND(G90>0,$BB10-$BD10>0),"2",IF(AND(G90<0,$BB10-$BD10<0),"2","0")))))) -> 0 | J90: =MID(Лист1!$B$83,3,1) -> 2 | K90: =J90-L90 -> 1 | L90: =MID(Лист1!$B$83,4,1) -> 1 | M90: =IF((LEN($BB10)=0),"0",IF(AND(J90=$BB10,L90=$BD10),"5",IF(AND(K90=$BB10-$BD10,K90=0),"3",IF(AND(K90=$BB10-$BD10,OR(K90>0,K90<0)),"3",IF(AND(K90>0,$BB10-$BD10>0),"2",IF(AND(K90<0,$BB10-$BD10<0),"2","0")))))) -> 0 | N90: =MID(Лист1!$B$90,3,1) -> 2 | O90: =N90-P90 -> 1 | P90: =MID(Лист1!$B$90,4,1) -> 1 | Q90: =IF((LEN($BB10)=0),"0",IF(AND(N90=$BB10,P90=$BD10),"5",IF(AND(O90=$BB10-$BD10,O90=0),"3",IF(AND(O90=$BB10-$BD10,OR(O90>0,O90<0)),"3",IF(AND(O90>0,$BB10-$BD10>0),"2",IF(AND(O90<0,$BB10-$BD10<0),"2","0")))))) -> 0 | R90: =MID(Лист1!$B$84,3,1) -> 2 | S90: =R90-T90 -> 1 | T90: =MID(Лист1!$B$84,4,1) -> 1 | U90: =IF((LEN($BB10)=0),"0",IF(AND(R90=$BB10,T90=$BD10),"5",IF(AND(S90=$BB10-$BD10,S90=0),"3",IF(AND(S90=$BB10-$BD10,OR(S90>0,S90<0)),"3",IF(AND(S90>0,$BB10-$BD10>0),"2",IF(AND(S90<0,$BB10-$BD10<0),"2","0")))))) -> 0 | V90: =MID(Лист1!$B$91,3,1) -> 2 | W90: =V90-X90 -> 1 | X90: =MID(Лист1!$B$91,4,1) -> 1 | Y90: =IF((LEN($BB10)=0),"0",IF(AND(V90=$BB10,X90=$BD10),"5",IF(AND(W90=$BB10-$BD10,W90=0),"3",IF(AND(W90=$BB10-$BD10,OR(W90>0,W90<0)),"3",IF(AND(W90>0,$BB10-$BD10>0),"2",IF(AND(W90<0,$BB10-$BD10<0),"2","0")))))) -> 0 | Z90: =MID(Лист1!$B$85,3,1) -> 2 | AA90: =Z90-AB90 -> 1 | AB90: =MID(Лист1!$B$85,4,1) -> 1 | AC90: =IF((LEN($BB10)=0),"0",IF(AND(Z90=$BB10,AB90=$BD10),"5",IF(AND(AA90=$BB10-$BD10,AA90=0),"3",IF(AND(AA90=$BB10-$BD10,OR(AA90>0,AA90<0)),"3",IF(AND(AA90>0,$BB10-$BD10>0),"2",IF(AND(AA90<0,$BB10-$BD10<0),"2","0")))))) -> 0 | AD90: =MID(Лист1!$B$92,3,1) -> 2 | AE90: =AD90-AF90 -> 1 | AF90: =MID(Лист1!$B$92,4,1) -> 1 | AG90: =IF((LEN($BB10)=0),"0",IF(AND(AD90=$BB10,AF90=$BD10),"5",IF(AND(AE90=$BB10-$BD10,AE90=0),"3",IF(AND(AE90=$BB10-$BD10,OR(AE90>0,AE90<0)),"3",IF(AND(AE90>0,$BB10-$BD10>0),"2",IF(AND(AE90<0,$BB10-$BD10<0),"2","0")))))) -> 0 | AH90: =MID(Лист1!$B$86,3,1) -> 2 | AI90: =AH90-AJ90 -> 1 | AJ90: =MID(Лист1!$B$86,4,1) -> 1 | AK90: =IF((LEN($BB10)=0),"0",IF(AND(AH90=$BB10,AJ90=$BD10),"5",IF(AND(AI90=$BB10-$BD10,AI90=0),"3",IF(AND(AI90=$BB10-$BD10,OR(AI90>0,AI90<0)),"3",IF(AND(AI90>0,$BB10-$BD10>0),"2",IF(AND(AI90<0,$BB10-$BD10<0),"2","0")))))) -> 0 | AL90: =MID(Лист1!$B$93,3,1) -> 2 | AM90: =AL90-AN90 -> 1 | AN90: =MID(Лист1!$B$93,4,1) -> 1 | AO90: =IF((LEN($BB10)=0),"0",IF(AND(AL90=$BB10,AN90=$BD10),"5",IF(AND(AM90=$BB10-$BD10,AM90=0),"3",IF(AND(AM90=$BB10-$BD10,OR(AM90>0,AM90<0)),"3",IF(AND(AM90>0,$BB10-$BD10>0),"2",IF(AND(AM90<0,$BB10-$BD10<0),"2","0")))))) -> 0 | AP90: =MID(Лист1!$B$87,3,1) -> 2 | AQ90: =AP90-AR90 -> 1 | AR90: =MID(Лист1!$B$87,4,1) -> 1 | AS90: =IF((LEN($BB10)=0),"0",IF(AND(AP90=$BB10,AR90=$BD10),"5",IF(AND(AQ90=$BB10-$BD10,AQ90=0),"3",IF(AND(AQ90=$BB10-$BD10,OR(AQ90>0,AQ90<0)),"3",IF(AND(AQ90>0,$BB10-$BD10>0),"2",IF(AND(AQ90<0,$BB10-$BD10<0),"2","0")))))) -> 0 | AT90: =MID(Лист1!$B$94,3,1) -> 2 | AU90: =AT90-AV90 -> 1 | AV90: =MID(Лист1!$B$94,4,1) -> 1 | AW90: =IF((LEN($BB10)=0),"0",IF(AND(AT90=$BB10,AV90=$BD10),"5",IF(AND(AU90=$BB10-$BD10,AU90=0),"3",IF(AND(AU90=$BB10-$BD10,OR(AU90>0,AU90<0)),"3",IF(AND(AU90>0,$BB10-$BD10>0),"2",IF(AND(AU90<0,$BB10-$BD10<0),"2","0")))))) -> 0 | AX90: =AX70 -> Ливерпуль - Тоттенхэм | BB90: =BB70 -> 1 | BC90: =BB90-BD90 -> 0 | BD90: =BD70 -> 1
B91: =MID(Лист1!$B$82,5,1) -> 1 | C91: =B91-D91 -> -2 | D91: =MID(Лист1!$B$82,6,1) -> 3 | E91: =IF((LEN($BB11)=0),"0",IF(AND(B91=$BB11,D91=$BD11),"5",IF(AND(C91=$BB11-$BD11,C91=0),"3",IF(AND(C91=$BB11-$BD11,OR(C91>0,C91<0)),"3",IF(AND(C91>0,$BB11-$BD11>0),"2",IF(AND(C91<0,$BB11-$BD11<0),"2","0")))))) -> 0 | F91: =MID(Лист1!$B$89,5,1) -> 1 | G91: =F91-H91 -> -2 | H91: =MID(Лист1!$B$89,6,1) -> 3 | I91: =IF((LEN($BB11)=0),"0",IF(AND(F91=$BB11,H91=$BD11),"5",IF(AND(G91=$BB11-$BD11,G91=0),"3",IF(AND(G91=$BB11-$BD11,OR(G91>0,G91<0)),"3",IF(AND(G91>0,$BB11-$BD11>0),"2",IF(AND(G91<0,$BB11-$BD11<0),"2","0")))))) -> 0 | J91: =MID(Лист1!$B$83,5,1) -> 1 | K91: =J91-L91 -> -2 | L91: =MID(Лист1!$B$83,6,1) -> 3 | M91: =IF((LEN($BB11)=0),"0",IF(AND(J91=$BB11,L91=$BD11),"5",IF(AND(K91=$BB11-$BD11,K91=0),"3",IF(AND(K91=$BB11-$BD11,OR(K91>0,K91<0)),"3",IF(AND(K91>0,$BB11-$BD11>0),"2",IF(AND(K91<0,$BB11-$BD11<0),"2","0")))))) -> 0 | N91: =MID(Лист1!$B$90,5,1) -> 1 | O91: =N91-P91 -> -2 | P91: =MID(Лист1!$B$90,6,1) -> 3 | Q91: =IF((LEN($BB11)=0),"0",IF(AND(N91=$BB11,P91=$BD11),"5",IF(AND(O91=$BB11-$BD11,O91=0),"3",IF(AND(O91=$BB11-$BD11,OR(O91>0,O91<0)),"3",IF(AND(O91>0,$BB11-$BD11>0),"2",IF(AND(O91<0,$BB11-$BD11<0),"2","0")))))) -> 0 | R91: =MID(Лист1!$B$84,5,1) -> 1 | S91: =R91-T91 -> -2 | T91: =MID(Лист1!$B$84,6,1) -> 3 | U91: =IF((LEN($BB11)=0),"0",IF(AND(R91=$BB11,T91=$BD11),"5",IF(AND(S91=$BB11-$BD11,S91=0),"3",IF(AND(S91=$BB11-$BD11,OR(S91>0,S91<0)),"3",IF(AND(S91>0,$BB11-$BD11>0),"2",IF(AND(S91<0,$BB11-$BD11<0),"2","0")))))) -> 0 | V91: =MID(Лист1!$B$91,5,1) -> 1 | W91: =V91-X91 -> -2 | X91: =MID(Лист1!$B$91,6,1) -> 3 | Y91: =IF((LEN($BB11)=0),"0",IF(AND(V91=$BB11,X91=$BD11),"5",IF(AND(W91=$BB11-$BD11,W91=0),"3",IF(AND(W91=$BB11-$BD11,OR(W91>0,W91<0)),"3",IF(AND(W91>0,$BB11-$BD11>0),"2",IF(AND(W91<0,$BB11-$BD11<0),"2","0")))))) -> 0 | Z91: =MID(Лист1!$B$85,5,1) -> 1 | AA91: =Z91-AB91 -> -2 | AB91: =MID(Лист1!$B$85,6,1) -> 3 | AC91: =IF((LEN($BB11)=0),"0",IF(AND(Z91=$BB11,AB91=$BD11),"5",IF(AND(AA91=$BB11-$BD11,AA91=0),"3",IF(AND(AA91=$BB11-$BD11,OR(AA91>0,AA91<0)),"3",IF(AND(AA91>0,$BB11-$BD11>0),"2",IF(AND(AA91<0,$BB11-$BD11<0),"2","0")))))) -> 0 | AD91: =MID(Лист1!$B$92,5,1) -> 1 | AE91: =AD91-AF91 -> -2 | AF91: =MID(Лист1!$B$92,6,1) -> 3 | AG91: =IF((LEN($BB11)=0),"0",IF(AND(AD91=$BB11,AF91=$BD11),"5",IF(AND(AE91=$BB11-$BD11,AE91=0),"3",IF(AND(AE91=$BB11-$BD11,OR(AE91>0,AE91<0)),"3",IF(AND(AE91>0,$BB11-$BD11>0),"2",IF(AND(AE91<0,$BB11-$BD11<0),"2","0")))))) -> 0 | AH91: =MID(Лист1!$B$86,5,1) -> 1 | AI91: =AH91-AJ91 -> -2 | AJ91: =MID(Лист1!$B$86,6,1) -> 3 | AK91: =IF((LEN($BB11)=0),"0",IF(AND(AH91=$BB11,AJ91=$BD11),"5",IF(AND(AI91=$BB11-$BD11,AI91=0),"3",IF(AND(AI91=$BB11-$BD11,OR(AI91>0,AI91<0)),"3",IF(AND(AI91>0,$BB11-$BD11>0),"2",IF(AND(AI91<0,$BB11-$BD11<0),"2","0")))))) -> 0 | AL91: =MID(Лист1!$B$93,5,1) -> 1 | AM91: =AL91-AN91 -> -2 | AN91: =MID(Лист1!$B$93,6,1) -> 3 | AO91: =IF((LEN($BB11)=0),"0",IF(AND(AL91=$BB11,AN91=$BD11),"5",IF(AND(AM91=$BB11-$BD11,AM91=0),"3",IF(AND(AM91=$BB11-$BD11,OR(AM91>0,AM91<0)),"3",IF(AND(AM91>0,$BB11-$BD11>0),"2",IF(AND(AM91<0,$BB11-$BD11<0),"2","0")))))) -> 0 | AP91: =MID(Лист1!$B$87,5,1) -> 1 | AQ91: =AP91-AR91 -> -2 | AR91: =MID(Лист1!$B$87,6,1) -> 3 | AS91: =IF((LEN($BB11)=0),"0",IF(AND(AP91=$BB11,AR91=$BD11),"5",IF(AND(AQ91=$BB11-$BD11,AQ91=0),"3",IF(AND(AQ91=$BB11-$BD11,OR(AQ91>0,AQ91<0)),"3",IF(AND(AQ91>0,$BB11-$BD11>0),"2",IF(AND(AQ91<0,$BB11-$BD11<0),"2","0")))))) -> 0 | AT91: =MID(Лист1!$B$94,5,1) -> 1 | AU91: =AT91-AV91 -> -2 | AV91: =MID(Лист1!$B$94,6,1) -> 3 | AW91: =IF((LEN($BB11)=0),"0",IF(AND(AT91=$BB11,AV91=$BD11),"5",IF(AND(AU91=$BB11-$BD11,AU91=0),"3",IF(AND(AU91=$BB11-$BD11,OR(AU91>0,AU91<0)),"3",IF(AND(AU91>0,$BB11-$BD11>0),"2",IF(AND(AU91<0,$BB11-$BD11<0),"2","0")))))) -> 0 | AX91: =AX71 -> Ростов - Спартак | BB91: =BB71 -> 2 | BC91: =BB91-BD91 -> 2 | BD91: =BD71 -> 0
B92: =MID(Лист1!$B$82,7,1) -> 1 | C92: =B92-D92 -> 1 | D92: =MID(Лист1!$B$82,8,1) -> 0 | E92: =IF((LEN($BB12)=0),"0",IF(AND(B92=$BB12,D92=$BD12),"5",IF(AND(C92=$BB12-$BD12,C92=0),"3",IF(AND(C92=$BB12-$BD12,OR(C92>0,C92<0)),"3",IF(AND(C92>0,$BB12-$BD12>0),"2",IF(AND(C92<0,$BB12-$BD12<0),"2","0")))))) -> 0 | F92: =MID(Лист1!$B$89,7,1) -> 1 | G92: =F92-H92 -> 1 | H92: =MID(Лист1!$B$89,8,1) -> 0 | I92: =IF((LEN($BB12)=0),"0",IF(AND(F92=$BB12,H92=$BD12),"5",IF(AND(G92=$BB12-$BD12,G92=0),"3",IF(AND(G92=$BB12-$BD12,OR(G92>0,G92<0)),"3",IF(AND(G92>0,$BB12-$BD12>0),"2",IF(AND(G92<0,$BB12-$BD12<0),"2","0")))))) -> 0 | J92: =MID(Лист1!$B$83,7,1) -> 1 | K92: =J92-L92 -> 1 | L92: =MID(Лист1!$B$83,8,1) -> 0 | M92: =IF((LEN($BB12)=0),"0",IF(AND(J92=$BB12,L92=$BD12),"5",IF(AND(K92=$BB12-$BD12,K92=0),"3",IF(AND(K92=$BB12-$BD12,OR(K92>0,K92<0)),"3",IF(AND(K92>0,$BB12-$BD12>0),"2",IF(AND(K92<0,$BB12-$BD12<0),"2","0")))))) -> 0 | N92: =MID(Лист1!$B$90,7,1) -> 1 | O92: =N92-P92 -> 1 | P92: =MID(Лист1!$B$90,8,1) -> 0 | Q92: =IF((LEN($BB12)=0),"0",IF(AND(N92=$BB12,P92=$BD12),"5",IF(AND(O92=$BB12-$BD12,O92=0),"3",IF(AND(O92=$BB12-$BD12,OR(O92>0,O92<0)),"3",IF(AND(O92>0,$BB12-$BD12>0),"2",IF(AND(O92<0,$BB12-$BD12<0),"2","0")))))) -> 0 | R92: =MID(Лист1!$B$84,7,1) -> 1 | S92: =R92-T92 -> 1 | T92: =MID(Лист1!$B$84,8,1) -> 0 | U92: =IF((LEN($BB12)=0),"0",IF(AND(R92=$BB12,T92=$BD12),"5",IF(AND(S92=$BB12-$BD12,S92=0),"3",IF(AND(S92=$BB12-$BD12,OR(S92>0,S92<0)),"3",IF(AND(S92>0,$BB12-$BD12>0),"2",IF(AND(S92<0,$BB12-$BD12<0),"2","0")))))) -> 0 | V92: =MID(Лист1!$B$91,7,1) -> 1 | W92: =V92-X92 -> 1 | X92: =MID(Лист1!$B$91,8,1) -> 0 | Y92: =IF((LEN($BB12)=0),"0",IF(AND(V92=$BB12,X92=$BD12),"5",IF(AND(W92=$BB12-$BD12,W92=0),"3",IF(AND(W92=$BB12-$BD12,OR(W92>0,W92<0)),"3",IF(AND(W92>0,$BB12-$BD12>0),"2",IF(AND(W92<0,$BB12-$BD12<0),"2","0")))))) -> 0 | Z92: =MID(Лист1!$B$85,7,1) -> 1 | AA92: =Z92-AB92 -> 1 | AB92: =MID(Лист1!$B$85,8,1) -> 0 | AC92: =IF((LEN($BB12)=0),"0",IF(AND(Z92=$BB12,AB92=$BD12),"5",IF(AND(AA92=$BB12-$BD12,AA92=0),"3",IF(AND(AA92=$BB12-$BD12,OR(AA92>0,AA92<0)),"3",IF(AND(AA92>0,$BB12-$BD12>0),"2",IF(AND(AA92<0,$BB12-$BD12<0),"2","0")))))) -> 0 | AD92: =MID(Лист1!$B$92,7,1) -> 1 | AE92: =AD92-AF92 -> 1 | AF92: =MID(Лист1!$B$92,8,1) -> 0 | AG92: =IF((LEN($BB12)=0),"0",IF(AND(AD92=$BB12,AF92=$BD12),"5",IF(AND(AE92=$BB12-$BD12,AE92=0),"3",IF(AND(AE92=$BB12-$BD12,OR(AE92>0,AE92<0)),"3",IF(AND(AE92>0,$BB12-$BD12>0),"2",IF(AND(AE92<0,$BB12-$BD12<0),"2","0")))))) -> 0 | AH92: =MID(Лист1!$B$86,7,1) -> 1 | AI92: =AH92-AJ92 -> 1 | AJ92: =MID(Лист1!$B$86,8,1) -> 0 | AK92: =IF((LEN($BB12)=0),"0",IF(AND(AH92=$BB12,AJ92=$BD12),"5",IF(AND(AI92=$BB12-$BD12,AI92=0),"3",IF(AND(AI92=$BB12-$BD12,OR(AI92>0,AI92<0)),"3",IF(AND(AI92>0,$BB12-$BD12>0),"2",IF(AND(AI92<0,$BB12-$BD12<0),"2","0")))))) -> 0 | AL92: =MID(Лист1!$B$93,7,1) -> 1 | AM92: =AL92-AN92 -> 1 | AN92: =MID(Лист1!$B$93,8,1) -> 0 | AO92: =IF((LEN($BB12)=0),"0",IF(AND(AL92=$BB12,AN92=$BD12),"5",IF(AND(AM92=$BB12-$BD12,AM92=0),"3",IF(AND(AM92=$BB12-$BD12,OR(AM92>0,AM92<0)),"3",IF(AND(AM92>0,$BB12-$BD12>0),"2",IF(AND(AM92<0,$BB12-$BD12<0),"2","0")))))) -> 0 | AP92: =MID(Лист1!$B$87,7,1) -> 1 | AQ92: =AP92-AR92 -> 1 | AR92: =MID(Лист1!$B$87,8,1) -> 0 | AS92: =IF((LEN($BB12)=0),"0",IF(AND(AP92=$BB12,AR92=$BD12),"5",IF(AND(AQ92=$BB12-$BD12,AQ92=0),"3",IF(AND(AQ92=$BB12-$BD12,OR(AQ92>0,AQ92<0)),"3",IF(AND(AQ92>0,$BB12-$BD12>0),"2",IF(AND(AQ92<0,$BB12-$BD12<0),"2","0")))))) -> 0 | AT92: =MID(Лист1!$B$94,7,1) -> 1 | AU92: =AT92-AV92 -> 1 | AV92: =MID(Лист1!$B$94,8,1) -> 0 | AW92: =IF((LEN($BB12)=0),"0",IF(AND(AT92=$BB12,AV92=$BD12),"5",IF(AND(AU92=$BB12-$BD12,AU92=0),"3",IF(AND(AU92=$BB12-$BD12,OR(AU92>0,AU92<0)),"3",IF(AND(AU92>0,$BB12-$BD12>0),"2",IF(AND(AU92<0,$BB12-$BD12<0),"2","0")))))) -> 0 | AX92: =AX72 -> Барселона - Реал | BB92: =BB72 | BC92: =BB92-BD92 -> #VALUE! | BD92: =BD72
B93: =MID(Лист1!$B$82,9,1) -> 1 | C93: =B93-D93 -> 1 | D93: =MID(Лист1!$B$82,10,1) -> 0 | E93: =IF((LEN($BB13)=0),"0",IF(AND(B93=$BB13,D93=$BD13),"5",IF(AND(C93=$BB13-$BD13,C93=0),"3",IF(AND(C93=$BB13-$BD13,OR(C93>0,C93<0)),"3",IF(AND(C93>0,$BB13-$BD13>0),"2",IF(AND(C93<0,$BB13-$BD13<0),"2","0")))))) -> 0 | F93: =MID(Лист1!$B$89,9,1) -> 1 | G93: =F93-H93 -> 1 | H93: =MID(Лист1!$B$89,10,1) -> 0 | I93: =IF((LEN($BB13)=0),"0",IF(AND(F93=$BB13,H93=$BD13),"5",IF(AND(G93=$BB13-$BD13,G93=0),"3",IF(AND(G93=$BB13-$BD13,OR(G93>0,G93<0)),"3",IF(AND(G93>0,$BB13-$BD13>0),"2",IF(AND(G93<0,$BB13-$BD13<0),"2","0")))))) -> 0 | J93: =MID(Лист1!$B$83,9,1) -> 1 | K93: =J93-L93 -> 1 | L93: =MID(Лист1!$B$83,10,1) -> 0 | M93: =IF((LEN($BB13)=0),"0",IF(AND(J93=$BB13,L93=$BD13),"5",IF(AND(K93=$BB13-$BD13,K93=0),"3",IF(AND(K93=$BB13-$BD13,OR(K93>0,K93<0)),"3",IF(AND(K93>0,$BB13-$BD13>0),"2",IF(AND(K93<0,$BB13-$BD13<0),"2","0")))))) -> 0 | N93: =MID(Лист1!$B$90,9,1) -> 1 | O93: =N93-P93 -> 1 | P93: =MID(Лист1!$B$90,10,1) -> 0 | Q93: =IF((LEN($BB13)=0),"0",IF(AND(N93=$BB13,P93=$BD13),"5",IF(AND(O93=$BB13-$BD13,O93=0),"3",IF(AND(O93=$BB13-$BD13,OR(O93>0,O93<0)),"3",IF(AND(O93>0,$BB13-$BD13>0),"2",IF(AND(O93<0,$BB13-$BD13<0),"2","0")))))) -> 0 | R93: =MID(Лист1!$B$84,9,1) -> 1 | S93: =R93-T93 -> 1 | T93: =MID(Лист1!$B$84,10,1) -> 0 | U93: =IF((LEN($BB13)=0),"0",IF(AND(R93=$BB13,T93=$BD13),"5",IF(AND(S93=$BB13-$BD13,S93=0),"3",IF(AND(S93=$BB13-$BD13,OR(S93>0,S93<0)),"3",IF(AND(S93>0,$BB13-$BD13>0),"2",IF(AND(S93<0,$BB13-$BD13<0),"2","0")))))) -> 0 | V93: =MID(Лист1!$B$91,9,1) -> 1 | W93: =V93-X93 -> 1 | X93: =MID(Лист1!$B$91,10,1) -> 0 | Y93: =IF((LEN($BB13)=0),"0",IF(AND(V93=$BB13,X93=$BD13),"5",IF(AND(W93=$BB13-$BD13,W93=0),"3",IF(AND(W93=$BB13-$BD13,OR(W93>0,W93<0)),"3",IF(AND(W93>0,$BB13-$BD13>0),"2",IF(AND(W93<0,$BB13-$BD13<0),"2","0")))))) -> 0 | Z93: =MID(Лист1!$B$85,9,1) -> 1 | AA93: =Z93-AB93 -> 1 | AB93: =MID(Лист1!$B$85,10,1) -> 0 | AC93: =IF((LEN($BB13)=0),"0",IF(AND(Z93=$BB13,AB93=$BD13),"5",IF(AND(AA93=$BB13-$BD13,AA93=0),"3",IF(AND(AA93=$BB13-$BD13,OR(AA93>0,AA93<0)),"3",IF(AND(AA93>0,$BB13-$BD13>0),"2",IF(AND(AA93<0,$BB13-$BD13<0),"2","0")))))) -> 0 | AD93: =MID(Лист1!$B$92,9,1) -> 1 | AE93: =AD93-AF93 -> 1 | AF93: =MID(Лист1!$B$92,10,1) -> 0 | AG93: =IF((LEN($BB13)=0),"0",IF(AND(AD93=$BB13,AF93=$BD13),"5",IF(AND(AE93=$BB13-$BD13,AE93=0),"3",IF(AND(AE93=$BB13-$BD13,OR(AE93>0,AE93<0)),"3",IF(AND(AE93>0,$BB13-$BD13>0),"2",IF(AND(AE93<0,$BB13-$BD13<0),"2","0")))))) -> 0 | AH93: =MID(Лист1!$B$86,9,1) -> 1 | AI93: =AH93-AJ93 -> 1 | AJ93: =MID(Лист1!$B$86,10,1) -> 0 | AK93: =IF((LEN($BB13)=0),"0",IF(AND(AH93=$BB13,AJ93=$BD13),"5",IF(AND(AI93=$BB13-$BD13,AI93=0),"3",IF(AND(AI93=$BB13-$BD13,OR(AI93>0,AI93<0)),"3",IF(AND(AI93>0,$BB13-$BD13>0),"2",IF(AND(AI93<0,$BB13-$BD13<0),"2","0")))))) -> 0 | AL93: =MID(Лист1!$B$93,9,1) -> 1 | AM93: =AL93-AN93 -> 1 | AN93: =MID(Лист1!$B$93,10,1) -> 0 | AO93: =IF((LEN($BB13)=0),"0",IF(AND(AL93=$BB13,AN93=$BD13),"5",IF(AND(AM93=$BB13-$BD13,AM93=0),"3",IF(AND(AM93=$BB13-$BD13,OR(AM93>0,AM93<0)),"3",IF(AND(AM93>0,$BB13-$BD13>0),"2",IF(AND(AM93<0,$BB13-$BD13<0),"2","0")))))) -> 0 | AP93: =MID(Лист1!$B$87,9,1) -> 1 | AQ93: =AP93-AR93 -> 1 | AR93: =MID(Лист1!$B$87,10,1) -> 0 | AS93: =IF((LEN($BB13)=0),"0",IF(AND(AP93=$BB13,AR93=$BD13),"5",IF(AND(AQ93=$BB13-$BD13,AQ93=0),"3",IF(AND(AQ93=$BB13-$BD13,OR(AQ93>0,AQ93<0)),"3",IF(AND(AQ93>0,$BB13-$BD13>0),"2",IF(AND(AQ93<0,$BB13-$BD13<0),"2","0")))))) -> 0 | AT93: =MID(Лист1!$B$94,9,1) -> 1 | AU93: =AT93-AV93 -> 1 | AV93: =MID(Лист1!$B$94,10,1) -> 0 | AW93: =IF((LEN($BB13)=0),"0",IF(AND(AT93=$BB13,AV93=$BD13),"5",IF(AND(AU93=$BB13-$BD13,AU93=0),"3",IF(AND(AU93=$BB13-$BD13,OR(AU93>0,AU93<0)),"3",IF(AND(AU93>0,$BB13-$BD13>0),"2",IF(AND(AU93<0,$BB13-$BD13<0),"2","0")))))) -> 0 | AX93: =AX73 -> Лацио - Рома | BB93: =BB73 | BC93: =BB93-BD93 -> #VALUE! | BD93: =BD73
B94: =MID(Лист1!$B$82,11,1) -> 1 | C94: =B94-D94 -> 0 | D94: =MID(Лист1!$B$82,12,1) -> 1 | E94: =IF((LEN($BB14)=0),"0",IF(AND(B94=$BB14,D94=$BD14),"5",IF(AND(C94=$BB14-$BD14,C94=0),"3",IF(AND(C94=$BB14-$BD14,OR(C94>0,C94<0)),"3",IF(AND(C94>0,$BB14-$BD14>0),"2",IF(AND(C94<0,$BB14-$BD14<0),"2","0")))))) -> 0 | F94: =MID(Лист1!$B$89,11,1) -> 1 | G94: =F94-H94 -> 0 | H94: =MID(Лист1!$B$89,12,1) -> 1 | I94: =IF((LEN($BB14)=0),"0",IF(AND(F94=$BB14,H94=$BD14),"5",IF(AND(G94=$BB14-$BD14,G94=0),"3",IF(AND(G94=$BB14-$BD14,OR(G94>0,G94<0)),"3",IF(AND(G94>0,$BB14-$BD14>0),"2",IF(AND(G94<0,$BB14-$BD14<0),"2","0")))))) -> 0 | J94: =MID(Лист1!$B$83,11,1) -> 1 | K94: =J94-L94 -> 0 | L94: =MID(Лист1!$B$83,12,1) -> 1 | M94: =IF((LEN($BB14)=0),"0",IF(AND(J94=$BB14,L94=$BD14),"5",IF(AND(K94=$BB14-$BD14,K94=0),"3",IF(AND(K94=$BB14-$BD14,OR(K94>0,K94<0)),"3",IF(AND(K94>0,$BB14-$BD14>0),"2",IF(AND(K94<0,$BB14-$BD14<0),"2","0")))))) -> 0 | N94: =MID(Лист1!$B$90,11,1) -> 1 | O94: =N94-P94 -> 0 | P94: =MID(Лист1!$B$90,12,1) -> 1 | Q94: =IF((LEN($BB14)=0),"0",IF(AND(N94=$BB14,P94=$BD14),"5",IF(AND(O94=$BB14-$BD14,O94=0),"3",IF(AND(O94=$BB14-$BD14,OR(O94>0,O94<0)),"3",IF(AND(O94>0,$BB14-$BD14>0),"2",IF(AND(O94<0,$BB14-$BD14<0),"2","0")))))) -> 0 | R94: =MID(Лист1!$B$84,11,1) -> 1 | S94: =R94-T94 -> 0 | T94: =MID(Лист1!$B$84,12,1) -> 1 | U94: =IF((LEN($BB14)=0),"0",IF(AND(R94=$BB14,T94=$BD14),"5",IF(AND(S94=$BB14-$BD14,S94=0),"3",IF(AND(S94=$BB14-$BD14,OR(S94>0,S94<0)),"3",IF(AND(S94>0,$BB14-$BD14>0),"2",IF(AND(S94<0,$BB14-$BD14<0),"2","0")))))) -> 0 | V94: =MID(Лист1!$B$91,11,1) -> 1 | W94: =V94-X94 -> 0 | X94: =MID(Лист1!$B$91,12,1) -> 1 | Y94: =IF((LEN($BB14)=0),"0",IF(AND(V94=$BB14,X94=$BD14),"5",IF(AND(W94=$BB14-$BD14,W94=0),"3",IF(AND(W94=$BB14-$BD14,OR(W94>0,W94<0)),"3",IF(AND(W94>0,$BB14-$BD14>0),"2",IF(AND(W94<0,$BB14-$BD14<0),"2","0")))))) -> 0 | Z94: =MID(Лист1!$B$85,11,1) -> 1 | AA94: =Z94-AB94 -> 0 | AB94: =MID(Лист1!$B$85,12,1) -> 1 | AC94: =IF((LEN($BB14)=0),"0",IF(AND(Z94=$BB14,AB94=$BD14),"5",IF(AND(AA94=$BB14-$BD14,AA94=0),"3",IF(AND(AA94=$BB14-$BD14,OR(AA94>0,AA94<0)),"3",IF(AND(AA94>0,$BB14-$BD14>0),"2",IF(AND(AA94<0,$BB14-$BD14<0),"2","0")))))) -> 0 | AD94: =MID(Лист1!$B$92,11,1) -> 1 | AE94: =AD94-AF94 -> 0 | AF94: =MID(Лист1!$B$92,12,1) -> 1 | AG94: =IF((LEN($BB14)=0),"0",IF(AND(AD94=$BB14,AF94=$BD14),"5",IF(AND(AE94=$BB14-$BD14,AE94=0),"3",IF(AND(AE94=$BB14-$BD14,OR(AE94>0,AE94<0)),"3",IF(AND(AE94>0,$BB14-$BD14>0),"2",IF(AND(AE94<0,$BB14-$BD14<0),"2","0")))))) -> 0 | AH94: =MID(Лист1!$B$86,11,1) -> 1 | AI94: =AH94-AJ94 -> 0 | AJ94: =MID(Лист1!$B$86,12,1) -> 1 | AK94: =IF((LEN($BB14)=0),"0",IF(AND(AH94=$BB14,AJ94=$BD14),"5",IF(AND(AI94=$BB14-$BD14,AI94=0),"3",IF(AND(AI94=$BB14-$BD14,OR(AI94>0,AI94<0)),"3",IF(AND(AI94>0,$BB14-$BD14>0),"2",IF(AND(AI94<0,$BB14-$BD14<0),"2","0")))))) -> 0 | AL94: =MID(Лист1!$B$93,11,1) -> 1 | AM94: =AL94-AN94 -> 0 | AN94: =MID(Лист1!$B$93,12,1) -> 1 | AO94: =IF((LEN($BB14)=0),"0",IF(AND(AL94=$BB14,AN94=$BD14),"5",IF(AND(AM94=$BB14-$BD14,AM94=0),"3",IF(AND(AM94=$BB14-$BD14,OR(AM94>0,AM94<0)),"3",IF(AND(AM94>0,$BB14-$BD14>0),"2",IF(AND(AM94<0,$BB14-$BD14<0),"2","0")))))) -> 0 | AP94: =MID(Лист1!$B$87,11,1) -> 1 | AQ94: =AP94-AR94 -> 0 | AR94: =MID(Лист1!$B$87,12,1) -> 1 | AS94: =IF((LEN($BB14)=0),"0",IF(AND(AP94=$BB14,AR94=$BD14),"5",IF(AND(AQ94=$BB14-$BD14,AQ94=0),"3",IF(AND(AQ94=$BB14-$BD14,OR(AQ94>0,AQ94<0)),"3",IF(AND(AQ94>0,$BB14-$BD14>0),"2",IF(AND(AQ94<0,$BB14-$BD14<0),"2","0")))))) -> 0 | AT94: =MID(Лист1!$B$94,11,1) -> 1 | AU94: =AT94-AV94 -> 0 | AV94: =MID(Лист1!$B$94,12,1) -> 1 | AW94: =IF((LEN($BB14)=0),"0",IF(AND(AT94=$BB14,AV94=$BD14),"5",IF(AND(AU94=$BB14-$BD14,AU94=0),"3",IF(AND(AU94=$BB14-$BD14,OR(AU94>0,AU94<0)),"3",IF(AND(AU94>0,$BB14-$BD14>0),"2",IF(AND(AU94<0,$BB14-$BD14<0),"2","0")))))) -> 0 | AX94: =AX74 -> Боруссия М - Герта | BB94: =BB74 | BC94: =BB94-BD94 -> #VALUE! | BD94: =BD74
B95: =MID(Лист1!$B$82,13,1) -> 2 | C95: =B95-D95 -> 0 | D95: =MID(Лист1!$B$82,14,1) -> 2 | E95: =IF((LEN($BB15)=0),"0",IF(AND(B95=$BB15,D95=$BD15),"5",IF(AND(C95=$BB15-$BD15,C95=0),"3",IF(AND(C95=$BB15-$BD15,OR(C95>0,C95<0)),"3",IF(AND(C95>0,$BB15-$BD15>0),"2",IF(AND(C95<0,$BB15-$BD15<0),"2","0")))))) -> 0 | F95: =MID(Лист1!$B$89,13,1) -> 2 | G95: =F95-H95 -> 0 | H95: =MID(Лист1!$B$89,14,1) -> 2 | I95: =IF((LEN($BB15)=0),"0",IF(AND(F95=$BB15,H95=$BD15),"5",IF(AND(G95=$BB15-$BD15,G95=0),"3",IF(AND(G95=$BB15-$BD15,OR(G95>0,G95<0)),"3",IF(AND(G95>0,$BB15-$BD15>0),"2",IF(AND(G95<0,$BB15-$BD15<0),"2","0")))))) -> 0 | J95: =MID(Лист1!$B$83,13,1) -> 2 | K95: =J95-L95 -> 0 | L95: =MID(Лист1!$B$83,14,1) -> 2 | M95: =IF((LEN($BB15)=0),"0",IF(AND(J95=$BB15,L95=$BD15),"5",IF(AND(K95=$BB15-$BD15,K95=0),"3",IF(AND(K95=$BB15-$BD15,OR(K95>0,K95<0)),"3",IF(AND(K95>0,$BB15-$BD15>0),"2",IF(AND(K95<0,$BB15-$BD15<0),"2","0")))))) -> 0 | N95: =MID(Лист1!$B$90,13,1) -> 2 | O95: =N95-P95 -> 0 | P95: =MID(Лист1!$B$90,14,1) -> 2 | Q95: =IF((LEN($BB15)=0),"0",IF(AND(N95=$BB15,P95=$BD15),"5",IF(AND(O95=$BB15-$BD15,O95=0),"3",IF(AND(O95=$BB15-$BD15,OR(O95>0,O95<0)),"3",IF(AND(O95>0,$BB15-$BD15>0),"2",IF(AND(O95<0,$BB15-$BD15<0),"2","0")))))) -> 0 | R95: =MID(Лист1!$B$84,13,1) -> 2 | S95: =R95-T95 -> 0 | T95: =MID(Лист1!$B$84,14,1) -> 2 | U95: =IF((LEN($BB15)=0),"0",IF(AND(R95=$BB15,T95=$BD15),"5",IF(AND(S95=$BB15-$BD15,S95=0),"3",IF(AND(S95=$BB15-$BD15,OR(S95>0,S95<0)),"3",IF(AND(S95>0,$BB15-$BD15>0),"2",IF(AND(S95<0,$BB15-$BD15<0),"2","0")))))) -> 0 | V95: =MID(Лист1!$B$91,13,1) -> 2 | W95: =V95-X95 -> 0 | X95: =MID(Лист1!$B$91,14,1) -> 2 | Y95: =IF((LEN($BB15)=0),"0",IF(AND(V95=$BB15,X95=$BD15),"5",IF(AND(W95=$BB15-$BD15,W95=0),"3",IF(AND(W95=$BB15-$BD15,OR(W95>0,W95<0)),"3",IF(AND(W95>0,$BB15-$BD15>0),"2",IF(AND(W95<0,$BB15-$BD15<0),"2","0")))))) -> 0 | Z95: =MID(Лист1!$B$85,13,1) -> 2 | AA95: =Z95-AB95 -> 0 | AB95: =MID(Лист1!$B$85,14,1) -> 2 | AC95: =IF((LEN($BB15)=0),"0",IF(AND(Z95=$BB15,AB95=$BD15),"5",IF(AND(AA95=$BB15-$BD15,AA95=0),"3",IF(AND(AA95=$BB15-$BD15,OR(AA95>0,AA95<0)),"3",IF(AND(AA95>0,$BB15-$BD15>0),"2",IF(AND(AA95<0,$BB15-$BD15<0),"2","0")))))) -> 0 | AD95: =MID(Лист1!$B$92,13,1) -> 2 | AE95: =AD95-AF95 -> 0 | AF95: =MID(Лист1!$B$92,14,1) -> 2 | AG95: =IF((LEN($BB15)=0),"0",IF(AND(AD95=$BB15,AF95=$BD15),"5",IF(AND(AE95=$BB15-$BD15,AE95=0),"3",IF(AND(AE95=$BB15-$BD15,OR(AE95>0,AE95<0)),"3",IF(AND(AE95>0,$BB15-$BD15>0),"2",IF(AND(AE95<0,$BB15-$BD15<0),"2","0")))))) -> 0 | AH95: =MID(Лист1!$B$86,13,1) -> 2 | AI95: =AH95-AJ95 -> 0 | AJ95: =MID(Лист1!$B$86,14,1) -> 2 | AK95: =IF((LEN($BB15)=0),"0",IF(AND(AH95=$BB15,AJ95=$BD15),"5",IF(AND(AI95=$BB15-$BD15,AI95=0),"3",IF(AND(AI95=$BB15-$BD15,OR(AI95>0,AI95<0)),"3",IF(AND(AI95>0,$BB15-$BD15>0),"2",IF(AND(AI95<0,$BB15-$BD15<0),"2","0")))))) -> 0 | AL95: =MID(Лист1!$B$93,13,1) -> 2 | AM95: =AL95-AN95 -> 0 | AN95: =MID(Лист1!$B$93,14,1) -> 2 | AO95: =IF((LEN($BB15)=0),"0",IF(AND(AL95=$BB15,AN95=$BD15),"5",IF(AND(AM95=$BB15-$BD15,AM95=0),"3",IF(AND(AM95=$BB15-$BD15,OR(AM95>0,AM95<0)),"3",IF(AND(AM95>0,$BB15-$BD15>0),"2",IF(AND(AM95<0,$BB15-$BD15<0),"2","0")))))) -> 0 | AP95: =MID(Лист1!$B$87,13,1) -> 2 | AQ95: =AP95-AR95 -> 0 | AR95: =MID(Лист1!$B$87,14,1) -> 2 | AS95: =IF((LEN($BB15)=0),"0",IF(AND(AP95=$BB15,AR95=$BD15),"5",IF(AND(AQ95=$BB15-$BD15,AQ95=0),"3",IF(AND(AQ95=$BB15-$BD15,OR(AQ95>0,AQ95<0)),"3",IF(AND(AQ95>0,$BB15-$BD15>0),"2",IF(AND(AQ95<0,$BB15-$BD15<0),"2","0")))))) -> 0 | AT95: =MID(Лист1!$B$94,13,1) -> 2 | AU95: =AT95-AV95 -> 0 | AV95: =MID(Лист1!$B$94,14,1) -> 2 | AW95: =IF((LEN($BB15)=0),"0",IF(AND(AT95=$BB15,AV95=$BD15),"5",IF(AND(AU95=$BB15-$BD15,AU95=0),"3",IF(AND(AU95=$BB15-$BD15,OR(AU95>0,AU95<0)),"3",IF(AND(AU95>0,$BB15-$BD15>0),"2",IF(AND(AU95<0,$BB15-$BD15<0),"2","0")))))) -> 0 | AX95: =AX75 -> Бастия - Марсель | BB95: =BB75 | BC95: =BB95-BD95 -> #VALUE! | BD95: =BD75
B96: =MID(Лист1!$B$82,15,1) -> 1 | C96: =B96-D96 -> 1 | D96: =MID(Лист1!$B$82,16,1) -> 0 | E96: =IF((LEN($BB16)=0),"0",IF(AND(B96=$BB16,D96=$BD16),"5",IF(AND(C96=$BB16-$BD16,C96=0),"3",IF(AND(C96=$BB16-$BD16,OR(C96>0,C96<0)),"3",IF(AND(C96>0,$BB16-$BD16>0),"2",IF(AND(C96<0,$BB16-$BD16<0),"2","0")))))) -> 0 | F96: =MID(Лист1!$B$89,15,1) -> 1 | G96: =F96-H96 -> 1 | H96: =MID(Лист1!$B$89,16,1) -> 0 | I96: =IF((LEN($BB16)=0),"0",IF(AND(F96=$BB16,H96=$BD16),"5",IF(AND(G96=$BB16-$BD16,G96=0),"3",IF(AND(G96=$BB16-$BD16,OR(G96>0,G96<0)),"3",IF(AND(G96>0,$BB16-$BD16>0),"2",IF(AND(G96<0,$BB16-$BD16<0),"2","0")))))) -> 0 | J96: =MID(Лист1!$B$83,15,1) -> 1 | K96: =J96-L96 -> 1 | L96: =MID(Лист1!$B$83,16,1) -> 0 | M96: =IF((LEN($BB16)=0),"0",IF(AND(J96=$BB16,L96=$BD16),"5",IF(AND(K96=$BB16-$BD16,K96=0),"3",IF(AND(K96=$BB16-$BD16,OR(K96>0,K96<0)),"3",IF(AND(K96>0,$BB16-$BD16>0),"2",IF(AND(K96<0,$BB16-$BD16<0),"2","0")))))) -> 0 | N96: =MID(Лист1!$B$90,15,1) -> 1 | O96: =N96-P96 -> 1 | P96: =MID(Лист1!$B$90,16,1) -> 0 | Q96: =IF((LEN($BB16)=0),"0",IF(AND(N96=$BB16,P96=$BD16),"5",IF(AND(O96=$BB16-$BD16,O96=0),"3",IF(AND(O96=$BB16-$BD16,OR(O96>0,O96<0)),"3",IF(AND(O96>0,$BB16-$BD16>0),"2",IF(AND(O96<0,$BB16-$BD16<0),"2","0")))))) -> 0 | R96: =MID(Лист1!$B$84,15,1) -> 1 | S96: =R96-T96 -> 1 | T96: =MID(Лист1!$B$84,16,1) -> 0 | U96: =IF((LEN($BB16)=0),"0",IF(AND(R96=$BB16,T96=$BD16),"5",IF(AND(S96=$BB16-$BD16,S96=0),"3",IF(AND(S96=$BB16-$BD16,OR(S96>0,S96<0)),"3",IF(AND(S96>0,$BB16-$BD16>0),"2",IF(AND(S96<0,$BB16-$BD16<0),"2","0")))))) -> 0 | V96: =MID(Лист1!$B$91,15,1) -> 1 | W96: =V96-X96 -> 1 | X96: =MID(Лист1!$B$91,16,1) -> 0 | Y96: =IF((LEN($BB16)=0),"0",IF(AND(V96=$BB16,X96=$BD16),"5",IF(AND(W96=$BB16-$BD16,W96=0),"3",IF(AND(W96=$BB16-$BD16,OR(W96>0,W96<0)),"3",IF(AND(W96>0,$BB16-$BD16>0),"2",IF(AND(W96<0,$BB16-$BD16<0),"2","0")))))) -> 0 | Z96: =MID(Лист1!$B$85,15,1) -> 1 | AA96: =Z96-AB96 -> 1 | AB96: =MID(Лист1!$B$85,16,1) -> 0 | AC96: =IF((LEN($BB16)=0),"0",IF(AND(Z96=$BB16,AB96=$BD16),"5",IF(AND(AA96=$BB16-$BD16,AA96=0),"3",IF(AND(AA96=$BB16-$BD16,OR(AA96>0,AA96<0)),"3",IF(AND(AA96>0,$BB16-$BD16>0),"2",IF(AND(AA96<0,$BB16-$BD16<0),"2","0")))))) -> 0 | AD96: =MID(Лист1!$B$92,15,1) -> 1 | AE96: =AD96-AF96 -> 1 | AF96: =MID(Лист1!$B$92,16,1) -> 0 | AG96: =IF((LEN($BB16)=0),"0",IF(AND(AD96=$BB16,AF96=$BD16),"5",IF(AND(AE96=$BB16-$BD16,AE96=0),"3",IF(AND(AE96=$BB16-$BD16,OR(AE96>0,AE96<0)),"3",IF(AND(AE96>0,$BB16-$BD16>0),"2",IF(AND(AE96<0,$BB16-$BD16<0),"2","0")))))) -> 0 | AH96: =MID(Лист1!$B$86,15,1) -> 1 | AI96: =AH96-AJ96 -> 1 | AJ96: =MID(Лист1!$B$86,16,1) -> 0 | AK96: =IF((LEN($BB16)=0),"0",IF(AND(AH96=$BB16,AJ96=$BD16),"5",IF(AND(AI96=$BB16-$BD16,AI96=0),"3",IF(AND(AI96=$BB16-$BD16,OR(AI96>0,AI96<0)),"3",IF(AND(AI96>0,$BB16-$BD16>0),"2",IF(AND(AI96<0,$BB16-$BD16<0),"2","0")))))) -> 0 | AL96: =MID(Лист1!$B$93,15,1) -> 1 | AM96: =AL96-AN96 -> 1 | AN96: =MID(Лист1!$B$93,16,1) -> 0 | AO96: =IF((LEN($BB16)=0),"0",IF(AND(AL96=$BB16,AN96=$BD16),"5",IF(AND(AM96=$BB16-$BD16,AM96=0),"3",IF(AND(AM96=$BB16-$BD16,OR(AM96>0,AM96<0)),"3",IF(AND(AM96>0,$BB16-$BD16>0),"2",IF(AND(AM96<0,$BB16-$BD16<0),"2","0")))))) -> 0 | AP96: =MID(Лист1!$B$87,15,1) -> 1 | AQ96: =AP96-AR96 -> 1 | AR96: =MID(Лист1!$B$87,16,1) -> 0 | AS96: =IF((LEN($BB16)=0),"0",IF(AND(AP96=$BB16,AR96=$BD16),"5",IF(AND(AQ96=$BB16-$BD16,AQ96=0),"3",IF(AND(AQ96=$BB16-$BD16,OR(AQ96>0,AQ96<0)),"3",IF(AND(AQ96>0,$BB16-$BD16>0),"2",IF(AND(AQ96<0,$BB16-$BD16<0),"2","0")))))) -> 0 | AT96: =MID(Лист1!$B$94,15,1) -> 1 | AU96: =AT96-AV96 -> 1 | AV96: =MID(Лист1!$B$94,16,1) -> 0 | AW96: =IF((LEN($BB16)=0),"0",IF(AND(AT96=$BB16,AV96=$BD16),"5",IF(AND(AU96=$BB16-$BD16,AU96=0),"3",IF(AND(AU96=$BB16-$BD16,OR(AU96>0,AU96<0)),"3",IF(AND(AU96>0,$BB16-$BD16>0),"2",IF(AND(AU96<0,$BB16-$BD16<0),"2","0")))))) -> 0 | AX96: =AX76 -> Зенит - ЦСКА | BB96: =BB76 | BC96: =BB96-BD96 -> #VALUE! | BD96: =BD76
B97: 1 | C97: =B97-D97 -> -1 | D97: 2 | E97: =IF((LEN(BB97)=0),"0",IF(AND(B97=BB97,D97=BD97),"5",IF(AND(C97=BC97,C97=0),"2",IF(AND(C97=BC97,OR(C97>0,C97<0)),"3",IF(AND(C97>0,BC97>0),"2",IF(AND(C97<0,BC97<0),"2","0")))))) -> 0 | F97: 1 | G97: =F97-H97 -> -1 | H97: 2 | I97: =IF((LEN(BB97)=0),"0",IF(AND(F97=BB97,H97=BD97),"5",IF(AND(G97=BC97,G97=0),"2",IF(AND(G97=BC97,OR(G97>0,G97<0)),"3",IF(AND(G97>0,BC97>0),"2",IF(AND(G97<0,BC97<0),"2","0")))))) -> 0 | J97: 1 | K97: =J97-L97 -> 1 | L97: 0 | M97: =IF((LEN(BB97)=0),"0",IF(AND(J97=BB97,L97=BD97),"5",IF(AND(K97=BC97,K97=0),"2",IF(AND(K97=BC97,OR(K97>0,K97<0)),"3",IF(AND(K97>0,BC97>0),"2",IF(AND(K97<0,BC97<0),"2","0")))))) -> 0 | N97: 2 | O97: =N97-P97 -> 0 | P97: 2 | Q97: =IF((LEN(BB97)=0),"0",IF(AND(N97=BB97,P97=BD97),"5",IF(AND(O97=BC97,O97=0),"2",IF(AND(O97=BC97,OR(O97>0,O97<0)),"3",IF(AND(O97>0,BC97>0),"2",IF(AND(O97<0,BC97<0),"2","0")))))) -> 0 | R97: 0 | S97: =R97-T97 -> -1 | T97: 1 | U97: =IF((LEN(BB97)=0),"0",IF(AND(R97=BB97,T97=BD97),"5",IF(AND(S97=BC97,S97=0),"2",IF(AND(S97=BC97,OR(S97>0,S97<0)),"3",IF(AND(S97>0,BC97>0),"2",IF(AND(S97<0,BC97<0),"2","0")))))) -> 0 | V97: 0 | W97: =V97-X97 -> -1 | X97: 1 | Y97: =IF((LEN(BB97)=0),"0",IF(AND(V97=BB97,X97=BD97),"5",IF(AND(W97=BC97,W97=0),"2",IF(AND(W97=BC97,OR(W97>0,W97<0)),"3",IF(AND(W97>0,BC97>0),"2",IF(AND(W97<0,BC97<0),"2","0")))))) -> 0 | Z97: 0 | AA97: =Z97-AB97 -> -1 | AB97: 1 | AC97: =IF((LEN(BB97)=0),"0",IF(AND(Z97=BB97,AB97=BD97),"5",IF(AND(AA97=BC97,AA97=0),"2",IF(AND(AA97=BC97,OR(AA97>0,AA97<0)),"3",IF(AND(AA97>0,BC97>0),"2",IF(AND(AA97<0,BC97<0),"2","0")))))) -> 0 | AD97: 1 | AE97: =AD97-AF97 -> -1 | AF97: 2 | AG97: =IF((LEN(BB97)=0),"0",IF(AND(AD97=BB97,AF97=BD97),"5",IF(AND(AE97=BC97,AE97=0),"2",IF(AND(AE97=BC97,OR(AE97>0,AE97<0)),"3",IF(AND(AE97>0,BC97>0),"2",IF(AND(AE97<0,BC97<0),"2","0")))))) -> 0 | AH97: 1 | AI97: =AH97-AJ97 -> 0 | AJ97: 1 | AK97: =IF((LEN(BB97)=0),"0",IF(AND(AH97=BB97,AJ97=BD97),"5",IF(AND(AI97=BC97,AI97=0),"2",IF(AND(AI97=BC97,OR(AI97>0,AI97<0)),"3",IF(AND(AI97>0,BC97>0),"2",IF(AND(AI97<0,BC97<0),"2","0")))))) -> 0 | AL97: 0 | AM97: =AL97-AN97 -> 0 | AN97: 0 | AO97: =IF((LEN(BB97)=0),"0",IF(AND(AL97=BB97,AN97=BD97),"5",IF(AND(AM97=BC97,AM97=0),"2",IF(AND(AM97=BC97,OR(AM97>0,AM97<0)),"3",IF(AND(AM97>0,BC97>0),"2",IF(AND(AM97<0,BC97<0),"2","0")))))) -> 0 | AP97: 0 | AQ97: =AP97-AR97 -> 0 | AR97: 0 | AS97: =IF((LEN(BB97)=0),"0",IF(AND(AP97=BB97,AR97=BD97),"5",IF(AND(AQ97=BC97,AQ97=0),"2",IF(AND(AQ97=BC97,OR(AQ97>0,AQ97<0)),"3",IF(AND(AQ97>0,BC97>0),"2",IF(AND(AQ97<0,BC97<0),"2","0")))))) -> 0 | AT97: 2 | AU97: =AT97-AV97 -> 1 | AV97: 1 | AW97: =IF((LEN(BB97)=0),"0",IF(AND(AT97=BB97,AV97=BD97),"5",IF(AND(AU97=BC97,AU97=0),"2",IF(AND(AU97=BC97,OR(AU97>0,AU97<0)),"3",IF(AND(AU97>0,BC97>0),"2",IF(AND(AU97<0,BC97<0),"2","0")))))) -> 0 | BC97: =BB97-BD97 -> 0
B98: 1 | C98: =B98-D98 -> 1 | D98: 0 | E98: =IF((LEN(BB98)=0),"0",IF(AND(B98=BB98,D98=BD98),"5",IF(AND(C98=BC98,C98=0),"2",IF(AND(C98=BC98,OR(C98>0,C98<0)),"3",IF(AND(C98>0,BC98>0),"2",IF(AND(C98<0,BC98<0),"2","0")))))) -> 0 | F98: 1 | G98: =F98-H98 -> -1 | H98: 2 | I98: =IF((LEN(BB98)=0),"0",IF(AND(F98=BB98,H98=BD98),"5",IF(AND(G98=BC98,G98=0),"2",IF(AND(G98=BC98,OR(G98>0,G98<0)),"3",IF(AND(G98>0,BC98>0),"2",IF(AND(G98<0,BC98<0),"2","0")))))) -> 0 | J98: 1 | K98: =J98-L98 -> -1 | L98: 2 | M98: =IF((LEN(BB98)=0),"0",IF(AND(J98=BB98,L98=BD98),"5",IF(AND(K98=BC98,K98=0),"2",IF(AND(K98=BC98,OR(K98>0,K98<0)),"3",IF(AND(K98>0,BC98>0),"2",IF(AND(K98<0,BC98<0),"2","0")))))) -> 0 | N98: 1 | O98: =N98-P98 -> -1 | P98: 2 | Q98: =IF((LEN(BB98)=0),"0",IF(AND(N98=BB98,P98=BD98),"5",IF(AND(O98=BC98,O98=0),"2",IF(AND(O98=BC98,OR(O98>0,O98<0)),"3",IF(AND(O98>0,BC98>0),"2",IF(AND(O98<0,BC98<0),"2","0")))))) -> 0 | R98: 0 | S98: =R98-T98 -> -2 | T98: 2 | U98: =IF((LEN(BB98)=0),"0",IF(AND(R98=BB98,T98=BD98),"5",IF(AND(S98=BC98,S98=0),"2",IF(AND(S98=BC98,OR(S98>0,S98<0)),"3",IF(AND(S98>0,BC98>0),"2",IF(AND(S98<0,BC98<0),"2","0")))))) -> 0 | V98: 1 | W98: =V98-X98 -> -1 | X98: 2 | Y98: =IF((LEN(BB98)=0),"0",IF(AND(V98=BB98,X98=BD98),"5",IF(AND(W98=BC98,W98=0),"2",IF(AND(W98=BC98,OR(W98>0,W98<0)),"3",IF(AND(W98>0,BC98>0),"2",IF(AND(W98<0,BC98<0),"2","0")))))) -> 0 | Z98: 0 | AA98: =Z98-AB98 -> -2 | AB98: 2 | AC98: =IF((LEN(BB98)=0),"0",IF(AND(Z98=BB98,AB98=BD98),"5",IF(AND(AA98=BC98,AA98=0),"2",IF(AND(AA98=BC98,OR(AA98>0,AA98<0)),"3",IF(AND(AA98>0,BC98>0),"2",IF(AND(AA98<0,BC98<0),"2","0")))))) -> 0 | AD98: 1 | AE98: =AD98-AF98 -> -1 | AF98: 2 | AG98: =IF((LEN(BB98)=0),"0",IF(AND(AD98=BB98,AF98=BD98),"5",IF(AND(AE98=BC98,AE98=0),"2",IF(AND(AE98=BC98,OR(AE98>0,AE98<0)),"3",IF(AND(AE98>0,BC98>0),"2",IF(AND(AE98<0,BC98<0),"2","0")))))) -> 0 | AH98: 2 | AI98: =AH98-AJ98 -> 1 | AJ98: 1 | AK98: =IF((LEN(BB98)=0),"0",IF(AND(AH98=BB98,AJ98=BD98),"5",IF(AND(AI98=BC98,AI98=0),"2",IF(AND(AI98=BC98,OR(AI98>0,AI98<0)),"3",IF(AND(AI98>0,BC98>0),"2",IF(AND(AI98<0,BC98<0),"2","0")))))) -> 0 | AL98: 0 | AM98: =AL98-AN98 -> -1 | AN98: 1 | AO98: =IF((LEN(BB98)=0),"0",IF(AND(AL98=BB98,AN98=BD98),"5",IF(AND(AM98=BC98,AM98=0),"2",IF(AND(AM98=BC98,OR(AM98>0,AM98<0)),"3",IF(AND(AM98>0,BC98>0),"2",IF(AND(AM98<0,BC98<0),"2","0")))))) -> 0 | AP98: 1 | AQ98: =AP98-AR98 -> 0 | AR98: 1 | AS98: =IF((LEN(BB98)=0),"0",IF(AND(AP98=BB98,AR98=BD98),"5",IF(AND(AQ98=BC98,AQ98=0),"2",IF(AND(AQ98=BC98,OR(AQ98>0,AQ98<0)),"3",IF(AND(AQ98>0,BC98>0),"2",IF(AND(AQ98<0,BC98<0),"2","0")))))) -> 0 | AT98: 2 | AU98: =AT98-AV98 -> 2 | AV98: 0 | AW98: =IF((LEN(BB98)=0),"0",IF(AND(AT98=BB98,AV98=BD98),"5",IF(AND(AU98=BC98,AU98=0),"2",IF(AND(AU98=BC98,OR(AU98>0,AU98<0)),"3",IF(AND(AU98>0,BC98>0),"2",IF(AND(AU98<0,BC98<0),"2","0")))))) -> 0 | BC98: =BB98-BD98 -> 0
B99: =E89+E90+E91+E92+E93+E94+E95+E96+E97+E98 -> 0 | F99: =I89+I90+I91+I92+I93+I94+I95+I96+I97+I98 -> 0 | J99: =M89+M90+M91+M92+M93+M94+M95+M96+M97+M98 -> 0 | N99: =Q89+Q90+Q91+Q92+Q93+Q94+Q95+Q96+Q97+Q98 -> 0 | R99: =U89+U90+U91+U92+U93+U94+U95+U96+U97+U98 -> 0 | V99: =Y89+Y90+Y91+Y92+Y93+Y94+Y95+Y96+Y97+Y98 -> 0 | Z99: =AC89+AC90+AC91+AC92+AC93+AC94+AC95+AC96+AC97+AC98 -> 0 | AD99: =AG89+AG90+AG91+AG92+AG93+AG94+AG95+AG96+AG97+AG98 -> 0 | AH99: =AK89+AK90+AK91+AK92+AK93+AK94+AK95+AK96+AK97+AK98 -> 0 | AL99: =AO89+AO90+AO91+AO92+AO93+AO94+AO95+AO96+AO97+AO98 -> 0 | AP99: =AS89+AS90+AS91+AS92+AS93+AS94+AS95+AS96+AS97+AS98 -> 0 | AT99: =AW89+AW90+AW91+AW92+AW93+AW94+AW95+AW96+AW97+AW98 -> 0
B100: =IF(B99>F99,"1",IF(B99=F99,"0", IF(B99<F99,"0"))) -> 0 | F100: =IF(F99>B99,"1",IF(F99=B99,"0", IF(F99<B99,"0"))) -> 0 | J100: =IF(J99>N99,"1",IF(J99=N99,"0", IF(J99<N99,"0"))) -> 0 | N100: =IF(N99>J99,"1",IF(N99=J99,"0", IF(N99<J99,"0"))) -> 0 | R100: =IF(R99>V99,"1",IF(R99=V99,"0", IF(R99<V99,"0"))) -> 0 | V100: =IF(V99>R99,"1",IF(V99=R99,"0", IF(V99<R99,"0"))) -> 0 | Z100: =IF(Z99>AD99,"1",IF(Z99=AD99,"0", IF(Z99<AD99,"0"))) -> 0 | AD100: =IF(AD99>Z99,"1",IF(AD99=Z99,"0", IF(AD99<Z99,"0"))) -> 0 | AH100: =IF(AH99>AL99,"1",IF(AH99=AL99,"0", IF(AH99<AL99,"0"))) -> 0 | AL100: =IF(AL99>AH99,"1",IF(AL99=AH99,"0", IF(AL99<AH99,"0"))) -> 0 | AP100: =IF(AP99>AT99,"1",IF(AP99=AT99,"0", IF(AP99<AT99,"0"))) -> 0 | AT100: =IF(AT99>AP99,"1",IF(AT99=AP99,"0", IF(AT99<AP99,"0"))) -> 0
B104: =Лист1!A101 -> Команда 11 | H104: =B120+J120+R120+Z120+AH120+AP120 -> 0
B105: =Лист1!A108 -> Команда 12 | H105: =F120+N120+V120+AD120+AL120+AT120 -> 0
B107: =Лист1!A102 -> Игрок 19 | F107: =Лист1!A109 -> Игрок 19 | J107: =Лист1!A103 -> Игрок 20 | N107: =Лист1!A110 -> Игрок 20 | R107: =Лист1!A104 -> Игрок 21 | V107: =Лист1!A111 -> Игрок 21 | Z107: =Лист1!A105 -> Игрок 22 | AD107: =Лист1!A112 -> Игрок 22 | AH107: =Лист1!A106 -> Игрок 23 | AL107: =Лист1!A113 -> Игрок 23 | AP107: =Лист1!A107 -> Игрок 24 | AT107: =Лист1!A114 -> Игрок 24 | BB107: Итог
B108: прогноз | E108: очки | F108: прогноз | I108: очки | J108: прогноз | M108: очки | N108: прогноз | Q108: очки | R108: прогноз | U108: очки | V108: прогноз | Y108: очки | Z108: прогноз | AC108: очки | AD108: прогноз | AG108: очки | AH108: прогноз | AK108: очки | AL108: прогноз | AO108: очки | AP108: прогноз | AS108: очки | AT108: прогноз | AW108: очки
